{"text_format":"3","workbook":"xlsx","n_sheets":2,"sheets":["Sheet1","奖补企业清单"],"not_rendered":{"external_links":1,"defined_names":3},"read":"whole","date_system":"1900"}

{"sheet":"Sheet1","index":0,"n_rows":138,"n_cols":27,"rows_kept":138,"hidden":true,"merged":[[0,0,0,25],[1,0,2,0],[1,1,2,1],[1,2,2,2],[1,6,1,8],[1,9,2,9],[1,10,2,10],[1,11,2,11],[1,12,2,12],[1,13,2,13],[1,14,2,14],[1,15,2,15],[1,16,2,16],[1,17,2,17],[1,18,2,18],[1,19,2,19],[1,20,2,20],[1,21,2,21],[1,22,2,22],[1,23,2,23],[1,24,2,24],[1,25,2,25]]}
["2021年苏州工业园区产业转型升级（技术改造）专项资金项目综合评分表"]
["序号","企业名称","统一社会信用代码/组织机构代码","经济效益得分","智能化效益得分","综合素质认定","扣分项",null,null,"企业综合评价得分","分类","投入总金额","园区设备金额","园区采购比例超70%","理论奖补金额","【扣减项】省技改综合奖补","【扣减项】省转型升级技改奖补","【扣减项】节能改造奖补","【扣减项】人工智能奖补","【扣减项】科创委产业化落地固定资产兑现","【扣减项】投促委核心产业政策奖补","扣减后奖补金额","扣减后奖补金额","最终奖补比例","项目纳统比对","备注","扣减后奖补金额"]
[{"$nulls":3},{"v":0.7,"d":"70%"},{"v":0.2,"d":"20%"},{"v":0.1,"d":"10%"},"项目投资情况未列入统计部门统计，或者统计部门显示企业年度的固定资产投资金额不足500万元（不含软件）","专家现场核验与评估时，发现技改投入资金与项目申报书描述存在较大不符","申报中所涉及的固定资产（含软、硬件设备）原则上在企业内使用不少于三年，如核查时企业无正当理由，设备不在现场的"]
[1,{"$f":"[1]苏州工业园区工业企业技术改造经济效益表!B4","v":"SEW-传动设备(苏州)有限公司"},{"$f":"[1]苏州工业园区工业企业技术改造经济效益表!C4","v":"91320594730135548U"},{"$f":"[1]经济效益!N4","v":{"v":23.699003537862,"d":"23.70"}},{"$f":"[1]智能化效益!R4","v":{"v":80.2835,"d":"80.28"}},{"$f":"IF([1]综合素质认定!O4>10,10,[1]综合素质认定!O4)","v":1},0,0,0,{"$f":"D4*$D$3+E4*$E$3+F4-G4-H4-I4","v":{"v":33.6460024765034,"d":"33.65"}},{"$f":"IF(J4<[1]奖补比例!$D$2,\"D\",IF(J4<[1]奖补比例!$C$2,\"C\",IF(J4<[1]奖补比例!$B$2,\"B\",\"A\")))","v":"D"},{"$f":"[1]苏州工业园区工业企业技术改造经济效益表!AJ4","v":{"v":1e-6,"d":"0"}},{"$f":"[1]苏州工业园区工业企业技术改造经济效益表!AM4","v":0},{"$f":"IF([1]苏州工业园区工业企业技术改造经济效益表!AN4>=0.7,[1]苏州工业园区工业企业技术改造经济效益表!AM4,0)","v":0},{"$f":"IF(IF(K4=\"A\",[1]苏州工业园区工业企业技术改造经济效益表!AJ4*[1]奖补比例!$B$3+N4*[1]奖补比例!$B$5,IF(K4=\"B\",[1]苏州工业园区工业企业技术改造经济效益表!AJ4*[1]奖补比例!$C$3+N4*[1]奖补比例!$C$5,IF(K4=\"C\",[1]苏州工业园区工业企业技术改造经济效益表!AJ4*[1]奖补比例!$D$3+N4*[1]奖补比例!$D$5,[1]苏州工业园区工业企业技术改造经济效益表!AJ4*[1]奖补比例!$E$3+N4*[1]奖补比例!$E$5)))*[1]奖补比例!$G$2>1000,1000,IF(K4=\"A\",[1]苏州工业园区工业企业技术改造经济效益表!AJ4*[1]奖补比例!$B$3+N4*[1]奖补比例!$B$5,IF(K4=\"B\",[1]苏州工业园区工业企业技术改造经济效益表!AJ4*[1]奖补比例!$C$3+N4*[1]奖补比例!$C$5,IF(K4=\"C\",[1]苏州工业园区工业企业技术改造经济效益表!AJ4*[1]奖补比例!$D$3+N4*[1]奖补比例!$D$5,[1]苏州工业园区工业企业技术改造经济效益表!AJ4*[1]奖补比例!$E$3+N4*[1]奖补比例!$E$5)))*[1]奖补比例!$G$2)","v":{"v":2.388654e-8,"d":"0"}},0,0,0,{"$f":"[1]【扣减】人工智能奖补!F3","v":0},0,{"$f":"[1]【扣减】投促委!F3","v":0},0,{"$f":"ROUND(V4,2)","v":{"v":0,"d":"0.00"}},{"v":0,"d":"0.00%"},{"$f":"IF([1]项目纳统比对表!D4=\"否\",\"未纳统\",IF([1]项目纳统比对表!F4=\"否\",\"不足500万元\",\"\"))","v":""},"未通过",{"v":0,"d":"0.00"}]
[2,{"$f":"[1]苏州工业园区工业企业技术改造经济效益表!B5","v":"SEW-电机(苏州)有限公司"},{"$f":"[1]苏州工业园区工业企业技术改造经济效益表!C5","v":"91320594759661656F"},{"$f":"[1]经济效益!N5","v":{"v":68.6556842457016,"d":"68.66"}},{"$f":"[1]智能化效益!R5","v":{"v":81.5512,"d":"81.55"}},{"$f":"IF([1]综合素质认定!O5>10,10,[1]综合素质认定!O5)","v":0},0,0,0,{"v":64.3692189719911,"d":"64.37"},{"$f":"IF(J5<[1]奖补比例!$D$2,\"D\",IF(J5<[1]奖补比例!$C$2,\"C\",IF(J5<[1]奖补比例!$B$2,\"B\",\"A\")))","v":"B"},{"$f":"[1]苏州工业园区工业企业技术改造经济效益表!AJ5","v":7597.02},{"$f":"[1]苏州工业园区工业企业技术改造经济效益表!AM5","v":188.51},{"$f":"IF([1]苏州工业园区工业企业技术改造经济效益表!AN5>=0.7,[1]苏州工业园区工业企业技术改造经济效益表!AM5,0)","v":0},{"$f":"IF(IF(K5=\"A\",[1]苏州工业园区工业企业技术改造经济效益表!AJ5*[1]奖补比例!$B$3+N5*[1]奖补比例!$B$5,IF(K5=\"B\",[1]苏州工业园区工业企业技术改造经济效益表!AJ5*[1]奖补比例!$C$3+N5*[1]奖补比例!$C$5,IF(K5=\"C\",[1]苏州工业园区工业企业技术改造经济效益表!AJ5*[1]奖补比例!$D$3+N5*[1]奖补比例!$D$5,[1]苏州工业园区工业企业技术改造经济效益表!AJ5*[1]奖补比例!$E$3+N5*[1]奖补比例!$E$5)))*[1]奖补比例!$G$2>1000,1000,IF(K5=\"A\",[1]苏州工业园区工业企业技术改造经济效益表!AJ5*[1]奖补比例!$B$3+N5*[1]奖补比例!$B$5,IF(K5=\"B\",[1]苏州工业园区工业企业技术改造经济效益表!AJ5*[1]奖补比例!$C$3+N5*[1]奖补比例!$C$5,IF(K5=\"C\",[1]苏州工业园区工业企业技术改造经济效益表!AJ5*[1]奖补比例!$D$3+N5*[1]奖补比例!$D$5,[1]苏州工业园区工业企业技术改造经济效益表!AJ5*[1]奖补比例!$E$3+N5*[1]奖补比例!$E$5)))*[1]奖补比例!$G$2)","v":{"v":483.9107256288,"d":"483.91"}},{"$f":"VLOOKUP(B5,[1]【扣减】省技改综合奖补!$C$2:$E$59,3,0)/10000","v":34},0,0,{"$f":"[1]【扣减】人工智能奖补!F4","v":0},0,{"$f":"[1]【扣减】投促委!F4","v":1500},0,{"v":0,"d":"0.00"},{"$f":"O5/L5","v":{"v":0.06369744,"d":"6.37%"}},{"$f":"IF([1]项目纳统比对表!D5=\"否\",\"未纳统\",IF([1]项目纳统比对表!F5=\"否\",\"不足500万元\",\"\"))","v":"未纳统"},null,{"v":0,"d":"0.00"}]
[3,{"$f":"[1]苏州工业园区工业企业技术改造经济效益表!B6","v":"艾利（苏州）有限公司"},{"$f":"[1]苏州工业园区工业企业技术改造经济效益表!C6","v":"91320594769869813E"},{"$f":"[1]经济效益!N6","v":{"v":56.6126666726958,"d":"56.61"}},{"$f":"[1]智能化效益!R6","v":91.94},{"$f":"IF([1]综合素质认定!O6>10,10,[1]综合素质认定!O6)","v":0},0,0,0,{"v":58.0168666708871,"d":"58.02"},{"$f":"IF(J6<[1]奖补比例!$D$2,\"D\",IF(J6<[1]奖补比例!$C$2,\"C\",IF(J6<[1]奖补比例!$B$2,\"B\",\"A\")))","v":"C"},{"$f":"[1]苏州工业园区工业企业技术改造经济效益表!AJ6","v":704.87},{"$f":"[1]苏州工业园区工业企业技术改造经济效益表!AM6","v":0},{"$f":"IF([1]苏州工业园区工业企业技术改造经济效益表!AN6>=0.7,[1]苏州工业园区工业企业技术改造经济效益表!AM6,0)","v":0},{"$f":"IF(IF(K6=\"A\",[1]苏州工业园区工业企业技术改造经济效益表!AJ6*[1]奖补比例!$B$3+N6*[1]奖补比例!$B$5,IF(K6=\"B\",[1]苏州工业园区工业企业技术改造经济效益表!AJ6*[1]奖补比例!$C$3+N6*[1]奖补比例!$C$5,IF(K6=\"C\",[1]苏州工业园区工业企业技术改造经济效益表!AJ6*[1]奖补比例!$D$3+N6*[1]奖补比例!$D$5,[1]苏州工业园区工业企业技术改造经济效益表!AJ6*[1]奖补比例!$E$3+N6*[1]奖补比例!$E$5)))*[1]奖补比例!$G$2>1000,1000,IF(K6=\"A\",[1]苏州工业园区工业企业技术改造经济效益表!AJ6*[1]奖补比例!$B$3+N6*[1]奖补比例!$B$5,IF(K6=\"B\",[1]苏州工业园区工业企业技术改造经济效益表!AJ6*[1]奖补比例!$C$3+N6*[1]奖补比例!$C$5,IF(K6=\"C\",[1]苏州工业园区工业企业技术改造经济效益表!AJ6*[1]奖补比例!$D$3+N6*[1]奖补比例!$D$5,[1]苏州工业园区工业企业技术改造经济效益表!AJ6*[1]奖补比例!$E$3+N6*[1]奖补比例!$E$5)))*[1]奖补比例!$G$2)","v":{"v":28.061509083,"d":"28.06"}},0,0,0,{"$f":"[1]【扣减】人工智能奖补!F5","v":0},0,{"$f":"[1]【扣减】投促委!F5","v":0},{"v":28.061509083,"d":"28.06"},28.06,{"v":0.0398109,"d":"3.98%"},{"$f":"IF([1]项目纳统比对表!D6=\"否\",\"未纳统\",IF([1]项目纳统比对表!F6=\"否\",\"不足500万元\",\"\"))","v":"未纳统"},null,28.06]
[4,{"$f":"[1]苏州工业园区工业企业技术改造经济效益表!B7","v":"艾默生环境优化技术（苏州）有限公司"},{"$f":"[1]苏州工业园区工业企业技术改造经济效益表!C7","v":"9132059460820727XQ"},{"$f":"[1]经济效益!N7","v":{"v":53.1028856914368,"d":"53.10"}},{"$f":"[1]智能化效益!R7","v":{"v":89.6,"d":"89.60"}},{"$f":"IF([1]综合素质认定!O7>10,10,[1]综合素质认定!O7)","v":1},0,0,0,{"v":56.0920199840058,"d":"56.09"},{"$f":"IF(J7<[1]奖补比例!$D$2,\"D\",IF(J7<[1]奖补比例!$C$2,\"C\",IF(J7<[1]奖补比例!$B$2,\"B\",\"A\")))","v":"C"},{"$f":"[1]苏州工业园区工业企业技术改造经济效益表!AJ7","v":3708.31},{"$f":"[1]苏州工业园区工业企业技术改造经济效益表!AM7","v":358.66},{"$f":"IF([1]苏州工业园区工业企业技术改造经济效益表!AN7>=0.7,[1]苏州工业园区工业企业技术改造经济效益表!AM7,0)","v":0},{"$f":"IF(IF(K7=\"A\",[1]苏州工业园区工业企业技术改造经济效益表!AJ7*[1]奖补比例!$B$3+N7*[1]奖补比例!$B$5,IF(K7=\"B\",[1]苏州工业园区工业企业技术改造经济效益表!AJ7*[1]奖补比例!$C$3+N7*[1]奖补比例!$C$5,IF(K7=\"C\",[1]苏州工业园区工业企业技术改造经济效益表!AJ7*[1]奖补比例!$D$3+N7*[1]奖补比例!$D$5,[1]苏州工业园区工业企业技术改造经济效益表!AJ7*[1]奖补比例!$E$3+N7*[1]奖补比例!$E$5)))*[1]奖补比例!$G$2>1000,1000,IF(K7=\"A\",[1]苏州工业园区工业企业技术改造经济效益表!AJ7*[1]奖补比例!$B$3+N7*[1]奖补比例!$B$5,IF(K7=\"B\",[1]苏州工业园区工业企业技术改造经济效益表!AJ7*[1]奖补比例!$C$3+N7*[1]奖补比例!$C$5,IF(K7=\"C\",[1]苏州工业园区工业企业技术改造经济效益表!AJ7*[1]奖补比例!$D$3+N7*[1]奖补比例!$D$5,[1]苏州工业园区工业企业技术改造经济效益表!AJ7*[1]奖补比例!$E$3+N7*[1]奖补比例!$E$5)))*[1]奖补比例!$G$2)","v":{"v":147.631158579,"d":"147.63"}},{"$f":"VLOOKUP(B7,[1]【扣减】省技改综合奖补!$C$2:$E$59,3,0)/10000","v":38},0,0,{"$f":"[1]【扣减】人工智能奖补!F6","v":0},0,{"$f":"[1]【扣减】投促委!F6","v":0},{"v":109.631158579,"d":"109.63"},109.63,{"v":0.0398109,"d":"3.98%"},{"$f":"IF([1]项目纳统比对表!D7=\"否\",\"未纳统\",IF([1]项目纳统比对表!F7=\"否\",\"不足500万元\",\"\"))","v":""},null,109.63]
[5,{"$f":"[1]苏州工业园区工业企业技术改造经济效益表!B8","v":"爱发科电子材料（苏州）有限公司"},{"$f":"[1]苏州工业园区工业企业技术改造经济效益表!C8","v":"91320594687174022W"},{"$f":"[1]经济效益!N8","v":{"v":58.13700081863,"d":"58.14"}},{"$f":"[1]智能化效益!R8","v":{"v":80.0368,"d":"80.04"}},{"$f":"IF([1]综合素质认定!O8>10,10,[1]综合素质认定!O8)","v":1},0,0,0,{"v":57.703260573041,"d":"57.70"},{"$f":"IF(J8<[1]奖补比例!$D$2,\"D\",IF(J8<[1]奖补比例!$C$2,\"C\",IF(J8<[1]奖补比例!$B$2,\"B\",\"A\")))","v":"C"},{"$f":"[1]苏州工业园区工业企业技术改造经济效益表!AJ8","v":745.45},{"$f":"[1]苏州工业园区工业企业技术改造经济效益表!AM8","v":14.35},{"$f":"IF([1]苏州工业园区工业企业技术改造经济效益表!AN8>=0.7,[1]苏州工业园区工业企业技术改造经济效益表!AM8,0)","v":0},{"$f":"IF(IF(K8=\"A\",[1]苏州工业园区工业企业技术改造经济效益表!AJ8*[1]奖补比例!$B$3+N8*[1]奖补比例!$B$5,IF(K8=\"B\",[1]苏州工业园区工业企业技术改造经济效益表!AJ8*[1]奖补比例!$C$3+N8*[1]奖补比例!$C$5,IF(K8=\"C\",[1]苏州工业园区工业企业技术改造经济效益表!AJ8*[1]奖补比例!$D$3+N8*[1]奖补比例!$D$5,[1]苏州工业园区工业企业技术改造经济效益表!AJ8*[1]奖补比例!$E$3+N8*[1]奖补比例!$E$5)))*[1]奖补比例!$G$2>1000,1000,IF(K8=\"A\",[1]苏州工业园区工业企业技术改造经济效益表!AJ8*[1]奖补比例!$B$3+N8*[1]奖补比例!$B$5,IF(K8=\"B\",[1]苏州工业园区工业企业技术改造经济效益表!AJ8*[1]奖补比例!$C$3+N8*[1]奖补比例!$C$5,IF(K8=\"C\",[1]苏州工业园区工业企业技术改造经济效益表!AJ8*[1]奖补比例!$D$3+N8*[1]奖补比例!$D$5,[1]苏州工业园区工业企业技术改造经济效益表!AJ8*[1]奖补比例!$E$3+N8*[1]奖补比例!$E$5)))*[1]奖补比例!$G$2)","v":{"v":29.677035405,"d":"29.68"}},0,0,0,{"$f":"[1]【扣减】人工智能奖补!F7","v":0},0,{"$f":"[1]【扣减】投促委!F7","v":0},{"v":29.677035405,"d":"29.68"},29.68,{"v":0.0398109,"d":"3.98%"},{"$f":"IF([1]项目纳统比对表!D8=\"否\",\"未纳统\",IF([1]项目纳统比对表!F8=\"否\",\"不足500万元\",\"\"))","v":""},null,29.68]
[6,{"$f":"[1]苏州工业园区工业企业技术改造经济效益表!B9","v":"安波福电子（苏州）有限公司"},{"$f":"[1]苏州工业园区工业企业技术改造经济效益表!C9","v":"9132059475393991XQ"},{"$f":"[1]经济效益!N9","v":{"v":61.1456950386546,"d":"61.15"}},{"$f":"[1]智能化效益!R9","v":{"v":94.7865,"d":"94.79"}},{"$f":"IF([1]综合素质认定!O9>10,10,[1]综合素质认定!O9)","v":3},0,0,0,{"v":64.7592865270582,"d":"64.76"},{"$f":"IF(J9<[1]奖补比例!$D$2,\"D\",IF(J9<[1]奖补比例!$C$2,\"C\",IF(J9<[1]奖补比例!$B$2,\"B\",\"A\")))","v":"B"},{"$f":"[1]苏州工业园区工业企业技术改造经济效益表!AJ9","v":7028.94},{"$f":"[1]苏州工业园区工业企业技术改造经济效益表!AM9","v":2305.16},{"$f":"IF([1]苏州工业园区工业企业技术改造经济效益表!AN9>=0.7,[1]苏州工业园区工业企业技术改造经济效益表!AM9,0)","v":0},{"$f":"IF(IF(K9=\"A\",[1]苏州工业园区工业企业技术改造经济效益表!AJ9*[1]奖补比例!$B$3+N9*[1]奖补比例!$B$5,IF(K9=\"B\",[1]苏州工业园区工业企业技术改造经济效益表!AJ9*[1]奖补比例!$C$3+N9*[1]奖补比例!$C$5,IF(K9=\"C\",[1]苏州工业园区工业企业技术改造经济效益表!AJ9*[1]奖补比例!$D$3+N9*[1]奖补比例!$D$5,[1]苏州工业园区工业企业技术改造经济效益表!AJ9*[1]奖补比例!$E$3+N9*[1]奖补比例!$E$5)))*[1]奖补比例!$G$2>1000,1000,IF(K9=\"A\",[1]苏州工业园区工业企业技术改造经济效益表!AJ9*[1]奖补比例!$B$3+N9*[1]奖补比例!$B$5,IF(K9=\"B\",[1]苏州工业园区工业企业技术改造经济效益表!AJ9*[1]奖补比例!$C$3+N9*[1]奖补比例!$C$5,IF(K9=\"C\",[1]苏州工业园区工业企业技术改造经济效益表!AJ9*[1]奖补比例!$D$3+N9*[1]奖补比例!$D$5,[1]苏州工业园区工业企业技术改造经济效益表!AJ9*[1]奖补比例!$E$3+N9*[1]奖补比例!$E$5)))*[1]奖补比例!$G$2)","v":{"v":447.7254839136,"d":"447.73"}},{"$f":"VLOOKUP(B9,[1]【扣减】省技改综合奖补!$C$2:$E$59,3,0)/10000","v":37},0,0,{"$f":"[1]【扣减】人工智能奖补!F8","v":0},0,{"$f":"[1]【扣减】投促委!F8","v":400},{"v":10.7254839136,"d":"10.73"},10.73,{"v":0.06369744,"d":"6.37%"},{"$f":"IF([1]项目纳统比对表!D9=\"否\",\"未纳统\",IF([1]项目纳统比对表!F9=\"否\",\"不足500万元\",\"\"))","v":""},null,10.73]
[7,{"$f":"[1]苏州工业园区工业企业技术改造经济效益表!B10","v":"安拓锐高新测试技术（苏州）有限公司"},{"$f":"[1]苏州工业园区工业企业技术改造经济效益表!C10","v":"913205947923058131"},{"$f":"[1]经济效益!N10","v":{"v":83.932420576572,"d":"83.93"}},{"$f":"[1]智能化效益!R10","v":{"v":88.335,"d":"88.34"}},{"$f":"IF([1]综合素质认定!O10>10,10,[1]综合素质认定!O10)","v":1},0,0,0,{"v":77.4196944036004,"d":"77.42"},{"$f":"IF(J10<[1]奖补比例!$D$2,\"D\",IF(J10<[1]奖补比例!$C$2,\"C\",IF(J10<[1]奖补比例!$B$2,\"B\",\"A\")))","v":"B"},{"$f":"[1]苏州工业园区工业企业技术改造经济效益表!AJ10","v":963.52},{"$f":"[1]苏州工业园区工业企业技术改造经济效益表!AM10","v":0},{"$f":"IF([1]苏州工业园区工业企业技术改造经济效益表!AN10>=0.7,[1]苏州工业园区工业企业技术改造经济效益表!AM10,0)","v":0},{"$f":"IF(IF(K10=\"A\",[1]苏州工业园区工业企业技术改造经济效益表!AJ10*[1]奖补比例!$B$3+N10*[1]奖补比例!$B$5,IF(K10=\"B\",[1]苏州工业园区工业企业技术改造经济效益表!AJ10*[1]奖补比例!$C$3+N10*[1]奖补比例!$C$5,IF(K10=\"C\",[1]苏州工业园区工业企业技术改造经济效益表!AJ10*[1]奖补比例!$D$3+N10*[1]奖补比例!$D$5,[1]苏州工业园区工业企业技术改造经济效益表!AJ10*[1]奖补比例!$E$3+N10*[1]奖补比例!$E$5)))*[1]奖补比例!$G$2>1000,1000,IF(K10=\"A\",[1]苏州工业园区工业企业技术改造经济效益表!AJ10*[1]奖补比例!$B$3+N10*[1]奖补比例!$B$5,IF(K10=\"B\",[1]苏州工业园区工业企业技术改造经济效益表!AJ10*[1]奖补比例!$C$3+N10*[1]奖补比例!$C$5,IF(K10=\"C\",[1]苏州工业园区工业企业技术改造经济效益表!AJ10*[1]奖补比例!$D$3+N10*[1]奖补比例!$D$5,[1]苏州工业园区工业企业技术改造经济效益表!AJ10*[1]奖补比例!$E$3+N10*[1]奖补比例!$E$5)))*[1]奖补比例!$G$2)","v":{"v":61.3737573888,"d":"61.37"}},0,0,0,{"$f":"[1]【扣减】人工智能奖补!F9","v":0},0,{"$f":"[1]【扣减】投促委!F9","v":0},{"v":61.3737573888,"d":"61.37"},61.37,{"v":0.06369744,"d":"6.37%"},{"$f":"IF([1]项目纳统比对表!D10=\"否\",\"未纳统\",IF([1]项目纳统比对表!F10=\"否\",\"不足500万元\",\"\"))","v":""},null,61.37]
[8,{"$f":"[1]苏州工业园区工业企业技术改造经济效益表!B11","v":"安特（苏州）精密机械有限公司"},{"$f":"[1]苏州工业园区工业企业技术改造经济效益表!C11","v":"91320594608236716P"},{"$f":"[1]经济效益!N11","v":{"v":87.4053253454291,"d":"87.41"}},{"$f":"[1]智能化效益!R11","v":{"v":87.1729,"d":"87.17"}},{"$f":"IF([1]综合素质认定!O11>10,10,[1]综合素质认定!O11)","v":0},0,0,0,{"v":78.6183077418004,"d":"78.62"},{"$f":"IF(J11<[1]奖补比例!$D$2,\"D\",IF(J11<[1]奖补比例!$C$2,\"C\",IF(J11<[1]奖补比例!$B$2,\"B\",\"A\")))","v":"B"},{"$f":"[1]苏州工业园区工业企业技术改造经济效益表!AJ11","v":1069.47},{"$f":"[1]苏州工业园区工业企业技术改造经济效益表!AM11","v":356.58},{"$f":"IF([1]苏州工业园区工业企业技术改造经济效益表!AN11>=0.7,[1]苏州工业园区工业企业技术改造经济效益表!AM11,0)","v":0},{"$f":"IF(IF(K11=\"A\",[1]苏州工业园区工业企业技术改造经济效益表!AJ11*[1]奖补比例!$B$3+N11*[1]奖补比例!$B$5,IF(K11=\"B\",[1]苏州工业园区工业企业技术改造经济效益表!AJ11*[1]奖补比例!$C$3+N11*[1]奖补比例!$C$5,IF(K11=\"C\",[1]苏州工业园区工业企业技术改造经济效益表!AJ11*[1]奖补比例!$D$3+N11*[1]奖补比例!$D$5,[1]苏州工业园区工业企业技术改造经济效益表!AJ11*[1]奖补比例!$E$3+N11*[1]奖补比例!$E$5)))*[1]奖补比例!$G$2>1000,1000,IF(K11=\"A\",[1]苏州工业园区工业企业技术改造经济效益表!AJ11*[1]奖补比例!$B$3+N11*[1]奖补比例!$B$5,IF(K11=\"B\",[1]苏州工业园区工业企业技术改造经济效益表!AJ11*[1]奖补比例!$C$3+N11*[1]奖补比例!$C$5,IF(K11=\"C\",[1]苏州工业园区工业企业技术改造经济效益表!AJ11*[1]奖补比例!$D$3+N11*[1]奖补比例!$D$5,[1]苏州工业园区工业企业技术改造经济效益表!AJ11*[1]奖补比例!$E$3+N11*[1]奖补比例!$E$5)))*[1]奖补比例!$G$2)","v":{"v":68.1225011568,"d":"68.12"}},0,0,0,{"$f":"[1]【扣减】人工智能奖补!F10","v":0},0,{"$f":"[1]【扣减】投促委!F10","v":0},{"v":68.1225011568,"d":"68.12"},68.12,{"v":0.06369744,"d":"6.37%"},{"$f":"IF([1]项目纳统比对表!D11=\"否\",\"未纳统\",IF([1]项目纳统比对表!F11=\"否\",\"不足500万元\",\"\"))","v":"未纳统"},null,68.12]
[9,{"$f":"[1]苏州工业园区工业企业技术改造经济效益表!B12","v":"百得（苏州）电动工具有限公司"},{"$f":"[1]苏州工业园区工业企业技术改造经济效益表!C12","v":"91320594608205418E"},{"$f":"[1]经济效益!N12","v":61},{"$f":"[1]智能化效益!R12","v":85},{"$f":"IF([1]综合素质认定!O12>10,10,[1]综合素质认定!O12)","v":0},0,0,0,{"v":59.7,"d":"59.70"},{"$f":"IF(J12<[1]奖补比例!$D$2,\"D\",IF(J12<[1]奖补比例!$C$2,\"C\",IF(J12<[1]奖补比例!$B$2,\"B\",\"A\")))","v":"C"},{"$f":"[1]苏州工业园区工业企业技术改造经济效益表!AJ12","v":2102.41},{"$f":"[1]苏州工业园区工业企业技术改造经济效益表!AM12","v":21.12},{"$f":"IF([1]苏州工业园区工业企业技术改造经济效益表!AN12>=0.7,[1]苏州工业园区工业企业技术改造经济效益表!AM12,0)","v":0},{"$f":"IF(IF(K12=\"A\",[1]苏州工业园区工业企业技术改造经济效益表!AJ12*[1]奖补比例!$B$3+N12*[1]奖补比例!$B$5,IF(K12=\"B\",[1]苏州工业园区工业企业技术改造经济效益表!AJ12*[1]奖补比例!$C$3+N12*[1]奖补比例!$C$5,IF(K12=\"C\",[1]苏州工业园区工业企业技术改造经济效益表!AJ12*[1]奖补比例!$D$3+N12*[1]奖补比例!$D$5,[1]苏州工业园区工业企业技术改造经济效益表!AJ12*[1]奖补比例!$E$3+N12*[1]奖补比例!$E$5)))*[1]奖补比例!$G$2>1000,1000,IF(K12=\"A\",[1]苏州工业园区工业企业技术改造经济效益表!AJ12*[1]奖补比例!$B$3+N12*[1]奖补比例!$B$5,IF(K12=\"B\",[1]苏州工业园区工业企业技术改造经济效益表!AJ12*[1]奖补比例!$C$3+N12*[1]奖补比例!$C$5,IF(K12=\"C\",[1]苏州工业园区工业企业技术改造经济效益表!AJ12*[1]奖补比例!$D$3+N12*[1]奖补比例!$D$5,[1]苏州工业园区工业企业技术改造经济效益表!AJ12*[1]奖补比例!$E$3+N12*[1]奖补比例!$E$5)))*[1]奖补比例!$G$2)","v":{"v":83.698834269,"d":"83.70"}},{"$f":"VLOOKUP(B12,[1]【扣减】省技改综合奖补!$C$2:$E$59,3,0)/10000","v":23},0,0,{"$f":"[1]【扣减】人工智能奖补!F11","v":0},0,{"$f":"[1]【扣减】投促委!F11","v":0},{"v":60.698834269,"d":"60.70"},{"v":60.7,"d":"60.70"},{"v":0.0398109,"d":"3.98%"},{"$f":"IF([1]项目纳统比对表!D12=\"否\",\"未纳统\",IF([1]项目纳统比对表!F12=\"否\",\"不足500万元\",\"\"))","v":"未纳统"},null,{"v":60.7,"d":"60.70"}]
[10,{"$f":"[1]苏州工业园区工业企业技术改造经济效益表!B13","v":"百得（苏州）精密制造有限公司"},{"$f":"[1]苏州工业园区工业企业技术改造经济效益表!C13","v":"91320594789949394L"},{"$f":"[1]经济效益!N13","v":71},{"$f":"[1]智能化效益!R13","v":{"v":86.8643,"d":"86.86"}},{"$f":"IF([1]综合素质认定!O13>10,10,[1]综合素质认定!O13)","v":0},0,0,0,{"v":67.07286,"d":"67.07"},{"$f":"IF(J13<[1]奖补比例!$D$2,\"D\",IF(J13<[1]奖补比例!$C$2,\"C\",IF(J13<[1]奖补比例!$B$2,\"B\",\"A\")))","v":"B"},{"$f":"[1]苏州工业园区工业企业技术改造经济效益表!AJ13","v":512.03},{"$f":"[1]苏州工业园区工业企业技术改造经济效益表!AM13","v":308.41},{"$f":"IF([1]苏州工业园区工业企业技术改造经济效益表!AN13>=0.7,[1]苏州工业园区工业企业技术改造经济效益表!AM13,0)","v":0},{"$f":"IF(IF(K13=\"A\",[1]苏州工业园区工业企业技术改造经济效益表!AJ13*[1]奖补比例!$B$3+N13*[1]奖补比例!$B$5,IF(K13=\"B\",[1]苏州工业园区工业企业技术改造经济效益表!AJ13*[1]奖补比例!$C$3+N13*[1]奖补比例!$C$5,IF(K13=\"C\",[1]苏州工业园区工业企业技术改造经济效益表!AJ13*[1]奖补比例!$D$3+N13*[1]奖补比例!$D$5,[1]苏州工业园区工业企业技术改造经济效益表!AJ13*[1]奖补比例!$E$3+N13*[1]奖补比例!$E$5)))*[1]奖补比例!$G$2>1000,1000,IF(K13=\"A\",[1]苏州工业园区工业企业技术改造经济效益表!AJ13*[1]奖补比例!$B$3+N13*[1]奖补比例!$B$5,IF(K13=\"B\",[1]苏州工业园区工业企业技术改造经济效益表!AJ13*[1]奖补比例!$C$3+N13*[1]奖补比例!$C$5,IF(K13=\"C\",[1]苏州工业园区工业企业技术改造经济效益表!AJ13*[1]奖补比例!$D$3+N13*[1]奖补比例!$D$5,[1]苏州工业园区工业企业技术改造经济效益表!AJ13*[1]奖补比例!$E$3+N13*[1]奖补比例!$E$5)))*[1]奖补比例!$G$2)","v":{"v":32.6150002032,"d":"32.62"}},0,0,0,{"$f":"[1]【扣减】人工智能奖补!F12","v":0},0,{"$f":"[1]【扣减】投促委!F12","v":0},{"v":32.6150002032,"d":"32.62"},32.62,{"v":0.06369744,"d":"6.37%"},{"$f":"IF([1]项目纳统比对表!D13=\"否\",\"未纳统\",IF([1]项目纳统比对表!F13=\"否\",\"不足500万元\",\"\"))","v":"未纳统"},null,32.62]
[11,{"$f":"[1]苏州工业园区工业企业技术改造经济效益表!B14","v":"百得（苏州）科技有限公司"},{"$f":"[1]苏州工业园区工业企业技术改造经济效益表!C14","v":"913205947439059510"},{"$f":"[1]经济效益!N14","v":86},{"$f":"[1]智能化效益!R14","v":{"v":90.5392,"d":"90.54"}},{"$f":"IF([1]综合素质认定!O14>10,10,[1]综合素质认定!O14)","v":0},0,0,0,{"v":78.30784,"d":"78.31"},{"$f":"IF(J14<[1]奖补比例!$D$2,\"D\",IF(J14<[1]奖补比例!$C$2,\"C\",IF(J14<[1]奖补比例!$B$2,\"B\",\"A\")))","v":"B"},{"$f":"[1]苏州工业园区工业企业技术改造经济效益表!AJ14","v":3889.14},{"$f":"[1]苏州工业园区工业企业技术改造经济效益表!AM14","v":1518.69},{"$f":"IF([1]苏州工业园区工业企业技术改造经济效益表!AN14>=0.7,[1]苏州工业园区工业企业技术改造经济效益表!AM14,0)","v":0},{"$f":"IF(IF(K14=\"A\",[1]苏州工业园区工业企业技术改造经济效益表!AJ14*[1]奖补比例!$B$3+N14*[1]奖补比例!$B$5,IF(K14=\"B\",[1]苏州工业园区工业企业技术改造经济效益表!AJ14*[1]奖补比例!$C$3+N14*[1]奖补比例!$C$5,IF(K14=\"C\",[1]苏州工业园区工业企业技术改造经济效益表!AJ14*[1]奖补比例!$D$3+N14*[1]奖补比例!$D$5,[1]苏州工业园区工业企业技术改造经济效益表!AJ14*[1]奖补比例!$E$3+N14*[1]奖补比例!$E$5)))*[1]奖补比例!$G$2>1000,1000,IF(K14=\"A\",[1]苏州工业园区工业企业技术改造经济效益表!AJ14*[1]奖补比例!$B$3+N14*[1]奖补比例!$B$5,IF(K14=\"B\",[1]苏州工业园区工业企业技术改造经济效益表!AJ14*[1]奖补比例!$C$3+N14*[1]奖补比例!$C$5,IF(K14=\"C\",[1]苏州工业园区工业企业技术改造经济效益表!AJ14*[1]奖补比例!$D$3+N14*[1]奖补比例!$D$5,[1]苏州工业园区工业企业技术改造经济效益表!AJ14*[1]奖补比例!$E$3+N14*[1]奖补比例!$E$5)))*[1]奖补比例!$G$2)","v":{"v":247.7282618016,"d":"247.73"}},{"$f":"VLOOKUP(B14,[1]【扣减】省技改综合奖补!$C$2:$E$59,3,0)/10000","v":29},0,0,{"$f":"[1]【扣减】人工智能奖补!F13","v":0},0,{"$f":"[1]【扣减】投促委!F13","v":0},{"v":218.7282618016,"d":"218.73"},218.73,{"v":0.06369744,"d":"6.37%"},{"$f":"IF([1]项目纳统比对表!D14=\"否\",\"未纳统\",IF([1]项目纳统比对表!F14=\"否\",\"不足500万元\",\"\"))","v":"不足500万元"},null,218.73]
[12,{"$f":"[1]苏州工业园区工业企业技术改造经济效益表!B15","v":"佰电科技（苏州）有限公司"},{"$f":"[1]苏州工业园区工业企业技术改造经济效益表!C15","v":"9132059473829931XX"},{"$f":"[1]经济效益!N15","v":{"v":52.5997829194573,"d":"52.60"}},{"$f":"[1]智能化效益!R15","v":95},{"$f":"IF([1]综合素质认定!O15>10,10,[1]综合素质认定!O15)","v":1},0,0,0,{"v":56.8198480436201,"d":"56.82"},{"$f":"IF(J15<[1]奖补比例!$D$2,\"D\",IF(J15<[1]奖补比例!$C$2,\"C\",IF(J15<[1]奖补比例!$B$2,\"B\",\"A\")))","v":"C"},{"$f":"[1]苏州工业园区工业企业技术改造经济效益表!AJ15","v":879.31},{"$f":"[1]苏州工业园区工业企业技术改造经济效益表!AM15","v":38.62},{"$f":"IF([1]苏州工业园区工业企业技术改造经济效益表!AN15>=0.7,[1]苏州工业园区工业企业技术改造经济效益表!AM15,0)","v":0},{"$f":"IF(IF(K15=\"A\",[1]苏州工业园区工业企业技术改造经济效益表!AJ15*[1]奖补比例!$B$3+N15*[1]奖补比例!$B$5,IF(K15=\"B\",[1]苏州工业园区工业企业技术改造经济效益表!AJ15*[1]奖补比例!$C$3+N15*[1]奖补比例!$C$5,IF(K15=\"C\",[1]苏州工业园区工业企业技术改造经济效益表!AJ15*[1]奖补比例!$D$3+N15*[1]奖补比例!$D$5,[1]苏州工业园区工业企业技术改造经济效益表!AJ15*[1]奖补比例!$E$3+N15*[1]奖补比例!$E$5)))*[1]奖补比例!$G$2>1000,1000,IF(K15=\"A\",[1]苏州工业园区工业企业技术改造经济效益表!AJ15*[1]奖补比例!$B$3+N15*[1]奖补比例!$B$5,IF(K15=\"B\",[1]苏州工业园区工业企业技术改造经济效益表!AJ15*[1]奖补比例!$C$3+N15*[1]奖补比例!$C$5,IF(K15=\"C\",[1]苏州工业园区工业企业技术改造经济效益表!AJ15*[1]奖补比例!$D$3+N15*[1]奖补比例!$D$5,[1]苏州工业园区工业企业技术改造经济效益表!AJ15*[1]奖补比例!$E$3+N15*[1]奖补比例!$E$5)))*[1]奖补比例!$G$2)","v":{"v":35.006122479,"d":"35.01"}},0,0,0,{"$f":"[1]【扣减】人工智能奖补!F14","v":0},0,{"$f":"[1]【扣减】投促委!F14","v":0},{"v":35.006122479,"d":"35.01"},35.01,{"v":0.0398109,"d":"3.98%"},{"$f":"IF([1]项目纳统比对表!D15=\"否\",\"未纳统\",IF([1]项目纳统比对表!F15=\"否\",\"不足500万元\",\"\"))","v":"未纳统"},null,35.01]
[13,{"$f":"[1]苏州工业园区工业企业技术改造经济效益表!B16","v":"宝时得科技（中国）有限公司"},{"$f":"[1]苏州工业园区工业企业技术改造经济效益表!C16","v":"91320594739577318W"},{"$f":"[1]经济效益!N16","v":{"v":53.7565211615093,"d":"53.76"}},{"$f":"[1]智能化效益!R16","v":90},{"$f":"IF([1]综合素质认定!O16>10,10,[1]综合素质认定!O16)","v":1},0,0,0,{"v":56.6295648130565,"d":"56.63"},{"$f":"IF(J16<[1]奖补比例!$D$2,\"D\",IF(J16<[1]奖补比例!$C$2,\"C\",IF(J16<[1]奖补比例!$B$2,\"B\",\"A\")))","v":"C"},{"$f":"[1]苏州工业园区工业企业技术改造经济效益表!AJ16","v":563.19},{"$f":"[1]苏州工业园区工业企业技术改造经济效益表!AM16","v":{"v":94.7,"d":"94.70"}},{"$f":"IF([1]苏州工业园区工业企业技术改造经济效益表!AN16>=0.7,[1]苏州工业园区工业企业技术改造经济效益表!AM16,0)","v":0},{"$f":"IF(IF(K16=\"A\",[1]苏州工业园区工业企业技术改造经济效益表!AJ16*[1]奖补比例!$B$3+N16*[1]奖补比例!$B$5,IF(K16=\"B\",[1]苏州工业园区工业企业技术改造经济效益表!AJ16*[1]奖补比例!$C$3+N16*[1]奖补比例!$C$5,IF(K16=\"C\",[1]苏州工业园区工业企业技术改造经济效益表!AJ16*[1]奖补比例!$D$3+N16*[1]奖补比例!$D$5,[1]苏州工业园区工业企业技术改造经济效益表!AJ16*[1]奖补比例!$E$3+N16*[1]奖补比例!$E$5)))*[1]奖补比例!$G$2>1000,1000,IF(K16=\"A\",[1]苏州工业园区工业企业技术改造经济效益表!AJ16*[1]奖补比例!$B$3+N16*[1]奖补比例!$B$5,IF(K16=\"B\",[1]苏州工业园区工业企业技术改造经济效益表!AJ16*[1]奖补比例!$C$3+N16*[1]奖补比例!$C$5,IF(K16=\"C\",[1]苏州工业园区工业企业技术改造经济效益表!AJ16*[1]奖补比例!$D$3+N16*[1]奖补比例!$D$5,[1]苏州工业园区工业企业技术改造经济效益表!AJ16*[1]奖补比例!$E$3+N16*[1]奖补比例!$E$5)))*[1]奖补比例!$G$2)","v":{"v":22.421100771,"d":"22.42"}},0,0,0,{"$f":"[1]【扣减】人工智能奖补!F15","v":0},0,{"$f":"[1]【扣减】投促委!F15","v":0},{"v":22.421100771,"d":"22.42"},22.42,{"v":0.0398109,"d":"3.98%"},{"$f":"IF([1]项目纳统比对表!D16=\"否\",\"未纳统\",IF([1]项目纳统比对表!F16=\"否\",\"不足500万元\",\"\"))","v":""},null,22.42]
[14,{"$f":"[1]苏州工业园区工业企业技术改造经济效益表!B17","v":"贝朗医疗（苏州）有限公司"},{"$f":"[1]苏州工业园区工业企业技术改造经济效益表!C17","v":"91320594753217757D"},{"$f":"[1]经济效益!N17","v":{"v":48.9793738937426,"d":"48.98"}},{"$f":"[1]智能化效益!R17","v":{"v":83.364,"d":"83.36"}},{"$f":"IF([1]综合素质认定!O17>10,10,[1]综合素质认定!O17)","v":1},0,0,0,{"v":51.9583617256198,"d":"51.96"},{"$f":"IF(J17<[1]奖补比例!$D$2,\"D\",IF(J17<[1]奖补比例!$C$2,\"C\",IF(J17<[1]奖补比例!$B$2,\"B\",\"A\")))","v":"C"},{"$f":"[1]苏州工业园区工业企业技术改造经济效益表!AJ17","v":2184},{"$f":"[1]苏州工业园区工业企业技术改造经济效益表!AM17","v":0},{"$f":"IF([1]苏州工业园区工业企业技术改造经济效益表!AN17>=0.7,[1]苏州工业园区工业企业技术改造经济效益表!AM17,0)","v":0},{"$f":"IF(IF(K17=\"A\",[1]苏州工业园区工业企业技术改造经济效益表!AJ17*[1]奖补比例!$B$3+N17*[1]奖补比例!$B$5,IF(K17=\"B\",[1]苏州工业园区工业企业技术改造经济效益表!AJ17*[1]奖补比例!$C$3+N17*[1]奖补比例!$C$5,IF(K17=\"C\",[1]苏州工业园区工业企业技术改造经济效益表!AJ17*[1]奖补比例!$D$3+N17*[1]奖补比例!$D$5,[1]苏州工业园区工业企业技术改造经济效益表!AJ17*[1]奖补比例!$E$3+N17*[1]奖补比例!$E$5)))*[1]奖补比例!$G$2>1000,1000,IF(K17=\"A\",[1]苏州工业园区工业企业技术改造经济效益表!AJ17*[1]奖补比例!$B$3+N17*[1]奖补比例!$B$5,IF(K17=\"B\",[1]苏州工业园区工业企业技术改造经济效益表!AJ17*[1]奖补比例!$C$3+N17*[1]奖补比例!$C$5,IF(K17=\"C\",[1]苏州工业园区工业企业技术改造经济效益表!AJ17*[1]奖补比例!$D$3+N17*[1]奖补比例!$D$5,[1]苏州工业园区工业企业技术改造经济效益表!AJ17*[1]奖补比例!$E$3+N17*[1]奖补比例!$E$5)))*[1]奖补比例!$G$2)","v":{"v":86.9470056,"d":"86.95"}},0,0,0,{"$f":"[1]【扣减】人工智能奖补!F16","v":0},0,{"$f":"[1]【扣减】投促委!F16","v":0},{"v":86.9470056,"d":"86.95"},86.95,{"v":0.0398109,"d":"3.98%"},{"$f":"IF([1]项目纳统比对表!D17=\"否\",\"未纳统\",IF([1]项目纳统比对表!F17=\"否\",\"不足500万元\",\"\"))","v":"未纳统"},null,86.95]
[15,{"$f":"[1]苏州工业园区工业企业技术改造经济效益表!B18","v":"博瑞制药(苏州)有限公司"},{"$f":"[1]苏州工业园区工业企业技术改造经济效益表!C18","v":"9132059455378057X2"},{"$f":"[1]经济效益!N18","v":68},{"$f":"[1]智能化效益!R18","v":88},{"$f":"IF([1]综合素质认定!O18>10,10,[1]综合素质认定!O18)","v":1},0,0,0,{"v":66.2,"d":"66.20"},{"$f":"IF(J18<[1]奖补比例!$D$2,\"D\",IF(J18<[1]奖补比例!$C$2,\"C\",IF(J18<[1]奖补比例!$B$2,\"B\",\"A\")))","v":"B"},{"$f":"[1]苏州工业园区工业企业技术改造经济效益表!AJ18","v":777.45},{"$f":"[1]苏州工业园区工业企业技术改造经济效益表!AM18","v":186.93},{"$f":"IF([1]苏州工业园区工业企业技术改造经济效益表!AN18>=0.7,[1]苏州工业园区工业企业技术改造经济效益表!AM18,0)","v":0},{"$f":"IF(IF(K18=\"A\",[1]苏州工业园区工业企业技术改造经济效益表!AJ18*[1]奖补比例!$B$3+N18*[1]奖补比例!$B$5,IF(K18=\"B\",[1]苏州工业园区工业企业技术改造经济效益表!AJ18*[1]奖补比例!$C$3+N18*[1]奖补比例!$C$5,IF(K18=\"C\",[1]苏州工业园区工业企业技术改造经济效益表!AJ18*[1]奖补比例!$D$3+N18*[1]奖补比例!$D$5,[1]苏州工业园区工业企业技术改造经济效益表!AJ18*[1]奖补比例!$E$3+N18*[1]奖补比例!$E$5)))*[1]奖补比例!$G$2>1000,1000,IF(K18=\"A\",[1]苏州工业园区工业企业技术改造经济效益表!AJ18*[1]奖补比例!$B$3+N18*[1]奖补比例!$B$5,IF(K18=\"B\",[1]苏州工业园区工业企业技术改造经济效益表!AJ18*[1]奖补比例!$C$3+N18*[1]奖补比例!$C$5,IF(K18=\"C\",[1]苏州工业园区工业企业技术改造经济效益表!AJ18*[1]奖补比例!$D$3+N18*[1]奖补比例!$D$5,[1]苏州工业园区工业企业技术改造经济效益表!AJ18*[1]奖补比例!$E$3+N18*[1]奖补比例!$E$5)))*[1]奖补比例!$G$2)","v":{"v":49.521574728,"d":"49.52"}},0,0,0,{"$f":"[1]【扣减】人工智能奖补!F17","v":0},0,{"$f":"[1]【扣减】投促委!F17","v":0},{"v":49.521574728,"d":"49.52"},49.52,{"v":0.06369744,"d":"6.37%"},{"$f":"IF([1]项目纳统比对表!D18=\"否\",\"未纳统\",IF([1]项目纳统比对表!F18=\"否\",\"不足500万元\",\"\"))","v":"未纳统"},null,49.52]
[16,{"$f":"[1]苏州工业园区工业企业技术改造经济效益表!B19","v":"博世汽车部件（苏州）有限公司"},{"$f":"[1]苏州工业园区工业企业技术改造经济效益表!C19","v":"91320594716805103D"},{"$f":"[1]经济效益!N19","v":90},{"$f":"[1]智能化效益!R19","v":95},{"$f":"IF([1]综合素质认定!O19>10,10,[1]综合素质认定!O19)","v":10},0,0,0,92,{"$f":"IF(J19<[1]奖补比例!$D$2,\"D\",IF(J19<[1]奖补比例!$C$2,\"C\",IF(J19<[1]奖补比例!$B$2,\"B\",\"A\")))","v":"A"},{"$f":"[1]苏州工业园区工业企业技术改造经济效益表!AJ19","v":12198.49},{"$f":"[1]苏州工业园区工业企业技术改造经济效益表!AM19","v":0},{"$f":"IF([1]苏州工业园区工业企业技术改造经济效益表!AN19>=0.7,[1]苏州工业园区工业企业技术改造经济效益表!AM19,0)","v":0},{"$f":"IF(IF(K19=\"A\",[1]苏州工业园区工业企业技术改造经济效益表!AJ19*[1]奖补比例!$B$3+N19*[1]奖补比例!$B$5,IF(K19=\"B\",[1]苏州工业园区工业企业技术改造经济效益表!AJ19*[1]奖补比例!$C$3+N19*[1]奖补比例!$C$5,IF(K19=\"C\",[1]苏州工业园区工业企业技术改造经济效益表!AJ19*[1]奖补比例!$D$3+N19*[1]奖补比例!$D$5,[1]苏州工业园区工业企业技术改造经济效益表!AJ19*[1]奖补比例!$E$3+N19*[1]奖补比例!$E$5)))*[1]奖补比例!$G$2>1000,1000,IF(K19=\"A\",[1]苏州工业园区工业企业技术改造经济效益表!AJ19*[1]奖补比例!$B$3+N19*[1]奖补比例!$B$5,IF(K19=\"B\",[1]苏州工业园区工业企业技术改造经济效益表!AJ19*[1]奖补比例!$C$3+N19*[1]奖补比例!$C$5,IF(K19=\"C\",[1]苏州工业园区工业企业技术改造经济效益表!AJ19*[1]奖补比例!$D$3+N19*[1]奖补比例!$D$5,[1]苏州工业园区工业企业技术改造经济效益表!AJ19*[1]奖补比例!$E$3+N19*[1]奖补比例!$E$5)))*[1]奖补比例!$G$2)","v":{"v":971.265731082,"d":"971.27"}},{"$f":"VLOOKUP(B19,[1]【扣减】省技改综合奖补!$C$2:$E$59,3,0)/10000","v":131},0,0,{"$f":"[1]【扣减】人工智能奖补!F18","v":22.9},0,{"$f":"[1]【扣减】投促委!F18","v":1600},0,{"v":0,"d":"0.00"},{"v":0.0796218,"d":"7.96%"},{"$f":"IF([1]项目纳统比对表!D19=\"否\",\"未纳统\",IF([1]项目纳统比对表!F19=\"否\",\"不足500万元\",\"\"))","v":""},null,{"v":0,"d":"0.00"}]
[17,{"$f":"[1]苏州工业园区工业企业技术改造经济效益表!B20","v":"博思格钢铁（苏州）有限公司"},{"$f":"[1]苏州工业园区工业企业技术改造经济效益表!C20","v":"91320594756431572G"},{"$f":"[1]经济效益!N20","v":{"v":45.0710588607035,"d":"45.07"}},{"$f":"[1]智能化效益!R20","v":{"v":74.9732,"d":"74.97"}},{"$f":"IF([1]综合素质认定!O20>10,10,[1]综合素质认定!O20)","v":1},0,0,0,{"v":47.5443812024925,"d":"47.54"},{"$f":"IF(J20<[1]奖补比例!$D$2,\"D\",IF(J20<[1]奖补比例!$C$2,\"C\",IF(J20<[1]奖补比例!$B$2,\"B\",\"A\")))","v":"D"},{"$f":"[1]苏州工业园区工业企业技术改造经济效益表!AJ20","v":629.37},{"$f":"[1]苏州工业园区工业企业技术改造经济效益表!AM20","v":38},{"$f":"IF([1]苏州工业园区工业企业技术改造经济效益表!AN20>=0.7,[1]苏州工业园区工业企业技术改造经济效益表!AM20,0)","v":0},{"$f":"IF(IF(K20=\"A\",[1]苏州工业园区工业企业技术改造经济效益表!AJ20*[1]奖补比例!$B$3+N20*[1]奖补比例!$B$5,IF(K20=\"B\",[1]苏州工业园区工业企业技术改造经济效益表!AJ20*[1]奖补比例!$C$3+N20*[1]奖补比例!$C$5,IF(K20=\"C\",[1]苏州工业园区工业企业技术改造经济效益表!AJ20*[1]奖补比例!$D$3+N20*[1]奖补比例!$D$5,[1]苏州工业园区工业企业技术改造经济效益表!AJ20*[1]奖补比例!$E$3+N20*[1]奖补比例!$E$5)))*[1]奖补比例!$G$2>1000,1000,IF(K20=\"A\",[1]苏州工业园区工业企业技术改造经济效益表!AJ20*[1]奖补比例!$B$3+N20*[1]奖补比例!$B$5,IF(K20=\"B\",[1]苏州工业园区工业企业技术改造经济效益表!AJ20*[1]奖补比例!$C$3+N20*[1]奖补比例!$C$5,IF(K20=\"C\",[1]苏州工业园区工业企业技术改造经济效益表!AJ20*[1]奖补比例!$D$3+N20*[1]奖补比例!$D$5,[1]苏州工业园区工业企业技术改造经济效益表!AJ20*[1]奖补比例!$E$3+N20*[1]奖补比例!$E$5)))*[1]奖补比例!$G$2)","v":{"v":15.0334716798,"d":"15.03"}},0,0,{"$f":"VLOOKUP(B20,[1]【扣减】节能改造项目奖补!$B$2:$C$23,2,0)","v":35},{"$f":"[1]【扣减】人工智能奖补!F19","v":9.4},0,{"$f":"[1]【扣减】投促委!F19","v":0},0,{"v":0,"d":"0.00"},{"v":0.02388654,"d":"2.39%"},{"$f":"IF([1]项目纳统比对表!D20=\"否\",\"未纳统\",IF([1]项目纳统比对表!F20=\"否\",\"不足500万元\",\"\"))","v":"未纳统"},null,{"v":0,"d":"0.00"}]
[18,{"$f":"[1]苏州工业园区工业企业技术改造经济效益表!B21","v":"参天制药（中国）有限公司"},{"$f":"[1]苏州工业园区工业企业技术改造经济效益表!C21","v":"91320594778675877J"},{"$f":"[1]经济效益!N21","v":{"v":42.0625937911076,"d":"42.06"}},{"$f":"[1]智能化效益!R21","v":79},{"$f":"IF([1]综合素质认定!O21>10,10,[1]综合素质认定!O21)","v":1},0,0,0,{"v":46.2438156537753,"d":"46.24"},{"$f":"IF(J21<[1]奖补比例!$D$2,\"D\",IF(J21<[1]奖补比例!$C$2,\"C\",IF(J21<[1]奖补比例!$B$2,\"B\",\"A\")))","v":"D"},{"$f":"[1]苏州工业园区工业企业技术改造经济效益表!AJ21","v":2370.59},{"$f":"[1]苏州工业园区工业企业技术改造经济效益表!AM21","v":0},{"$f":"IF([1]苏州工业园区工业企业技术改造经济效益表!AN21>=0.7,[1]苏州工业园区工业企业技术改造经济效益表!AM21,0)","v":0},{"$f":"IF(IF(K21=\"A\",[1]苏州工业园区工业企业技术改造经济效益表!AJ21*[1]奖补比例!$B$3+N21*[1]奖补比例!$B$5,IF(K21=\"B\",[1]苏州工业园区工业企业技术改造经济效益表!AJ21*[1]奖补比例!$C$3+N21*[1]奖补比例!$C$5,IF(K21=\"C\",[1]苏州工业园区工业企业技术改造经济效益表!AJ21*[1]奖补比例!$D$3+N21*[1]奖补比例!$D$5,[1]苏州工业园区工业企业技术改造经济效益表!AJ21*[1]奖补比例!$E$3+N21*[1]奖补比例!$E$5)))*[1]奖补比例!$G$2>1000,1000,IF(K21=\"A\",[1]苏州工业园区工业企业技术改造经济效益表!AJ21*[1]奖补比例!$B$3+N21*[1]奖补比例!$B$5,IF(K21=\"B\",[1]苏州工业园区工业企业技术改造经济效益表!AJ21*[1]奖补比例!$C$3+N21*[1]奖补比例!$C$5,IF(K21=\"C\",[1]苏州工业园区工业企业技术改造经济效益表!AJ21*[1]奖补比例!$D$3+N21*[1]奖补比例!$D$5,[1]苏州工业园区工业企业技术改造经济效益表!AJ21*[1]奖补比例!$E$3+N21*[1]奖补比例!$E$5)))*[1]奖补比例!$G$2)","v":{"v":56.6251928586,"d":"56.63"}},0,0,0,{"$f":"[1]【扣减】人工智能奖补!F20","v":0},0,{"$f":"[1]【扣减】投促委!F20","v":0},{"v":56.6251928586,"d":"56.63"},56.63,{"v":0.02388654,"d":"2.39%"},{"$f":"IF([1]项目纳统比对表!D21=\"否\",\"未纳统\",IF([1]项目纳统比对表!F21=\"否\",\"不足500万元\",\"\"))","v":""},null,56.63]
[19,{"$f":"[1]苏州工业园区工业企业技术改造经济效益表!B22","v":"大金机电设备（苏州）有限公司"},{"$f":"[1]苏州工业园区工业企业技术改造经济效益表!C22","v":"91320594755855023J"},{"$f":"[1]经济效益!N22","v":{"v":66.2467367659865,"d":"66.25"}},{"$f":"[1]智能化效益!R22","v":90},{"$f":"IF([1]综合素质认定!O22>10,10,[1]综合素质认定!O22)","v":0},0,0,0,{"v":64.3727157361905,"d":"64.37"},{"$f":"IF(J22<[1]奖补比例!$D$2,\"D\",IF(J22<[1]奖补比例!$C$2,\"C\",IF(J22<[1]奖补比例!$B$2,\"B\",\"A\")))","v":"B"},{"$f":"[1]苏州工业园区工业企业技术改造经济效益表!AJ22","v":1568.39},{"$f":"[1]苏州工业园区工业企业技术改造经济效益表!AM22","v":165.55},{"$f":"IF([1]苏州工业园区工业企业技术改造经济效益表!AN22>=0.7,[1]苏州工业园区工业企业技术改造经济效益表!AM22,0)","v":0},{"$f":"IF(IF(K22=\"A\",[1]苏州工业园区工业企业技术改造经济效益表!AJ22*[1]奖补比例!$B$3+N22*[1]奖补比例!$B$5,IF(K22=\"B\",[1]苏州工业园区工业企业技术改造经济效益表!AJ22*[1]奖补比例!$C$3+N22*[1]奖补比例!$C$5,IF(K22=\"C\",[1]苏州工业园区工业企业技术改造经济效益表!AJ22*[1]奖补比例!$D$3+N22*[1]奖补比例!$D$5,[1]苏州工业园区工业企业技术改造经济效益表!AJ22*[1]奖补比例!$E$3+N22*[1]奖补比例!$E$5)))*[1]奖补比例!$G$2>1000,1000,IF(K22=\"A\",[1]苏州工业园区工业企业技术改造经济效益表!AJ22*[1]奖补比例!$B$3+N22*[1]奖补比例!$B$5,IF(K22=\"B\",[1]苏州工业园区工业企业技术改造经济效益表!AJ22*[1]奖补比例!$C$3+N22*[1]奖补比例!$C$5,IF(K22=\"C\",[1]苏州工业园区工业企业技术改造经济效益表!AJ22*[1]奖补比例!$D$3+N22*[1]奖补比例!$D$5,[1]苏州工业园区工业企业技术改造经济效益表!AJ22*[1]奖补比例!$E$3+N22*[1]奖补比例!$E$5)))*[1]奖补比例!$G$2)","v":{"v":99.9024279216,"d":"99.90"}},{"$f":"VLOOKUP(B22,[1]【扣减】省技改综合奖补!$C$2:$E$59,3,0)/10000","v":40},0,0,{"$f":"[1]【扣减】人工智能奖补!F21","v":0},0,{"$f":"[1]【扣减】投促委!F21","v":0},{"v":59.9024279216,"d":"59.90"},{"v":59.9,"d":"59.90"},{"v":0.06369744,"d":"6.37%"},{"$f":"IF([1]项目纳统比对表!D22=\"否\",\"未纳统\",IF([1]项目纳统比对表!F22=\"否\",\"不足500万元\",\"\"))","v":"未纳统"},null,{"v":59.9,"d":"59.90"}]
[20,{"$f":"[1]苏州工业园区工业企业技术改造经济效益表!B23","v":"大金空调（苏州）有限公司"},{"$f":"[1]苏州工业园区工业企业技术改造经济效益表!C23","v":"91320594586672794Y"},{"$f":"[1]经济效益!N23","v":{"v":46.6136021142448,"d":"46.61"}},{"$f":"[1]智能化效益!R23","v":{"v":85.2575,"d":"85.26"}},{"$f":"IF([1]综合素质认定!O23>10,10,[1]综合素质认定!O23)","v":1},0,0,0,{"v":50.6810214799714,"d":"50.68"},{"$f":"IF(J23<[1]奖补比例!$D$2,\"D\",IF(J23<[1]奖补比例!$C$2,\"C\",IF(J23<[1]奖补比例!$B$2,\"B\",\"A\")))","v":"C"},{"$f":"[1]苏州工业园区工业企业技术改造经济效益表!AJ23","v":4351.14},{"$f":"[1]苏州工业园区工业企业技术改造经济效益表!AM23","v":0},{"$f":"IF([1]苏州工业园区工业企业技术改造经济效益表!AN23>=0.7,[1]苏州工业园区工业企业技术改造经济效益表!AM23,0)","v":0},{"$f":"IF(IF(K23=\"A\",[1]苏州工业园区工业企业技术改造经济效益表!AJ23*[1]奖补比例!$B$3+N23*[1]奖补比例!$B$5,IF(K23=\"B\",[1]苏州工业园区工业企业技术改造经济效益表!AJ23*[1]奖补比例!$C$3+N23*[1]奖补比例!$C$5,IF(K23=\"C\",[1]苏州工业园区工业企业技术改造经济效益表!AJ23*[1]奖补比例!$D$3+N23*[1]奖补比例!$D$5,[1]苏州工业园区工业企业技术改造经济效益表!AJ23*[1]奖补比例!$E$3+N23*[1]奖补比例!$E$5)))*[1]奖补比例!$G$2>1000,1000,IF(K23=\"A\",[1]苏州工业园区工业企业技术改造经济效益表!AJ23*[1]奖补比例!$B$3+N23*[1]奖补比例!$B$5,IF(K23=\"B\",[1]苏州工业园区工业企业技术改造经济效益表!AJ23*[1]奖补比例!$C$3+N23*[1]奖补比例!$C$5,IF(K23=\"C\",[1]苏州工业园区工业企业技术改造经济效益表!AJ23*[1]奖补比例!$D$3+N23*[1]奖补比例!$D$5,[1]苏州工业园区工业企业技术改造经济效益表!AJ23*[1]奖补比例!$E$3+N23*[1]奖补比例!$E$5)))*[1]奖补比例!$G$2)","v":{"v":173.222799426,"d":"173.22"}},{"$f":"VLOOKUP(B23,[1]【扣减】省技改综合奖补!$C$2:$E$59,3,0)/10000","v":110},0,0,{"$f":"[1]【扣减】人工智能奖补!F22","v":0},0,{"$f":"[1]【扣减】投促委!F22","v":0},{"v":63.222799426,"d":"63.22"},63.22,{"v":0.0398109,"d":"3.98%"},{"$f":"IF([1]项目纳统比对表!D23=\"否\",\"未纳统\",IF([1]项目纳统比对表!F23=\"否\",\"不足500万元\",\"\"))","v":""},null,63.22]
[21,{"$f":"[1]苏州工业园区工业企业技术改造经济效益表!B24","v":"大金制冷（苏州）有限公司"},{"$f":"[1]苏州工业园区工业企业技术改造经济效益表!C24","v":"91320594666363721D"},{"$f":"[1]经济效益!N24","v":{"v":66.1123677062845,"d":"66.11"}},{"$f":"[1]智能化效益!R24","v":{"v":83.968,"d":"83.97"}},{"$f":"IF([1]综合素质认定!O24>10,10,[1]综合素质认定!O24)","v":0},0,0,0,{"v":63.0722573943991,"d":"63.07"},{"$f":"IF(J24<[1]奖补比例!$D$2,\"D\",IF(J24<[1]奖补比例!$C$2,\"C\",IF(J24<[1]奖补比例!$B$2,\"B\",\"A\")))","v":"B"},{"$f":"[1]苏州工业园区工业企业技术改造经济效益表!AJ24","v":609.59},{"$f":"[1]苏州工业园区工业企业技术改造经济效益表!AM24","v":{"v":11.010865,"d":"11.01"}},{"$f":"IF([1]苏州工业园区工业企业技术改造经济效益表!AN24>=0.7,[1]苏州工业园区工业企业技术改造经济效益表!AM24,0)","v":0},{"$f":"IF(IF(K24=\"A\",[1]苏州工业园区工业企业技术改造经济效益表!AJ24*[1]奖补比例!$B$3+N24*[1]奖补比例!$B$5,IF(K24=\"B\",[1]苏州工业园区工业企业技术改造经济效益表!AJ24*[1]奖补比例!$C$3+N24*[1]奖补比例!$C$5,IF(K24=\"C\",[1]苏州工业园区工业企业技术改造经济效益表!AJ24*[1]奖补比例!$D$3+N24*[1]奖补比例!$D$5,[1]苏州工业园区工业企业技术改造经济效益表!AJ24*[1]奖补比例!$E$3+N24*[1]奖补比例!$E$5)))*[1]奖补比例!$G$2>1000,1000,IF(K24=\"A\",[1]苏州工业园区工业企业技术改造经济效益表!AJ24*[1]奖补比例!$B$3+N24*[1]奖补比例!$B$5,IF(K24=\"B\",[1]苏州工业园区工业企业技术改造经济效益表!AJ24*[1]奖补比例!$C$3+N24*[1]奖补比例!$C$5,IF(K24=\"C\",[1]苏州工业园区工业企业技术改造经济效益表!AJ24*[1]奖补比例!$D$3+N24*[1]奖补比例!$D$5,[1]苏州工业园区工业企业技术改造经济效益表!AJ24*[1]奖补比例!$E$3+N24*[1]奖补比例!$E$5)))*[1]奖补比例!$G$2)","v":{"v":38.8293224496,"d":"38.83"}},0,0,0,{"$f":"[1]【扣减】人工智能奖补!F23","v":0},0,{"$f":"[1]【扣减】投促委!F23","v":0},{"v":38.8293224496,"d":"38.83"},38.83,{"v":0.06369744,"d":"6.37%"},{"$f":"IF([1]项目纳统比对表!D24=\"否\",\"未纳统\",IF([1]项目纳统比对表!F24=\"否\",\"不足500万元\",\"\"))","v":"未纳统"},null,38.83]
[22,{"$f":"[1]苏州工业园区工业企业技术改造经济效益表!B25","v":"大同电工(苏州)有限公司"},{"$f":"[1]苏州工业园区工业企业技术改造经济效益表!C25","v":"91320594754637956M"},{"$f":"[1]经济效益!N25","v":{"v":42.9611738511925,"d":"42.96"}},{"$f":"[1]智能化效益!R25","v":74.85},{"$f":"IF([1]综合素质认定!O25>10,10,[1]综合素质认定!O25)","v":1},0,0,0,{"v":46.0428216958347,"d":"46.04"},{"$f":"IF(J25<[1]奖补比例!$D$2,\"D\",IF(J25<[1]奖补比例!$C$2,\"C\",IF(J25<[1]奖补比例!$B$2,\"B\",\"A\")))","v":"D"},{"$f":"[1]苏州工业园区工业企业技术改造经济效益表!AJ25","v":1030.484656},{"$f":"[1]苏州工业园区工业企业技术改造经济效益表!AM25","v":0},{"$f":"IF([1]苏州工业园区工业企业技术改造经济效益表!AN25>=0.7,[1]苏州工业园区工业企业技术改造经济效益表!AM25,0)","v":0},{"$f":"IF(IF(K25=\"A\",[1]苏州工业园区工业企业技术改造经济效益表!AJ25*[1]奖补比例!$B$3+N25*[1]奖补比例!$B$5,IF(K25=\"B\",[1]苏州工业园区工业企业技术改造经济效益表!AJ25*[1]奖补比例!$C$3+N25*[1]奖补比例!$C$5,IF(K25=\"C\",[1]苏州工业园区工业企业技术改造经济效益表!AJ25*[1]奖补比例!$D$3+N25*[1]奖补比例!$D$5,[1]苏州工业园区工业企业技术改造经济效益表!AJ25*[1]奖补比例!$E$3+N25*[1]奖补比例!$E$5)))*[1]奖补比例!$G$2>1000,1000,IF(K25=\"A\",[1]苏州工业园区工业企业技术改造经济效益表!AJ25*[1]奖补比例!$B$3+N25*[1]奖补比例!$B$5,IF(K25=\"B\",[1]苏州工业园区工业企业技术改造经济效益表!AJ25*[1]奖补比例!$C$3+N25*[1]奖补比例!$C$5,IF(K25=\"C\",[1]苏州工业园区工业企业技术改造经济效益表!AJ25*[1]奖补比例!$D$3+N25*[1]奖补比例!$D$5,[1]苏州工业园区工业企业技术改造经济效益表!AJ25*[1]奖补比例!$E$3+N25*[1]奖补比例!$E$5)))*[1]奖补比例!$G$2)","v":{"v":24.6147129549302,"d":"24.61"}},0,0,0,{"$f":"[1]【扣减】人工智能奖补!F24","v":0},0,{"$f":"[1]【扣减】投促委!F24","v":0},{"v":24.6147129549302,"d":"24.61"},24.61,{"v":0.02388654,"d":"2.39%"},{"$f":"IF([1]项目纳统比对表!D25=\"否\",\"未纳统\",IF([1]项目纳统比对表!F25=\"否\",\"不足500万元\",\"\"))","v":"未纳统"},null,24.61]
[23,{"$f":"[1]苏州工业园区工业企业技术改造经济效益表!B26","v":"大同精密金属（苏州）有限公司"},{"$f":"[1]苏州工业园区工业企业技术改造经济效益表!C26","v":"913205947424737983"},{"$f":"[1]经济效益!N26","v":{"v":68.2149298629528,"d":"68.21"}},{"$f":"[1]智能化效益!R26","v":92},{"$f":"IF([1]综合素质认定!O26>10,10,[1]综合素质认定!O26)","v":0},0,0,0,{"v":66.150450904067,"d":"66.15"},{"$f":"IF(J26<[1]奖补比例!$D$2,\"D\",IF(J26<[1]奖补比例!$C$2,\"C\",IF(J26<[1]奖补比例!$B$2,\"B\",\"A\")))","v":"B"},{"$f":"[1]苏州工业园区工业企业技术改造经济效益表!AJ26","v":2497.07},{"$f":"[1]苏州工业园区工业企业技术改造经济效益表!AM26","v":0},{"$f":"IF([1]苏州工业园区工业企业技术改造经济效益表!AN26>=0.7,[1]苏州工业园区工业企业技术改造经济效益表!AM26,0)","v":0},{"$f":"IF(IF(K26=\"A\",[1]苏州工业园区工业企业技术改造经济效益表!AJ26*[1]奖补比例!$B$3+N26*[1]奖补比例!$B$5,IF(K26=\"B\",[1]苏州工业园区工业企业技术改造经济效益表!AJ26*[1]奖补比例!$C$3+N26*[1]奖补比例!$C$5,IF(K26=\"C\",[1]苏州工业园区工业企业技术改造经济效益表!AJ26*[1]奖补比例!$D$3+N26*[1]奖补比例!$D$5,[1]苏州工业园区工业企业技术改造经济效益表!AJ26*[1]奖补比例!$E$3+N26*[1]奖补比例!$E$5)))*[1]奖补比例!$G$2>1000,1000,IF(K26=\"A\",[1]苏州工业园区工业企业技术改造经济效益表!AJ26*[1]奖补比例!$B$3+N26*[1]奖补比例!$B$5,IF(K26=\"B\",[1]苏州工业园区工业企业技术改造经济效益表!AJ26*[1]奖补比例!$C$3+N26*[1]奖补比例!$C$5,IF(K26=\"C\",[1]苏州工业园区工业企业技术改造经济效益表!AJ26*[1]奖补比例!$D$3+N26*[1]奖补比例!$D$5,[1]苏州工业园区工业企业技术改造经济效益表!AJ26*[1]奖补比例!$E$3+N26*[1]奖补比例!$E$5)))*[1]奖补比例!$G$2)","v":{"v":159.0569665008,"d":"159.06"}},{"$f":"VLOOKUP(B26,[1]【扣减】省技改综合奖补!$C$2:$E$59,3,0)/10000","v":15},0,0,{"$f":"[1]【扣减】人工智能奖补!F25","v":0},0,{"$f":"[1]【扣减】投促委!F25","v":0},{"v":144.0569665008,"d":"144.06"},144.06,{"v":0.06369744,"d":"6.37%"},{"$f":"IF([1]项目纳统比对表!D26=\"否\",\"未纳统\",IF([1]项目纳统比对表!F26=\"否\",\"不足500万元\",\"\"))","v":""},null,144.06]
[24,{"$f":"[1]苏州工业园区工业企业技术改造经济效益表!B27","v":"德莎（苏州）胶带技术有限公司"},{"$f":"[1]苏州工业园区工业企业技术改造经济效益表!C27","v":"91320594761504668U"},{"$f":"[1]经济效益!N27","v":50},{"$f":"[1]智能化效益!R27","v":90},{"$f":"IF([1]综合素质认定!O27>10,10,[1]综合素质认定!O27)","v":1},0,0,0,54,{"$f":"IF(J27<[1]奖补比例!$D$2,\"D\",IF(J27<[1]奖补比例!$C$2,\"C\",IF(J27<[1]奖补比例!$B$2,\"B\",\"A\")))","v":"C"},{"$f":"[1]苏州工业园区工业企业技术改造经济效益表!AJ27","v":4945.33},{"$f":"[1]苏州工业园区工业企业技术改造经济效益表!AM27","v":0},{"$f":"IF([1]苏州工业园区工业企业技术改造经济效益表!AN27>=0.7,[1]苏州工业园区工业企业技术改造经济效益表!AM27,0)","v":0},{"$f":"IF(IF(K27=\"A\",[1]苏州工业园区工业企业技术改造经济效益表!AJ27*[1]奖补比例!$B$3+N27*[1]奖补比例!$B$5,IF(K27=\"B\",[1]苏州工业园区工业企业技术改造经济效益表!AJ27*[1]奖补比例!$C$3+N27*[1]奖补比例!$C$5,IF(K27=\"C\",[1]苏州工业园区工业企业技术改造经济效益表!AJ27*[1]奖补比例!$D$3+N27*[1]奖补比例!$D$5,[1]苏州工业园区工业企业技术改造经济效益表!AJ27*[1]奖补比例!$E$3+N27*[1]奖补比例!$E$5)))*[1]奖补比例!$G$2>1000,1000,IF(K27=\"A\",[1]苏州工业园区工业企业技术改造经济效益表!AJ27*[1]奖补比例!$B$3+N27*[1]奖补比例!$B$5,IF(K27=\"B\",[1]苏州工业园区工业企业技术改造经济效益表!AJ27*[1]奖补比例!$C$3+N27*[1]奖补比例!$C$5,IF(K27=\"C\",[1]苏州工业园区工业企业技术改造经济效益表!AJ27*[1]奖补比例!$D$3+N27*[1]奖补比例!$D$5,[1]苏州工业园区工业企业技术改造经济效益表!AJ27*[1]奖补比例!$E$3+N27*[1]奖补比例!$E$5)))*[1]奖补比例!$G$2)","v":{"v":196.878038097,"d":"196.88"}},{"$f":"VLOOKUP(B27,[1]【扣减】省技改综合奖补!$C$2:$E$59,3,0)/10000","v":19},0,0,{"$f":"[1]【扣减】人工智能奖补!F26","v":0},0,{"$f":"[1]【扣减】投促委!F26","v":0},{"v":177.878038097,"d":"177.88"},177.88,{"v":0.0398109,"d":"3.98%"},{"$f":"IF([1]项目纳统比对表!D27=\"否\",\"未纳统\",IF([1]项目纳统比对表!F27=\"否\",\"不足500万元\",\"\"))","v":""},null,177.88]
[25,{"$f":"[1]苏州工业园区工业企业技术改造经济效益表!B28","v":"恩德斯豪斯流量仪表技术（中国）有限公司"},{"$f":"[1]苏州工业园区工业企业技术改造经济效益表!C28","v":"913205947424731302"},{"$f":"[1]经济效益!N28","v":61},{"$f":"[1]智能化效益!R28","v":76.48},{"$f":"IF([1]综合素质认定!O28>10,10,[1]综合素质认定!O28)","v":1},0,0,0,{"v":58.996,"d":"59.00"},{"$f":"IF(J28<[1]奖补比例!$D$2,\"D\",IF(J28<[1]奖补比例!$C$2,\"C\",IF(J28<[1]奖补比例!$B$2,\"B\",\"A\")))","v":"C"},{"$f":"[1]苏州工业园区工业企业技术改造经济效益表!AJ28","v":845.03},{"$f":"[1]苏州工业园区工业企业技术改造经济效益表!AM28","v":3.17},{"$f":"IF([1]苏州工业园区工业企业技术改造经济效益表!AN28>=0.7,[1]苏州工业园区工业企业技术改造经济效益表!AM28,0)","v":0},{"$f":"IF(IF(K28=\"A\",[1]苏州工业园区工业企业技术改造经济效益表!AJ28*[1]奖补比例!$B$3+N28*[1]奖补比例!$B$5,IF(K28=\"B\",[1]苏州工业园区工业企业技术改造经济效益表!AJ28*[1]奖补比例!$C$3+N28*[1]奖补比例!$C$5,IF(K28=\"C\",[1]苏州工业园区工业企业技术改造经济效益表!AJ28*[1]奖补比例!$D$3+N28*[1]奖补比例!$D$5,[1]苏州工业园区工业企业技术改造经济效益表!AJ28*[1]奖补比例!$E$3+N28*[1]奖补比例!$E$5)))*[1]奖补比例!$G$2>1000,1000,IF(K28=\"A\",[1]苏州工业园区工业企业技术改造经济效益表!AJ28*[1]奖补比例!$B$3+N28*[1]奖补比例!$B$5,IF(K28=\"B\",[1]苏州工业园区工业企业技术改造经济效益表!AJ28*[1]奖补比例!$C$3+N28*[1]奖补比例!$C$5,IF(K28=\"C\",[1]苏州工业园区工业企业技术改造经济效益表!AJ28*[1]奖补比例!$D$3+N28*[1]奖补比例!$D$5,[1]苏州工业园区工业企业技术改造经济效益表!AJ28*[1]奖补比例!$E$3+N28*[1]奖补比例!$E$5)))*[1]奖补比例!$G$2)","v":{"v":33.641404827,"d":"33.64"}},0,0,0,{"$f":"[1]【扣减】人工智能奖补!F27","v":0},0,{"$f":"[1]【扣减】投促委!F27","v":0},{"v":33.641404827,"d":"33.64"},33.64,{"v":0.0398109,"d":"3.98%"},{"$f":"IF([1]项目纳统比对表!D28=\"否\",\"未纳统\",IF([1]项目纳统比对表!F28=\"否\",\"不足500万元\",\"\"))","v":""},null,33.64]
[26,{"$f":"[1]苏州工业园区工业企业技术改造经济效益表!B29","v":"飞比达电子元器件（苏州）有限公司"},{"$f":"[1]苏州工业园区工业企业技术改造经济效益表!C29","v":"91320594768276530J"},{"$f":"[1]经济效益!N29","v":{"v":48.7353001812843,"d":"48.74"}},{"$f":"[1]智能化效益!R29","v":{"v":94.1225,"d":"94.12"}},{"$f":"IF([1]综合素质认定!O29>10,10,[1]综合素质认定!O29)","v":1},0,0,0,{"v":53.939210126899,"d":"53.94"},{"$f":"IF(J29<[1]奖补比例!$D$2,\"D\",IF(J29<[1]奖补比例!$C$2,\"C\",IF(J29<[1]奖补比例!$B$2,\"B\",\"A\")))","v":"C"},{"$f":"[1]苏州工业园区工业企业技术改造经济效益表!AJ29","v":587.75},{"$f":"[1]苏州工业园区工业企业技术改造经济效益表!AM29","v":30.33},{"$f":"IF([1]苏州工业园区工业企业技术改造经济效益表!AN29>=0.7,[1]苏州工业园区工业企业技术改造经济效益表!AM29,0)","v":0},{"$f":"IF(IF(K29=\"A\",[1]苏州工业园区工业企业技术改造经济效益表!AJ29*[1]奖补比例!$B$3+N29*[1]奖补比例!$B$5,IF(K29=\"B\",[1]苏州工业园区工业企业技术改造经济效益表!AJ29*[1]奖补比例!$C$3+N29*[1]奖补比例!$C$5,IF(K29=\"C\",[1]苏州工业园区工业企业技术改造经济效益表!AJ29*[1]奖补比例!$D$3+N29*[1]奖补比例!$D$5,[1]苏州工业园区工业企业技术改造经济效益表!AJ29*[1]奖补比例!$E$3+N29*[1]奖补比例!$E$5)))*[1]奖补比例!$G$2>1000,1000,IF(K29=\"A\",[1]苏州工业园区工业企业技术改造经济效益表!AJ29*[1]奖补比例!$B$3+N29*[1]奖补比例!$B$5,IF(K29=\"B\",[1]苏州工业园区工业企业技术改造经济效益表!AJ29*[1]奖补比例!$C$3+N29*[1]奖补比例!$C$5,IF(K29=\"C\",[1]苏州工业园区工业企业技术改造经济效益表!AJ29*[1]奖补比例!$D$3+N29*[1]奖补比例!$D$5,[1]苏州工业园区工业企业技术改造经济效益表!AJ29*[1]奖补比例!$E$3+N29*[1]奖补比例!$E$5)))*[1]奖补比例!$G$2)","v":{"v":23.398856475,"d":"23.40"}},0,0,0,{"$f":"[1]【扣减】人工智能奖补!F28","v":0},0,{"$f":"[1]【扣减】投促委!F28","v":0},{"v":23.398856475,"d":"23.40"},{"v":23.4,"d":"23.40"},{"v":0.0398109,"d":"3.98%"},{"$f":"IF([1]项目纳统比对表!D29=\"否\",\"未纳统\",IF([1]项目纳统比对表!F29=\"否\",\"不足500万元\",\"\"))","v":"未纳统"},null,{"v":23.4,"d":"23.40"}]
[27,{"$f":"[1]苏州工业园区工业企业技术改造经济效益表!B30","v":"高德（苏州）电子有限公司"},{"$f":"[1]苏州工业园区工业企业技术改造经济效益表!C30","v":"91320594608207413D"},{"$f":"[1]经济效益!N30","v":{"v":42.7047162158255,"d":"42.70"}},{"$f":"[1]智能化效益!R30","v":90},{"$f":"IF([1]综合素质认定!O30>10,10,[1]综合素质认定!O30)","v":1},0,0,0,{"v":48.8933013510779,"d":"48.89"},{"$f":"IF(J30<[1]奖补比例!$D$2,\"D\",IF(J30<[1]奖补比例!$C$2,\"C\",IF(J30<[1]奖补比例!$B$2,\"B\",\"A\")))","v":"D"},{"$f":"[1]苏州工业园区工业企业技术改造经济效益表!AJ30","v":761.12},{"$f":"[1]苏州工业园区工业企业技术改造经济效益表!AM30","v":0},{"$f":"IF([1]苏州工业园区工业企业技术改造经济效益表!AN30>=0.7,[1]苏州工业园区工业企业技术改造经济效益表!AM30,0)","v":0},{"$f":"IF(IF(K30=\"A\",[1]苏州工业园区工业企业技术改造经济效益表!AJ30*[1]奖补比例!$B$3+N30*[1]奖补比例!$B$5,IF(K30=\"B\",[1]苏州工业园区工业企业技术改造经济效益表!AJ30*[1]奖补比例!$C$3+N30*[1]奖补比例!$C$5,IF(K30=\"C\",[1]苏州工业园区工业企业技术改造经济效益表!AJ30*[1]奖补比例!$D$3+N30*[1]奖补比例!$D$5,[1]苏州工业园区工业企业技术改造经济效益表!AJ30*[1]奖补比例!$E$3+N30*[1]奖补比例!$E$5)))*[1]奖补比例!$G$2>1000,1000,IF(K30=\"A\",[1]苏州工业园区工业企业技术改造经济效益表!AJ30*[1]奖补比例!$B$3+N30*[1]奖补比例!$B$5,IF(K30=\"B\",[1]苏州工业园区工业企业技术改造经济效益表!AJ30*[1]奖补比例!$C$3+N30*[1]奖补比例!$C$5,IF(K30=\"C\",[1]苏州工业园区工业企业技术改造经济效益表!AJ30*[1]奖补比例!$D$3+N30*[1]奖补比例!$D$5,[1]苏州工业园区工业企业技术改造经济效益表!AJ30*[1]奖补比例!$E$3+N30*[1]奖补比例!$E$5)))*[1]奖补比例!$G$2)","v":{"v":18.1805233248,"d":"18.18"}},0,0,0,{"$f":"[1]【扣减】人工智能奖补!F29","v":0},0,{"$f":"[1]【扣减】投促委!F29","v":0},{"v":18.1805233248,"d":"18.18"},18.18,{"v":0.02388654,"d":"2.39%"},{"$f":"IF([1]项目纳统比对表!D30=\"否\",\"未纳统\",IF([1]项目纳统比对表!F30=\"否\",\"不足500万元\",\"\"))","v":"未纳统"},null,18.18]
[28,{"$f":"[1]苏州工业园区工业企业技术改造经济效益表!B31","v":"格里森齿轮科技（苏州）有限责任公司"},{"$f":"[1]苏州工业园区工业企业技术改造经济效益表!C31","v":"913205947933405737"},{"$f":"[1]经济效益!N31","v":42},{"$f":"[1]智能化效益!R31","v":92},{"$f":"IF([1]综合素质认定!O31>10,10,[1]综合素质认定!O31)","v":1},0,0,0,{"v":48.8,"d":"48.80"},{"$f":"IF(J31<[1]奖补比例!$D$2,\"D\",IF(J31<[1]奖补比例!$C$2,\"C\",IF(J31<[1]奖补比例!$B$2,\"B\",\"A\")))","v":"D"},{"$f":"[1]苏州工业园区工业企业技术改造经济效益表!AJ31","v":2120.42},{"$f":"[1]苏州工业园区工业企业技术改造经济效益表!AM31","v":0},{"$f":"IF([1]苏州工业园区工业企业技术改造经济效益表!AN31>=0.7,[1]苏州工业园区工业企业技术改造经济效益表!AM31,0)","v":0},{"$f":"IF(IF(K31=\"A\",[1]苏州工业园区工业企业技术改造经济效益表!AJ31*[1]奖补比例!$B$3+N31*[1]奖补比例!$B$5,IF(K31=\"B\",[1]苏州工业园区工业企业技术改造经济效益表!AJ31*[1]奖补比例!$C$3+N31*[1]奖补比例!$C$5,IF(K31=\"C\",[1]苏州工业园区工业企业技术改造经济效益表!AJ31*[1]奖补比例!$D$3+N31*[1]奖补比例!$D$5,[1]苏州工业园区工业企业技术改造经济效益表!AJ31*[1]奖补比例!$E$3+N31*[1]奖补比例!$E$5)))*[1]奖补比例!$G$2>1000,1000,IF(K31=\"A\",[1]苏州工业园区工业企业技术改造经济效益表!AJ31*[1]奖补比例!$B$3+N31*[1]奖补比例!$B$5,IF(K31=\"B\",[1]苏州工业园区工业企业技术改造经济效益表!AJ31*[1]奖补比例!$C$3+N31*[1]奖补比例!$C$5,IF(K31=\"C\",[1]苏州工业园区工业企业技术改造经济效益表!AJ31*[1]奖补比例!$D$3+N31*[1]奖补比例!$D$5,[1]苏州工业园区工业企业技术改造经济效益表!AJ31*[1]奖补比例!$E$3+N31*[1]奖补比例!$E$5)))*[1]奖补比例!$G$2)","v":{"v":50.6494971468,"d":"50.65"}},{"$f":"VLOOKUP(B31,[1]【扣减】省技改综合奖补!$C$2:$E$59,3,0)/10000","v":15},0,0,{"$f":"[1]【扣减】人工智能奖补!F30","v":0},0,{"$f":"[1]【扣减】投促委!F30","v":0},{"v":35.6494971468,"d":"35.65"},35.65,{"v":0.02388654,"d":"2.39%"},{"$f":"IF([1]项目纳统比对表!D31=\"否\",\"未纳统\",IF([1]项目纳统比对表!F31=\"否\",\"不足500万元\",\"\"))","v":""},null,35.65]
[29,{"$f":"[1]苏州工业园区工业企业技术改造经济效益表!B32","v":"广濑电机（苏州）有限公司"},{"$f":"[1]苏州工业园区工业企业技术改造经济效益表!C32","v":"91320594662732286R"},{"$f":"[1]经济效益!N32","v":81},{"$f":"[1]智能化效益!R32","v":{"v":88.716,"d":"88.72"}},{"$f":"IF([1]综合素质认定!O32>10,10,[1]综合素质认定!O32)","v":0},0,0,0,{"v":74.4432,"d":"74.44"},{"$f":"IF(J32<[1]奖补比例!$D$2,\"D\",IF(J32<[1]奖补比例!$C$2,\"C\",IF(J32<[1]奖补比例!$B$2,\"B\",\"A\")))","v":"B"},{"$f":"[1]苏州工业园区工业企业技术改造经济效益表!AJ32","v":1364},{"$f":"[1]苏州工业园区工业企业技术改造经济效益表!AM32","v":62.98},{"$f":"IF([1]苏州工业园区工业企业技术改造经济效益表!AN32>=0.7,[1]苏州工业园区工业企业技术改造经济效益表!AM32,0)","v":0},{"$f":"IF(IF(K32=\"A\",[1]苏州工业园区工业企业技术改造经济效益表!AJ32*[1]奖补比例!$B$3+N32*[1]奖补比例!$B$5,IF(K32=\"B\",[1]苏州工业园区工业企业技术改造经济效益表!AJ32*[1]奖补比例!$C$3+N32*[1]奖补比例!$C$5,IF(K32=\"C\",[1]苏州工业园区工业企业技术改造经济效益表!AJ32*[1]奖补比例!$D$3+N32*[1]奖补比例!$D$5,[1]苏州工业园区工业企业技术改造经济效益表!AJ32*[1]奖补比例!$E$3+N32*[1]奖补比例!$E$5)))*[1]奖补比例!$G$2>1000,1000,IF(K32=\"A\",[1]苏州工业园区工业企业技术改造经济效益表!AJ32*[1]奖补比例!$B$3+N32*[1]奖补比例!$B$5,IF(K32=\"B\",[1]苏州工业园区工业企业技术改造经济效益表!AJ32*[1]奖补比例!$C$3+N32*[1]奖补比例!$C$5,IF(K32=\"C\",[1]苏州工业园区工业企业技术改造经济效益表!AJ32*[1]奖补比例!$D$3+N32*[1]奖补比例!$D$5,[1]苏州工业园区工业企业技术改造经济效益表!AJ32*[1]奖补比例!$E$3+N32*[1]奖补比例!$E$5)))*[1]奖补比例!$G$2)","v":{"v":86.88330816,"d":"86.88"}},0,0,0,{"$f":"[1]【扣减】人工智能奖补!F31","v":0},0,{"$f":"[1]【扣减】投促委!F31","v":0},{"v":86.88330816,"d":"86.88"},86.88,{"v":0.06369744,"d":"6.37%"},{"$f":"IF([1]项目纳统比对表!D32=\"否\",\"未纳统\",IF([1]项目纳统比对表!F32=\"否\",\"不足500万元\",\"\"))","v":""},null,86.88]
[30,{"$f":"[1]苏州工业园区工业企业技术改造经济效益表!B33","v":"豪梅特航空机件(苏州)有限公司"},{"$f":"[1]苏州工业园区工业企业技术改造经济效益表!C33","v":"91320594762849502E"},{"$f":"[1]经济效益!N33","v":{"v":51.7683716696381,"d":"51.77"}},{"$f":"[1]智能化效益!R33","v":{"v":88.0629,"d":"88.06"}},{"$f":"IF([1]综合素质认定!O33>10,10,[1]综合素质认定!O33)","v":1},0,0,0,{"v":54.8504401687467,"d":"54.85"},{"$f":"IF(J33<[1]奖补比例!$D$2,\"D\",IF(J33<[1]奖补比例!$C$2,\"C\",IF(J33<[1]奖补比例!$B$2,\"B\",\"A\")))","v":"C"},{"$f":"[1]苏州工业园区工业企业技术改造经济效益表!AJ33","v":5816.19},{"$f":"[1]苏州工业园区工业企业技术改造经济效益表!AM33","v":103.2},{"$f":"IF([1]苏州工业园区工业企业技术改造经济效益表!AN33>=0.7,[1]苏州工业园区工业企业技术改造经济效益表!AM33,0)","v":0},{"$f":"IF(IF(K33=\"A\",[1]苏州工业园区工业企业技术改造经济效益表!AJ33*[1]奖补比例!$B$3+N33*[1]奖补比例!$B$5,IF(K33=\"B\",[1]苏州工业园区工业企业技术改造经济效益表!AJ33*[1]奖补比例!$C$3+N33*[1]奖补比例!$C$5,IF(K33=\"C\",[1]苏州工业园区工业企业技术改造经济效益表!AJ33*[1]奖补比例!$D$3+N33*[1]奖补比例!$D$5,[1]苏州工业园区工业企业技术改造经济效益表!AJ33*[1]奖补比例!$E$3+N33*[1]奖补比例!$E$5)))*[1]奖补比例!$G$2>1000,1000,IF(K33=\"A\",[1]苏州工业园区工业企业技术改造经济效益表!AJ33*[1]奖补比例!$B$3+N33*[1]奖补比例!$B$5,IF(K33=\"B\",[1]苏州工业园区工业企业技术改造经济效益表!AJ33*[1]奖补比例!$C$3+N33*[1]奖补比例!$C$5,IF(K33=\"C\",[1]苏州工业园区工业企业技术改造经济效益表!AJ33*[1]奖补比例!$D$3+N33*[1]奖补比例!$D$5,[1]苏州工业园区工业企业技术改造经济效益表!AJ33*[1]奖补比例!$E$3+N33*[1]奖补比例!$E$5)))*[1]奖补比例!$G$2)","v":{"v":231.547758471,"d":"231.55"}},{"$f":"VLOOKUP(B33,[1]【扣减】省技改综合奖补!$C$2:$E$59,3,0)/10000","v":32},0,0,{"$f":"[1]【扣减】人工智能奖补!F32","v":0},0,{"$f":"[1]【扣减】投促委!F32","v":0},{"v":199.547758471,"d":"199.55"},199.55,{"v":0.0398109,"d":"3.98%"},{"$f":"IF([1]项目纳统比对表!D33=\"否\",\"未纳统\",IF([1]项目纳统比对表!F33=\"否\",\"不足500万元\",\"\"))","v":"未纳统"},null,199.55]
[31,{"$f":"[1]苏州工业园区工业企业技术改造经济效益表!B34","v":"和铂医药（苏州）有限公司"},{"$f":"[1]苏州工业园区工业企业技术改造经济效益表!C34","v":"91320594MA1X67BM08"},{"$f":"[1]经济效益!N34","v":64},{"$f":"[1]智能化效益!R34","v":88.98},{"$f":"IF([1]综合素质认定!O34>10,10,[1]综合素质认定!O34)","v":0},0,0,0,{"v":62.596,"d":"62.60"},{"$f":"IF(J34<[1]奖补比例!$D$2,\"D\",IF(J34<[1]奖补比例!$C$2,\"C\",IF(J34<[1]奖补比例!$B$2,\"B\",\"A\")))","v":"B"},{"$f":"[1]苏州工业园区工业企业技术改造经济效益表!AJ34","v":{"v":1e-6,"d":"0"}},{"$f":"[1]苏州工业园区工业企业技术改造经济效益表!AM34","v":0},{"$f":"IF([1]苏州工业园区工业企业技术改造经济效益表!AN34>=0.7,[1]苏州工业园区工业企业技术改造经济效益表!AM34,0)","v":0},{"$f":"IF(IF(K34=\"A\",[1]苏州工业园区工业企业技术改造经济效益表!AJ34*[1]奖补比例!$B$3+N34*[1]奖补比例!$B$5,IF(K34=\"B\",[1]苏州工业园区工业企业技术改造经济效益表!AJ34*[1]奖补比例!$C$3+N34*[1]奖补比例!$C$5,IF(K34=\"C\",[1]苏州工业园区工业企业技术改造经济效益表!AJ34*[1]奖补比例!$D$3+N34*[1]奖补比例!$D$5,[1]苏州工业园区工业企业技术改造经济效益表!AJ34*[1]奖补比例!$E$3+N34*[1]奖补比例!$E$5)))*[1]奖补比例!$G$2>1000,1000,IF(K34=\"A\",[1]苏州工业园区工业企业技术改造经济效益表!AJ34*[1]奖补比例!$B$3+N34*[1]奖补比例!$B$5,IF(K34=\"B\",[1]苏州工业园区工业企业技术改造经济效益表!AJ34*[1]奖补比例!$C$3+N34*[1]奖补比例!$C$5,IF(K34=\"C\",[1]苏州工业园区工业企业技术改造经济效益表!AJ34*[1]奖补比例!$D$3+N34*[1]奖补比例!$D$5,[1]苏州工业园区工业企业技术改造经济效益表!AJ34*[1]奖补比例!$E$3+N34*[1]奖补比例!$E$5)))*[1]奖补比例!$G$2)","v":{"v":6.369744e-8,"d":"0"}},0,0,0,{"$f":"[1]【扣减】人工智能奖补!F33","v":0},0,{"$f":"[1]【扣减】投促委!F33","v":0},0,{"v":0,"d":"0.00"},{"v":0,"d":"0.00%"},{"$f":"IF([1]项目纳统比对表!D34=\"否\",\"未纳统\",IF([1]项目纳统比对表!F34=\"否\",\"不足500万元\",\"\"))","v":"未纳统"},"未通过",{"v":0,"d":"0.00"}]
[32,{"$f":"[1]苏州工业园区工业企业技术改造经济效益表!B35","v":"横河电机（苏州）有限公司"},{"$f":"[1]苏州工业园区工业企业技术改造经济效益表!C35","v":"91320594742473229J"},{"$f":"[1]经济效益!N35","v":{"v":40.1258895166453,"d":"40.13"}},{"$f":"[1]智能化效益!R35","v":{"v":81.701,"d":"81.70"}},{"$f":"IF([1]综合素质认定!O35>10,10,[1]综合素质认定!O35)","v":2},0,0,0,{"v":46.4283226616517,"d":"46.43"},{"$f":"IF(J35<[1]奖补比例!$D$2,\"D\",IF(J35<[1]奖补比例!$C$2,\"C\",IF(J35<[1]奖补比例!$B$2,\"B\",\"A\")))","v":"D"},{"$f":"[1]苏州工业园区工业企业技术改造经济效益表!AJ35","v":692.45},{"$f":"[1]苏州工业园区工业企业技术改造经济效益表!AM35","v":14},{"$f":"IF([1]苏州工业园区工业企业技术改造经济效益表!AN35>=0.7,[1]苏州工业园区工业企业技术改造经济效益表!AM35,0)","v":0},{"$f":"IF(IF(K35=\"A\",[1]苏州工业园区工业企业技术改造经济效益表!AJ35*[1]奖补比例!$B$3+N35*[1]奖补比例!$B$5,IF(K35=\"B\",[1]苏州工业园区工业企业技术改造经济效益表!AJ35*[1]奖补比例!$C$3+N35*[1]奖补比例!$C$5,IF(K35=\"C\",[1]苏州工业园区工业企业技术改造经济效益表!AJ35*[1]奖补比例!$D$3+N35*[1]奖补比例!$D$5,[1]苏州工业园区工业企业技术改造经济效益表!AJ35*[1]奖补比例!$E$3+N35*[1]奖补比例!$E$5)))*[1]奖补比例!$G$2>1000,1000,IF(K35=\"A\",[1]苏州工业园区工业企业技术改造经济效益表!AJ35*[1]奖补比例!$B$3+N35*[1]奖补比例!$B$5,IF(K35=\"B\",[1]苏州工业园区工业企业技术改造经济效益表!AJ35*[1]奖补比例!$C$3+N35*[1]奖补比例!$C$5,IF(K35=\"C\",[1]苏州工业园区工业企业技术改造经济效益表!AJ35*[1]奖补比例!$D$3+N35*[1]奖补比例!$D$5,[1]苏州工业园区工业企业技术改造经济效益表!AJ35*[1]奖补比例!$E$3+N35*[1]奖补比例!$E$5)))*[1]奖补比例!$G$2)","v":{"v":16.540234623,"d":"16.54"}},0,0,0,{"$f":"[1]【扣减】人工智能奖补!F34","v":0},0,{"$f":"[1]【扣减】投促委!F34","v":0},{"v":16.540234623,"d":"16.54"},16.54,{"$f":"O35/L35","v":{"v":0.02388654,"d":"2.39%"}},{"$f":"IF([1]项目纳统比对表!D35=\"否\",\"未纳统\",IF([1]项目纳统比对表!F35=\"否\",\"不足500万元\",\"\"))","v":""},null,16.54]
[33,{"$f":"[1]苏州工业园区工业企业技术改造经济效益表!B36","v":"宏利科技（苏州）有限公司"},{"$f":"[1]苏州工业园区工业企业技术改造经济效益表!C36","v":"913205947462400518"},{"$f":"[1]经济效益!N36","v":{"v":83.5130640200762,"d":"83.51"}},{"$f":"[1]智能化效益!R36","v":{"v":74.3375,"d":"74.34"}},{"$f":"IF([1]综合素质认定!O36>10,10,[1]综合素质认定!O36)","v":0},0,0,0,{"v":73.3266448140533,"d":"73.33"},{"$f":"IF(J36<[1]奖补比例!$D$2,\"D\",IF(J36<[1]奖补比例!$C$2,\"C\",IF(J36<[1]奖补比例!$B$2,\"B\",\"A\")))","v":"B"},{"$f":"[1]苏州工业园区工业企业技术改造经济效益表!AJ36","v":1195.81},{"$f":"[1]苏州工业园区工业企业技术改造经济效益表!AM36","v":9.74},{"$f":"IF([1]苏州工业园区工业企业技术改造经济效益表!AN36>=0.7,[1]苏州工业园区工业企业技术改造经济效益表!AM36,0)","v":0},{"$f":"IF(IF(K36=\"A\",[1]苏州工业园区工业企业技术改造经济效益表!AJ36*[1]奖补比例!$B$3+N36*[1]奖补比例!$B$5,IF(K36=\"B\",[1]苏州工业园区工业企业技术改造经济效益表!AJ36*[1]奖补比例!$C$3+N36*[1]奖补比例!$C$5,IF(K36=\"C\",[1]苏州工业园区工业企业技术改造经济效益表!AJ36*[1]奖补比例!$D$3+N36*[1]奖补比例!$D$5,[1]苏州工业园区工业企业技术改造经济效益表!AJ36*[1]奖补比例!$E$3+N36*[1]奖补比例!$E$5)))*[1]奖补比例!$G$2>1000,1000,IF(K36=\"A\",[1]苏州工业园区工业企业技术改造经济效益表!AJ36*[1]奖补比例!$B$3+N36*[1]奖补比例!$B$5,IF(K36=\"B\",[1]苏州工业园区工业企业技术改造经济效益表!AJ36*[1]奖补比例!$C$3+N36*[1]奖补比例!$C$5,IF(K36=\"C\",[1]苏州工业园区工业企业技术改造经济效益表!AJ36*[1]奖补比例!$D$3+N36*[1]奖补比例!$D$5,[1]苏州工业园区工业企业技术改造经济效益表!AJ36*[1]奖补比例!$E$3+N36*[1]奖补比例!$E$5)))*[1]奖补比例!$G$2)","v":{"v":76.1700357264,"d":"76.17"}},0,0,0,{"$f":"[1]【扣减】人工智能奖补!F35","v":0},0,{"$f":"[1]【扣减】投促委!F35","v":0},{"v":76.1700357264,"d":"76.17"},76.17,{"v":0.06369744,"d":"6.37%"},{"$f":"IF([1]项目纳统比对表!D36=\"否\",\"未纳统\",IF([1]项目纳统比对表!F36=\"否\",\"不足500万元\",\"\"))","v":"未纳统"},null,76.17]
[34,{"$f":"[1]苏州工业园区工业企业技术改造经济效益表!B37","v":"基美电子（苏州）有限公司"},{"$f":"[1]苏州工业园区工业企业技术改造经济效益表!C37","v":"91320594746239755M"},{"$f":"[1]经济效益!N37","v":{"v":92.5040140410032,"d":"92.50"}},{"$f":"[1]智能化效益!R37","v":{"v":91.6144,"d":"91.61"}},{"$f":"IF([1]综合素质认定!O37>10,10,[1]综合素质认定!O37)","v":1},0,0,0,{"v":84.0756898287022,"d":"84.08"},{"$f":"IF(J37<[1]奖补比例!$D$2,\"D\",IF(J37<[1]奖补比例!$C$2,\"C\",IF(J37<[1]奖补比例!$B$2,\"B\",\"A\")))","v":"A"},{"$f":"[1]苏州工业园区工业企业技术改造经济效益表!AJ37","v":5387.89},{"$f":"[1]苏州工业园区工业企业技术改造经济效益表!AM37","v":0},{"$f":"IF([1]苏州工业园区工业企业技术改造经济效益表!AN37>=0.7,[1]苏州工业园区工业企业技术改造经济效益表!AM37,0)","v":0},{"$f":"IF(IF(K37=\"A\",[1]苏州工业园区工业企业技术改造经济效益表!AJ37*[1]奖补比例!$B$3+N37*[1]奖补比例!$B$5,IF(K37=\"B\",[1]苏州工业园区工业企业技术改造经济效益表!AJ37*[1]奖补比例!$C$3+N37*[1]奖补比例!$C$5,IF(K37=\"C\",[1]苏州工业园区工业企业技术改造经济效益表!AJ37*[1]奖补比例!$D$3+N37*[1]奖补比例!$D$5,[1]苏州工业园区工业企业技术改造经济效益表!AJ37*[1]奖补比例!$E$3+N37*[1]奖补比例!$E$5)))*[1]奖补比例!$G$2>1000,1000,IF(K37=\"A\",[1]苏州工业园区工业企业技术改造经济效益表!AJ37*[1]奖补比例!$B$3+N37*[1]奖补比例!$B$5,IF(K37=\"B\",[1]苏州工业园区工业企业技术改造经济效益表!AJ37*[1]奖补比例!$C$3+N37*[1]奖补比例!$C$5,IF(K37=\"C\",[1]苏州工业园区工业企业技术改造经济效益表!AJ37*[1]奖补比例!$D$3+N37*[1]奖补比例!$D$5,[1]苏州工业园区工业企业技术改造经济效益表!AJ37*[1]奖补比例!$E$3+N37*[1]奖补比例!$E$5)))*[1]奖补比例!$G$2)","v":{"v":428.993500002,"d":"428.99"}},0,0,0,{"$f":"[1]【扣减】人工智能奖补!F36","v":0},0,{"$f":"[1]【扣减】投促委!F36","v":0},{"v":428.993500002,"d":"428.99"},428.99,{"v":0.0796218,"d":"7.96%"},{"$f":"IF([1]项目纳统比对表!D37=\"否\",\"未纳统\",IF([1]项目纳统比对表!F37=\"否\",\"不足500万元\",\"\"))","v":""},null,428.99]
[35,{"$f":"[1]苏州工业园区工业企业技术改造经济效益表!B38","v":"嘉盛半导体（苏州）有限公司"},{"$f":"[1]苏州工业园区工业企业技术改造经济效益表!C38","v":"91320594735739957U"},{"$f":"[1]经济效益!N38","v":{"v":87.5081683776727,"d":"87.51"}},{"$f":"[1]智能化效益!R38","v":{"v":76.253,"d":"76.25"}},{"$f":"IF([1]综合素质认定!O38>10,10,[1]综合素质认定!O38)","v":6},0,0,0,{"v":82.5063178643709,"d":"82.51"},{"$f":"IF(J38<[1]奖补比例!$D$2,\"D\",IF(J38<[1]奖补比例!$C$2,\"C\",IF(J38<[1]奖补比例!$B$2,\"B\",\"A\")))","v":"A"},{"$f":"[1]苏州工业园区工业企业技术改造经济效益表!AJ38","v":16978.27},{"$f":"[1]苏州工业园区工业企业技术改造经济效益表!AM38","v":{"v":849.2,"d":"849.20"}},{"$f":"IF([1]苏州工业园区工业企业技术改造经济效益表!AN38>=0.7,[1]苏州工业园区工业企业技术改造经济效益表!AM38,0)","v":0},{"$f":"IF(IF(K38=\"A\",[1]苏州工业园区工业企业技术改造经济效益表!AJ38*[1]奖补比例!$B$3+N38*[1]奖补比例!$B$5,IF(K38=\"B\",[1]苏州工业园区工业企业技术改造经济效益表!AJ38*[1]奖补比例!$C$3+N38*[1]奖补比例!$C$5,IF(K38=\"C\",[1]苏州工业园区工业企业技术改造经济效益表!AJ38*[1]奖补比例!$D$3+N38*[1]奖补比例!$D$5,[1]苏州工业园区工业企业技术改造经济效益表!AJ38*[1]奖补比例!$E$3+N38*[1]奖补比例!$E$5)))*[1]奖补比例!$G$2>1000,1000,IF(K38=\"A\",[1]苏州工业园区工业企业技术改造经济效益表!AJ38*[1]奖补比例!$B$3+N38*[1]奖补比例!$B$5,IF(K38=\"B\",[1]苏州工业园区工业企业技术改造经济效益表!AJ38*[1]奖补比例!$C$3+N38*[1]奖补比例!$C$5,IF(K38=\"C\",[1]苏州工业园区工业企业技术改造经济效益表!AJ38*[1]奖补比例!$D$3+N38*[1]奖补比例!$D$5,[1]苏州工业园区工业企业技术改造经济效益表!AJ38*[1]奖补比例!$E$3+N38*[1]奖补比例!$E$5)))*[1]奖补比例!$G$2)","v":1000},{"$f":"VLOOKUP(B38,[1]【扣减】省技改综合奖补!$C$2:$E$59,3,0)/10000","v":56},0,0,{"$f":"[1]【扣减】人工智能奖补!F37","v":0},0,{"$f":"[1]【扣减】投促委!F37","v":0},944,{"v":944,"d":"944.00"},{"v":0.0588988159571028,"d":"5.89%"},{"$f":"IF([1]项目纳统比对表!D38=\"否\",\"未纳统\",IF([1]项目纳统比对表!F38=\"否\",\"不足500万元\",\"\"))","v":""},null,{"v":944,"d":"944.00"}]
[36,{"$f":"[1]苏州工业园区工业企业技术改造经济效益表!B39","v":"江天精密制造科技（苏州）有限公司"},{"$f":"[1]苏州工业园区工业企业技术改造经济效益表!C39","v":"913205945592752836"},{"$f":"[1]经济效益!N39","v":47},{"$f":"[1]智能化效益!R39","v":{"v":89.6616,"d":"89.66"}},{"$f":"IF([1]综合素质认定!O39>10,10,[1]综合素质认定!O39)","v":0},0,0,0,{"v":50.83232,"d":"50.83"},{"$f":"IF(J39<[1]奖补比例!$D$2,\"D\",IF(J39<[1]奖补比例!$C$2,\"C\",IF(J39<[1]奖补比例!$B$2,\"B\",\"A\")))","v":"C"},{"$f":"[1]苏州工业园区工业企业技术改造经济效益表!AJ39","v":2490.58},{"$f":"[1]苏州工业园区工业企业技术改造经济效益表!AM39","v":197.85},{"$f":"IF([1]苏州工业园区工业企业技术改造经济效益表!AN39>=0.7,[1]苏州工业园区工业企业技术改造经济效益表!AM39,0)","v":0},{"$f":"IF(IF(K39=\"A\",[1]苏州工业园区工业企业技术改造经济效益表!AJ39*[1]奖补比例!$B$3+N39*[1]奖补比例!$B$5,IF(K39=\"B\",[1]苏州工业园区工业企业技术改造经济效益表!AJ39*[1]奖补比例!$C$3+N39*[1]奖补比例!$C$5,IF(K39=\"C\",[1]苏州工业园区工业企业技术改造经济效益表!AJ39*[1]奖补比例!$D$3+N39*[1]奖补比例!$D$5,[1]苏州工业园区工业企业技术改造经济效益表!AJ39*[1]奖补比例!$E$3+N39*[1]奖补比例!$E$5)))*[1]奖补比例!$G$2>1000,1000,IF(K39=\"A\",[1]苏州工业园区工业企业技术改造经济效益表!AJ39*[1]奖补比例!$B$3+N39*[1]奖补比例!$B$5,IF(K39=\"B\",[1]苏州工业园区工业企业技术改造经济效益表!AJ39*[1]奖补比例!$C$3+N39*[1]奖补比例!$C$5,IF(K39=\"C\",[1]苏州工业园区工业企业技术改造经济效益表!AJ39*[1]奖补比例!$D$3+N39*[1]奖补比例!$D$5,[1]苏州工业园区工业企业技术改造经济效益表!AJ39*[1]奖补比例!$E$3+N39*[1]奖补比例!$E$5)))*[1]奖补比例!$G$2)","v":{"v":99.152231322,"d":"99.15"}},{"$f":"VLOOKUP(B39,[1]【扣减】省技改综合奖补!$C$2:$E$59,3,0)/10000","v":15},0,0,{"$f":"[1]【扣减】人工智能奖补!F38","v":185},0,{"$f":"[1]【扣减】投促委!F38","v":0},0,{"v":0,"d":"0.00"},{"v":0.0398109,"d":"3.98%"},{"$f":"IF([1]项目纳统比对表!D39=\"否\",\"未纳统\",IF([1]项目纳统比对表!F39=\"否\",\"不足500万元\",\"\"))","v":""},null,{"v":0,"d":"0.00"}]
[37,{"$f":"[1]苏州工业园区工业企业技术改造经济效益表!B40","v":"皆可博（苏州）车辆控制系统有限公司"},{"$f":"[1]苏州工业园区工业企业技术改造经济效益表!C40","v":"91320594673042854G"},{"$f":"[1]经济效益!N40","v":{"v":86.364183089684,"d":"86.36"}},{"$f":"[1]智能化效益!R40","v":70},{"$f":"IF([1]综合素质认定!O40>10,10,[1]综合素质认定!O40)","v":0},0,0,0,{"v":74.4549281627788,"d":"74.45"},{"$f":"IF(J40<[1]奖补比例!$D$2,\"D\",IF(J40<[1]奖补比例!$C$2,\"C\",IF(J40<[1]奖补比例!$B$2,\"B\",\"A\")))","v":"B"},{"$f":"[1]苏州工业园区工业企业技术改造经济效益表!AJ40","v":1626.09},{"$f":"[1]苏州工业园区工业企业技术改造经济效益表!AM40","v":0},{"$f":"IF([1]苏州工业园区工业企业技术改造经济效益表!AN40>=0.7,[1]苏州工业园区工业企业技术改造经济效益表!AM40,0)","v":0},{"$f":"IF(IF(K40=\"A\",[1]苏州工业园区工业企业技术改造经济效益表!AJ40*[1]奖补比例!$B$3+N40*[1]奖补比例!$B$5,IF(K40=\"B\",[1]苏州工业园区工业企业技术改造经济效益表!AJ40*[1]奖补比例!$C$3+N40*[1]奖补比例!$C$5,IF(K40=\"C\",[1]苏州工业园区工业企业技术改造经济效益表!AJ40*[1]奖补比例!$D$3+N40*[1]奖补比例!$D$5,[1]苏州工业园区工业企业技术改造经济效益表!AJ40*[1]奖补比例!$E$3+N40*[1]奖补比例!$E$5)))*[1]奖补比例!$G$2>1000,1000,IF(K40=\"A\",[1]苏州工业园区工业企业技术改造经济效益表!AJ40*[1]奖补比例!$B$3+N40*[1]奖补比例!$B$5,IF(K40=\"B\",[1]苏州工业园区工业企业技术改造经济效益表!AJ40*[1]奖补比例!$C$3+N40*[1]奖补比例!$C$5,IF(K40=\"C\",[1]苏州工业园区工业企业技术改造经济效益表!AJ40*[1]奖补比例!$D$3+N40*[1]奖补比例!$D$5,[1]苏州工业园区工业企业技术改造经济效益表!AJ40*[1]奖补比例!$E$3+N40*[1]奖补比例!$E$5)))*[1]奖补比例!$G$2)","v":{"v":103.5777702096,"d":"103.58"}},{"$f":"VLOOKUP(B40,[1]【扣减】省技改综合奖补!$C$2:$E$59,3,0)/10000","v":15},0,0,{"$f":"[1]【扣减】人工智能奖补!F39","v":0},0,{"$f":"[1]【扣减】投促委!F39","v":0},{"v":88.5777702096,"d":"88.58"},88.58,{"v":0.06369744,"d":"6.37%"},{"$f":"IF([1]项目纳统比对表!D40=\"否\",\"未纳统\",IF([1]项目纳统比对表!F40=\"否\",\"不足500万元\",\"\"))","v":"未纳统"},null,88.58]
[38,{"$f":"[1]苏州工业园区工业企业技术改造经济效益表!B41","v":"杰纬特科技(苏州)有限公司"},{"$f":"[1]苏州工业园区工业企业技术改造经济效益表!C41","v":"91320594MA1TARA07U"},{"$f":"[1]经济效益!N41","v":59},{"$f":"[1]智能化效益!R41","v":80},{"$f":"IF([1]综合素质认定!O41>10,10,[1]综合素质认定!O41)","v":0},0,0,0,{"v":57.3,"d":"57.30"},{"$f":"IF(J41<[1]奖补比例!$D$2,\"D\",IF(J41<[1]奖补比例!$C$2,\"C\",IF(J41<[1]奖补比例!$B$2,\"B\",\"A\")))","v":"C"},{"$f":"[1]苏州工业园区工业企业技术改造经济效益表!AJ41","v":1340.94},{"$f":"[1]苏州工业园区工业企业技术改造经济效益表!AM41","v":0},{"$f":"IF([1]苏州工业园区工业企业技术改造经济效益表!AN41>=0.7,[1]苏州工业园区工业企业技术改造经济效益表!AM41,0)","v":0},{"$f":"IF(IF(K41=\"A\",[1]苏州工业园区工业企业技术改造经济效益表!AJ41*[1]奖补比例!$B$3+N41*[1]奖补比例!$B$5,IF(K41=\"B\",[1]苏州工业园区工业企业技术改造经济效益表!AJ41*[1]奖补比例!$C$3+N41*[1]奖补比例!$C$5,IF(K41=\"C\",[1]苏州工业园区工业企业技术改造经济效益表!AJ41*[1]奖补比例!$D$3+N41*[1]奖补比例!$D$5,[1]苏州工业园区工业企业技术改造经济效益表!AJ41*[1]奖补比例!$E$3+N41*[1]奖补比例!$E$5)))*[1]奖补比例!$G$2>1000,1000,IF(K41=\"A\",[1]苏州工业园区工业企业技术改造经济效益表!AJ41*[1]奖补比例!$B$3+N41*[1]奖补比例!$B$5,IF(K41=\"B\",[1]苏州工业园区工业企业技术改造经济效益表!AJ41*[1]奖补比例!$C$3+N41*[1]奖补比例!$C$5,IF(K41=\"C\",[1]苏州工业园区工业企业技术改造经济效益表!AJ41*[1]奖补比例!$D$3+N41*[1]奖补比例!$D$5,[1]苏州工业园区工业企业技术改造经济效益表!AJ41*[1]奖补比例!$E$3+N41*[1]奖补比例!$E$5)))*[1]奖补比例!$G$2)","v":{"v":53.384028246,"d":"53.38"}},0,0,0,{"$f":"[1]【扣减】人工智能奖补!F40","v":0},0,{"$f":"[1]【扣减】投促委!F40","v":0},{"v":53.384028246,"d":"53.38"},53.38,{"v":0.0398109,"d":"3.98%"},{"$f":"IF([1]项目纳统比对表!D41=\"否\",\"未纳统\",IF([1]项目纳统比对表!F41=\"否\",\"不足500万元\",\"\"))","v":"未纳统"},null,53.38]
[39,{"$f":"[1]苏州工业园区工业企业技术改造经济效益表!B42","v":"京隆科技（苏州）有限公司"},{"$f":"[1]苏州工业园区工业企业技术改造经济效益表!C42","v":"913205947424732458"},{"$f":"[1]经济效益!N42","v":{"v":93.8675411401533,"d":"93.87"}},{"$f":"[1]智能化效益!R42","v":85},{"$f":"IF([1]综合素质认定!O42>10,10,[1]综合素质认定!O42)","v":7},0,0,0,{"v":89.7072787981073,"d":"89.71"},{"$f":"IF(J42<[1]奖补比例!$D$2,\"D\",IF(J42<[1]奖补比例!$C$2,\"C\",IF(J42<[1]奖补比例!$B$2,\"B\",\"A\")))","v":"A"},{"$f":"[1]苏州工业园区工业企业技术改造经济效益表!AJ42","v":45036.7374619956},{"$f":"[1]苏州工业园区工业企业技术改造经济效益表!AM42","v":180.03},{"$f":"IF([1]苏州工业园区工业企业技术改造经济效益表!AN42>=0.7,[1]苏州工业园区工业企业技术改造经济效益表!AM42,0)","v":0},{"$f":"IF(IF(K42=\"A\",[1]苏州工业园区工业企业技术改造经济效益表!AJ42*[1]奖补比例!$B$3+N42*[1]奖补比例!$B$5,IF(K42=\"B\",[1]苏州工业园区工业企业技术改造经济效益表!AJ42*[1]奖补比例!$C$3+N42*[1]奖补比例!$C$5,IF(K42=\"C\",[1]苏州工业园区工业企业技术改造经济效益表!AJ42*[1]奖补比例!$D$3+N42*[1]奖补比例!$D$5,[1]苏州工业园区工业企业技术改造经济效益表!AJ42*[1]奖补比例!$E$3+N42*[1]奖补比例!$E$5)))*[1]奖补比例!$G$2>1000,1000,IF(K42=\"A\",[1]苏州工业园区工业企业技术改造经济效益表!AJ42*[1]奖补比例!$B$3+N42*[1]奖补比例!$B$5,IF(K42=\"B\",[1]苏州工业园区工业企业技术改造经济效益表!AJ42*[1]奖补比例!$C$3+N42*[1]奖补比例!$C$5,IF(K42=\"C\",[1]苏州工业园区工业企业技术改造经济效益表!AJ42*[1]奖补比例!$D$3+N42*[1]奖补比例!$D$5,[1]苏州工业园区工业企业技术改造经济效益表!AJ42*[1]奖补比例!$E$3+N42*[1]奖补比例!$E$5)))*[1]奖补比例!$G$2)","v":1000},{"$f":"VLOOKUP(B42,[1]【扣减】省技改综合奖补!$C$2:$E$59,3,0)/10000","v":148},0,{"$f":"VLOOKUP(B42,[1]【扣减】节能改造项目奖补!$B$2:$C$23,2,0)","v":35},{"$f":"[1]【扣减】人工智能奖补!F41","v":0},0,{"$f":"[1]【扣减】投促委!F41","v":0},817,{"v":817,"d":"817.00"},{"v":0.022204095064476,"d":"2.22%"},{"$f":"IF([1]项目纳统比对表!D42=\"否\",\"未纳统\",IF([1]项目纳统比对表!F42=\"否\",\"不足500万元\",\"\"))","v":""},null,{"v":817,"d":"817.00"}]
[40,{"$f":"[1]苏州工业园区工业企业技术改造经济效益表!B43","v":"久保田农业机械（苏州）有限公司"},{"$f":"[1]苏州工业园区工业企业技术改造经济效益表!C43","v":"91320594608208459B"},{"$f":"[1]经济效益!N43","v":{"v":63.1122529272381,"d":"63.11"}},{"$f":"[1]智能化效益!R43","v":89.62},{"$f":"IF([1]综合素质认定!O43>10,10,[1]综合素质认定!O43)","v":1},0,0,0,{"v":63.1025770490667,"d":"63.10"},{"$f":"IF(J43<[1]奖补比例!$D$2,\"D\",IF(J43<[1]奖补比例!$C$2,\"C\",IF(J43<[1]奖补比例!$B$2,\"B\",\"A\")))","v":"B"},{"$f":"[1]苏州工业园区工业企业技术改造经济效益表!AJ43","v":869.58},{"$f":"[1]苏州工业园区工业企业技术改造经济效益表!AM43","v":194.61},{"$f":"IF([1]苏州工业园区工业企业技术改造经济效益表!AN43>=0.7,[1]苏州工业园区工业企业技术改造经济效益表!AM43,0)","v":0},{"$f":"IF(IF(K43=\"A\",[1]苏州工业园区工业企业技术改造经济效益表!AJ43*[1]奖补比例!$B$3+N43*[1]奖补比例!$B$5,IF(K43=\"B\",[1]苏州工业园区工业企业技术改造经济效益表!AJ43*[1]奖补比例!$C$3+N43*[1]奖补比例!$C$5,IF(K43=\"C\",[1]苏州工业园区工业企业技术改造经济效益表!AJ43*[1]奖补比例!$D$3+N43*[1]奖补比例!$D$5,[1]苏州工业园区工业企业技术改造经济效益表!AJ43*[1]奖补比例!$E$3+N43*[1]奖补比例!$E$5)))*[1]奖补比例!$G$2>1000,1000,IF(K43=\"A\",[1]苏州工业园区工业企业技术改造经济效益表!AJ43*[1]奖补比例!$B$3+N43*[1]奖补比例!$B$5,IF(K43=\"B\",[1]苏州工业园区工业企业技术改造经济效益表!AJ43*[1]奖补比例!$C$3+N43*[1]奖补比例!$C$5,IF(K43=\"C\",[1]苏州工业园区工业企业技术改造经济效益表!AJ43*[1]奖补比例!$D$3+N43*[1]奖补比例!$D$5,[1]苏州工业园区工业企业技术改造经济效益表!AJ43*[1]奖补比例!$E$3+N43*[1]奖补比例!$E$5)))*[1]奖补比例!$G$2)","v":{"v":55.3900198752,"d":"55.39"}},0,0,0,{"$f":"[1]【扣减】人工智能奖补!F42","v":0},0,{"$f":"[1]【扣减】投促委!F42","v":0},{"v":55.3900198752,"d":"55.39"},55.39,{"v":0.06369744,"d":"6.37%"},{"$f":"IF([1]项目纳统比对表!D43=\"否\",\"未纳统\",IF([1]项目纳统比对表!F43=\"否\",\"不足500万元\",\"\"))","v":""},null,55.39]
[41,{"$f":"[1]苏州工业园区工业企业技术改造经济效益表!B44","v":"康德瑞恩电磁科技（中国）有限公司"},{"$f":"[1]苏州工业园区工业企业技术改造经济效益表!C44","v":"91320594773759510N"},{"$f":"[1]经济效益!N44","v":{"v":63.3802097928355,"d":"63.38"}},{"$f":"[1]智能化效益!R44","v":{"v":89.9805,"d":"89.98"}},{"$f":"IF([1]综合素质认定!O44>10,10,[1]综合素质认定!O44)","v":0},0,0,0,{"v":62.3622468549848,"d":"62.36"},{"$f":"IF(J44<[1]奖补比例!$D$2,\"D\",IF(J44<[1]奖补比例!$C$2,\"C\",IF(J44<[1]奖补比例!$B$2,\"B\",\"A\")))","v":"B"},{"$f":"[1]苏州工业园区工业企业技术改造经济效益表!AJ44","v":2279.11},{"$f":"[1]苏州工业园区工业企业技术改造经济效益表!AM44","v":0},{"$f":"IF([1]苏州工业园区工业企业技术改造经济效益表!AN44>=0.7,[1]苏州工业园区工业企业技术改造经济效益表!AM44,0)","v":0},{"$f":"IF(IF(K44=\"A\",[1]苏州工业园区工业企业技术改造经济效益表!AJ44*[1]奖补比例!$B$3+N44*[1]奖补比例!$B$5,IF(K44=\"B\",[1]苏州工业园区工业企业技术改造经济效益表!AJ44*[1]奖补比例!$C$3+N44*[1]奖补比例!$C$5,IF(K44=\"C\",[1]苏州工业园区工业企业技术改造经济效益表!AJ44*[1]奖补比例!$D$3+N44*[1]奖补比例!$D$5,[1]苏州工业园区工业企业技术改造经济效益表!AJ44*[1]奖补比例!$E$3+N44*[1]奖补比例!$E$5)))*[1]奖补比例!$G$2>1000,1000,IF(K44=\"A\",[1]苏州工业园区工业企业技术改造经济效益表!AJ44*[1]奖补比例!$B$3+N44*[1]奖补比例!$B$5,IF(K44=\"B\",[1]苏州工业园区工业企业技术改造经济效益表!AJ44*[1]奖补比例!$C$3+N44*[1]奖补比例!$C$5,IF(K44=\"C\",[1]苏州工业园区工业企业技术改造经济效益表!AJ44*[1]奖补比例!$D$3+N44*[1]奖补比例!$D$5,[1]苏州工业园区工业企业技术改造经济效益表!AJ44*[1]奖补比例!$E$3+N44*[1]奖补比例!$E$5)))*[1]奖补比例!$G$2)","v":{"v":145.1734724784,"d":"145.17"}},{"$f":"VLOOKUP(B44,[1]【扣减】省技改综合奖补!$C$2:$E$59,3,0)/10000","v":15},0,0,{"$f":"[1]【扣减】人工智能奖补!F43","v":0},0,{"$f":"[1]【扣减】投促委!F43","v":127},{"v":3.17347247839999,"d":"3.17"},3.17,{"v":0.06369744,"d":"6.37%"},{"$f":"IF([1]项目纳统比对表!D44=\"否\",\"未纳统\",IF([1]项目纳统比对表!F44=\"否\",\"不足500万元\",\"\"))","v":"未纳统"},null,3.17]
[42,{"$f":"[1]苏州工业园区工业企业技术改造经济效益表!B45","v":"康美包（苏州）有限公司"},{"$f":"[1]苏州工业园区工业企业技术改造经济效益表!C45","v":"913205947382993609"},{"$f":"[1]经济效益!N45","v":{"v":50.0832141533357,"d":"50.08"}},{"$f":"[1]智能化效益!R45","v":80},{"$f":"IF([1]综合素质认定!O45>10,10,[1]综合素质认定!O45)","v":10},0,0,0,{"v":61.058249907335,"d":"61.06"},{"$f":"IF(J45<[1]奖补比例!$D$2,\"D\",IF(J45<[1]奖补比例!$C$2,\"C\",IF(J45<[1]奖补比例!$B$2,\"B\",\"A\")))","v":"B"},{"$f":"[1]苏州工业园区工业企业技术改造经济效益表!AJ45","v":1099.46},{"$f":"[1]苏州工业园区工业企业技术改造经济效益表!AM45","v":0},{"$f":"IF([1]苏州工业园区工业企业技术改造经济效益表!AN45>=0.7,[1]苏州工业园区工业企业技术改造经济效益表!AM45,0)","v":0},{"$f":"IF(IF(K45=\"A\",[1]苏州工业园区工业企业技术改造经济效益表!AJ45*[1]奖补比例!$B$3+N45*[1]奖补比例!$B$5,IF(K45=\"B\",[1]苏州工业园区工业企业技术改造经济效益表!AJ45*[1]奖补比例!$C$3+N45*[1]奖补比例!$C$5,IF(K45=\"C\",[1]苏州工业园区工业企业技术改造经济效益表!AJ45*[1]奖补比例!$D$3+N45*[1]奖补比例!$D$5,[1]苏州工业园区工业企业技术改造经济效益表!AJ45*[1]奖补比例!$E$3+N45*[1]奖补比例!$E$5)))*[1]奖补比例!$G$2>1000,1000,IF(K45=\"A\",[1]苏州工业园区工业企业技术改造经济效益表!AJ45*[1]奖补比例!$B$3+N45*[1]奖补比例!$B$5,IF(K45=\"B\",[1]苏州工业园区工业企业技术改造经济效益表!AJ45*[1]奖补比例!$C$3+N45*[1]奖补比例!$C$5,IF(K45=\"C\",[1]苏州工业园区工业企业技术改造经济效益表!AJ45*[1]奖补比例!$D$3+N45*[1]奖补比例!$D$5,[1]苏州工业园区工业企业技术改造经济效益表!AJ45*[1]奖补比例!$E$3+N45*[1]奖补比例!$E$5)))*[1]奖补比例!$G$2)","v":{"v":70.0327873824,"d":"70.03"}},{"$f":"VLOOKUP(B45,[1]【扣减】省技改综合奖补!$C$2:$E$59,3,0)/10000","v":55},0,{"$f":"VLOOKUP(B45,[1]【扣减】节能改造项目奖补!$B$2:$C$23,2,0)","v":7},{"$f":"[1]【扣减】人工智能奖补!F44","v":151.5},0,{"$f":"[1]【扣减】投促委!F44","v":2000},0,{"v":0,"d":"0.00"},{"v":0.06369744,"d":"6.37%"},{"$f":"IF([1]项目纳统比对表!D45=\"否\",\"未纳统\",IF([1]项目纳统比对表!F45=\"否\",\"不足500万元\",\"\"))","v":"不足500万元"},null,{"v":0,"d":"0.00"}]
[43,{"$f":"[1]苏州工业园区工业企业技术改造经济效益表!B46","v":"库力索法半导体（苏州）有限公司"},{"$f":"[1]苏州工业园区工业企业技术改造经济效益表!C46","v":"91320594735740069N"},{"$f":"[1]经济效益!N46","v":{"v":55.7839433777499,"d":"55.78"}},{"$f":"[1]智能化效益!R46","v":79.04},{"$f":"IF([1]综合素质认定!O46>10,10,[1]综合素质认定!O46)","v":1},0,0,0,{"v":55.8567603644249,"d":"55.86"},{"$f":"IF(J46<[1]奖补比例!$D$2,\"D\",IF(J46<[1]奖补比例!$C$2,\"C\",IF(J46<[1]奖补比例!$B$2,\"B\",\"A\")))","v":"C"},{"$f":"[1]苏州工业园区工业企业技术改造经济效益表!AJ46","v":950.67},{"$f":"[1]苏州工业园区工业企业技术改造经济效益表!AM46","v":50.17},{"$f":"IF([1]苏州工业园区工业企业技术改造经济效益表!AN46>=0.7,[1]苏州工业园区工业企业技术改造经济效益表!AM46,0)","v":0},{"$f":"IF(IF(K46=\"A\",[1]苏州工业园区工业企业技术改造经济效益表!AJ46*[1]奖补比例!$B$3+N46*[1]奖补比例!$B$5,IF(K46=\"B\",[1]苏州工业园区工业企业技术改造经济效益表!AJ46*[1]奖补比例!$C$3+N46*[1]奖补比例!$C$5,IF(K46=\"C\",[1]苏州工业园区工业企业技术改造经济效益表!AJ46*[1]奖补比例!$D$3+N46*[1]奖补比例!$D$5,[1]苏州工业园区工业企业技术改造经济效益表!AJ46*[1]奖补比例!$E$3+N46*[1]奖补比例!$E$5)))*[1]奖补比例!$G$2>1000,1000,IF(K46=\"A\",[1]苏州工业园区工业企业技术改造经济效益表!AJ46*[1]奖补比例!$B$3+N46*[1]奖补比例!$B$5,IF(K46=\"B\",[1]苏州工业园区工业企业技术改造经济效益表!AJ46*[1]奖补比例!$C$3+N46*[1]奖补比例!$C$5,IF(K46=\"C\",[1]苏州工业园区工业企业技术改造经济效益表!AJ46*[1]奖补比例!$D$3+N46*[1]奖补比例!$D$5,[1]苏州工业园区工业企业技术改造经济效益表!AJ46*[1]奖补比例!$E$3+N46*[1]奖补比例!$E$5)))*[1]奖补比例!$G$2)","v":{"v":37.847028303,"d":"37.85"}},0,0,0,{"$f":"[1]【扣减】人工智能奖补!F45","v":0},0,{"$f":"[1]【扣减】投促委!F45","v":0},{"v":37.847028303,"d":"37.85"},37.85,{"v":0.0398109,"d":"3.98%"},{"$f":"IF([1]项目纳统比对表!D46=\"否\",\"未纳统\",IF([1]项目纳统比对表!F46=\"否\",\"不足500万元\",\"\"))","v":""},null,37.85]
[44,{"$f":"[1]苏州工业园区工业企业技术改造经济效益表!B47","v":"快捷半导体（苏州）有限公司"},{"$f":"[1]苏州工业园区工业企业技术改造经济效益表!C47","v":"91320594726665781W"},{"$f":"[1]经济效益!N47","v":{"v":57.775016769932,"d":"57.78"}},{"$f":"[1]智能化效益!R47","v":88},{"$f":"IF([1]综合素质认定!O47>10,10,[1]综合素质认定!O47)","v":1},0,0,0,{"v":59.0425117389524,"d":"59.04"},{"$f":"IF(J47<[1]奖补比例!$D$2,\"D\",IF(J47<[1]奖补比例!$C$2,\"C\",IF(J47<[1]奖补比例!$B$2,\"B\",\"A\")))","v":"C"},{"$f":"[1]苏州工业园区工业企业技术改造经济效益表!AJ47","v":8639.36},{"$f":"[1]苏州工业园区工业企业技术改造经济效益表!AM47","v":691.11},{"$f":"IF([1]苏州工业园区工业企业技术改造经济效益表!AN47>=0.7,[1]苏州工业园区工业企业技术改造经济效益表!AM47,0)","v":0},{"$f":"IF(IF(K47=\"A\",[1]苏州工业园区工业企业技术改造经济效益表!AJ47*[1]奖补比例!$B$3+N47*[1]奖补比例!$B$5,IF(K47=\"B\",[1]苏州工业园区工业企业技术改造经济效益表!AJ47*[1]奖补比例!$C$3+N47*[1]奖补比例!$C$5,IF(K47=\"C\",[1]苏州工业园区工业企业技术改造经济效益表!AJ47*[1]奖补比例!$D$3+N47*[1]奖补比例!$D$5,[1]苏州工业园区工业企业技术改造经济效益表!AJ47*[1]奖补比例!$E$3+N47*[1]奖补比例!$E$5)))*[1]奖补比例!$G$2>1000,1000,IF(K47=\"A\",[1]苏州工业园区工业企业技术改造经济效益表!AJ47*[1]奖补比例!$B$3+N47*[1]奖补比例!$B$5,IF(K47=\"B\",[1]苏州工业园区工业企业技术改造经济效益表!AJ47*[1]奖补比例!$C$3+N47*[1]奖补比例!$C$5,IF(K47=\"C\",[1]苏州工业园区工业企业技术改造经济效益表!AJ47*[1]奖补比例!$D$3+N47*[1]奖补比例!$D$5,[1]苏州工业园区工业企业技术改造经济效益表!AJ47*[1]奖补比例!$E$3+N47*[1]奖补比例!$E$5)))*[1]奖补比例!$G$2)","v":{"v":343.940697024,"d":"343.94"}},0,0,0,{"$f":"[1]【扣减】人工智能奖补!F46","v":0},0,{"$f":"[1]【扣减】投促委!F46","v":0},{"v":343.940697024,"d":"343.94"},343.94,{"v":0.0398109,"d":"3.98%"},{"$f":"IF([1]项目纳统比对表!D47=\"否\",\"未纳统\",IF([1]项目纳统比对表!F47=\"否\",\"不足500万元\",\"\"))","v":""},null,343.94]
[45,{"$f":"[1]苏州工业园区工业企业技术改造经济效益表!B48","v":"乐家洁具（苏州）有限公司"},{"$f":"[1]苏州工业园区工业企业技术改造经济效益表!C48","v":"91320594758957973E"},{"$f":"[1]经济效益!N48","v":{"v":81.8105651988604,"d":"81.81"}},{"$f":"[1]智能化效益!R48","v":{"v":74.9591,"d":"74.96"}},{"$f":"IF([1]综合素质认定!O48>10,10,[1]综合素质认定!O48)","v":0},0,0,0,{"v":72.2592156392023,"d":"72.26"},{"$f":"IF(J48<[1]奖补比例!$D$2,\"D\",IF(J48<[1]奖补比例!$C$2,\"C\",IF(J48<[1]奖补比例!$B$2,\"B\",\"A\")))","v":"B"},{"$f":"[1]苏州工业园区工业企业技术改造经济效益表!AJ48","v":527.21},{"$f":"[1]苏州工业园区工业企业技术改造经济效益表!AM48","v":161.09},{"$f":"IF([1]苏州工业园区工业企业技术改造经济效益表!AN48>=0.7,[1]苏州工业园区工业企业技术改造经济效益表!AM48,0)","v":0},{"$f":"IF(IF(K48=\"A\",[1]苏州工业园区工业企业技术改造经济效益表!AJ48*[1]奖补比例!$B$3+N48*[1]奖补比例!$B$5,IF(K48=\"B\",[1]苏州工业园区工业企业技术改造经济效益表!AJ48*[1]奖补比例!$C$3+N48*[1]奖补比例!$C$5,IF(K48=\"C\",[1]苏州工业园区工业企业技术改造经济效益表!AJ48*[1]奖补比例!$D$3+N48*[1]奖补比例!$D$5,[1]苏州工业园区工业企业技术改造经济效益表!AJ48*[1]奖补比例!$E$3+N48*[1]奖补比例!$E$5)))*[1]奖补比例!$G$2>1000,1000,IF(K48=\"A\",[1]苏州工业园区工业企业技术改造经济效益表!AJ48*[1]奖补比例!$B$3+N48*[1]奖补比例!$B$5,IF(K48=\"B\",[1]苏州工业园区工业企业技术改造经济效益表!AJ48*[1]奖补比例!$C$3+N48*[1]奖补比例!$C$5,IF(K48=\"C\",[1]苏州工业园区工业企业技术改造经济效益表!AJ48*[1]奖补比例!$D$3+N48*[1]奖补比例!$D$5,[1]苏州工业园区工业企业技术改造经济效益表!AJ48*[1]奖补比例!$E$3+N48*[1]奖补比例!$E$5)))*[1]奖补比例!$G$2)","v":{"v":33.5819273424,"d":"33.58"}},0,0,0,{"$f":"[1]【扣减】人工智能奖补!F47","v":0},0,{"$f":"[1]【扣减】投促委!F47","v":0},{"v":33.5819273424,"d":"33.58"},33.58,{"v":0.06369744,"d":"6.37%"},{"$f":"IF([1]项目纳统比对表!D48=\"否\",\"未纳统\",IF([1]项目纳统比对表!F48=\"否\",\"不足500万元\",\"\"))","v":"不足500万元"},null,33.58]
[46,{"$f":"[1]苏州工业园区工业企业技术改造经济效益表!B49","v":"力成科技（苏州）有限公司"},{"$f":"[1]苏州工业园区工业企业技术改造经济效益表!C49","v":"91320594608199396T"},{"$f":"[1]经济效益!N49","v":{"v":63.0161657788086,"d":"63.02"}},{"$f":"[1]智能化效益!R49","v":{"v":81.0214,"d":"81.02"}},{"$f":"IF([1]综合素质认定!O49>10,10,[1]综合素质认定!O49)","v":1},0,0,0,{"v":61.315596045166,"d":"61.32"},{"$f":"IF(J49<[1]奖补比例!$D$2,\"D\",IF(J49<[1]奖补比例!$C$2,\"C\",IF(J49<[1]奖补比例!$B$2,\"B\",\"A\")))","v":"B"},{"$f":"[1]苏州工业园区工业企业技术改造经济效益表!AJ49","v":2947.5},{"$f":"[1]苏州工业园区工业企业技术改造经济效益表!AM49","v":0},{"$f":"IF([1]苏州工业园区工业企业技术改造经济效益表!AN49>=0.7,[1]苏州工业园区工业企业技术改造经济效益表!AM49,0)","v":0},{"$f":"IF(IF(K49=\"A\",[1]苏州工业园区工业企业技术改造经济效益表!AJ49*[1]奖补比例!$B$3+N49*[1]奖补比例!$B$5,IF(K49=\"B\",[1]苏州工业园区工业企业技术改造经济效益表!AJ49*[1]奖补比例!$C$3+N49*[1]奖补比例!$C$5,IF(K49=\"C\",[1]苏州工业园区工业企业技术改造经济效益表!AJ49*[1]奖补比例!$D$3+N49*[1]奖补比例!$D$5,[1]苏州工业园区工业企业技术改造经济效益表!AJ49*[1]奖补比例!$E$3+N49*[1]奖补比例!$E$5)))*[1]奖补比例!$G$2>1000,1000,IF(K49=\"A\",[1]苏州工业园区工业企业技术改造经济效益表!AJ49*[1]奖补比例!$B$3+N49*[1]奖补比例!$B$5,IF(K49=\"B\",[1]苏州工业园区工业企业技术改造经济效益表!AJ49*[1]奖补比例!$C$3+N49*[1]奖补比例!$C$5,IF(K49=\"C\",[1]苏州工业园区工业企业技术改造经济效益表!AJ49*[1]奖补比例!$D$3+N49*[1]奖补比例!$D$5,[1]苏州工业园区工业企业技术改造经济效益表!AJ49*[1]奖补比例!$E$3+N49*[1]奖补比例!$E$5)))*[1]奖补比例!$G$2)","v":{"v":187.7482044,"d":"187.75"}},{"$f":"VLOOKUP(B49,[1]【扣减】省技改综合奖补!$C$2:$E$59,3,0)/10000","v":15},0,0,{"$f":"[1]【扣减】人工智能奖补!F48","v":0},0,{"$f":"[1]【扣减】投促委!F48","v":0},{"v":172.7482044,"d":"172.75"},172.75,{"v":0.06369744,"d":"6.37%"},{"$f":"IF([1]项目纳统比对表!D49=\"否\",\"未纳统\",IF([1]项目纳统比对表!F49=\"否\",\"不足500万元\",\"\"))","v":""},null,172.75]
[47,{"$f":"[1]苏州工业园区工业企业技术改造经济效益表!B50","v":"绿点（苏州）科技有限公司"},{"$f":"[1]苏州工业园区工业企业技术改造经济效益表!C50","v":"913205947174653828"},{"$f":"[1]经济效益!N50","v":68},{"$f":"[1]智能化效益!R50","v":80.1},{"$f":"IF([1]综合素质认定!O50>10,10,[1]综合素质认定!O50)","v":5},0,0,0,68.62,{"$f":"IF(J50<[1]奖补比例!$D$2,\"D\",IF(J50<[1]奖补比例!$C$2,\"C\",IF(J50<[1]奖补比例!$B$2,\"B\",\"A\")))","v":"B"},{"$f":"[1]苏州工业园区工业企业技术改造经济效益表!AJ50","v":5125.32},{"$f":"[1]苏州工业园区工业企业技术改造经济效益表!AM50","v":0},{"$f":"IF([1]苏州工业园区工业企业技术改造经济效益表!AN50>=0.7,[1]苏州工业园区工业企业技术改造经济效益表!AM50,0)","v":0},{"$f":"IF(IF(K50=\"A\",[1]苏州工业园区工业企业技术改造经济效益表!AJ50*[1]奖补比例!$B$3+N50*[1]奖补比例!$B$5,IF(K50=\"B\",[1]苏州工业园区工业企业技术改造经济效益表!AJ50*[1]奖补比例!$C$3+N50*[1]奖补比例!$C$5,IF(K50=\"C\",[1]苏州工业园区工业企业技术改造经济效益表!AJ50*[1]奖补比例!$D$3+N50*[1]奖补比例!$D$5,[1]苏州工业园区工业企业技术改造经济效益表!AJ50*[1]奖补比例!$E$3+N50*[1]奖补比例!$E$5)))*[1]奖补比例!$G$2>1000,1000,IF(K50=\"A\",[1]苏州工业园区工业企业技术改造经济效益表!AJ50*[1]奖补比例!$B$3+N50*[1]奖补比例!$B$5,IF(K50=\"B\",[1]苏州工业园区工业企业技术改造经济效益表!AJ50*[1]奖补比例!$C$3+N50*[1]奖补比例!$C$5,IF(K50=\"C\",[1]苏州工业园区工业企业技术改造经济效益表!AJ50*[1]奖补比例!$D$3+N50*[1]奖补比例!$D$5,[1]苏州工业园区工业企业技术改造经济效益表!AJ50*[1]奖补比例!$E$3+N50*[1]奖补比例!$E$5)))*[1]奖补比例!$G$2)","v":{"v":326.4697631808,"d":"326.47"}},{"$f":"VLOOKUP(B50,[1]【扣减】省技改综合奖补!$C$2:$E$59,3,0)/10000","v":27},0,0,{"$f":"[1]【扣减】人工智能奖补!F49","v":0},0,{"$f":"[1]【扣减】投促委!F49","v":0},{"v":299.4697631808,"d":"299.47"},299.47,{"v":0.06369744,"d":"6.37%"},{"$f":"IF([1]项目纳统比对表!D50=\"否\",\"未纳统\",IF([1]项目纳统比对表!F50=\"否\",\"不足500万元\",\"\"))","v":""},null,299.47]
[48,{"$f":"[1]苏州工业园区工业企业技术改造经济效益表!B51","v":"米巴精密零部件（中国）有限公司"},{"$f":"[1]苏州工业园区工业企业技术改造经济效益表!C51","v":"91320594778676175U"},{"$f":"[1]经济效益!N51","v":{"v":78.7986883067245,"d":"78.80"}},{"$f":"[1]智能化效益!R51","v":{"v":89.5115,"d":"89.51"}},{"$f":"IF([1]综合素质认定!O51>10,10,[1]综合素质认定!O51)","v":7},0,0,0,{"v":80.0613818147071,"d":"80.06"},{"$f":"IF(J51<[1]奖补比例!$D$2,\"D\",IF(J51<[1]奖补比例!$C$2,\"C\",IF(J51<[1]奖补比例!$B$2,\"B\",\"A\")))","v":"A"},{"$f":"[1]苏州工业园区工业企业技术改造经济效益表!AJ51","v":7848.41},{"$f":"[1]苏州工业园区工业企业技术改造经济效益表!AM51","v":82.38},{"$f":"IF([1]苏州工业园区工业企业技术改造经济效益表!AN51>=0.7,[1]苏州工业园区工业企业技术改造经济效益表!AM51,0)","v":0},{"$f":"IF(IF(K51=\"A\",[1]苏州工业园区工业企业技术改造经济效益表!AJ51*[1]奖补比例!$B$3+N51*[1]奖补比例!$B$5,IF(K51=\"B\",[1]苏州工业园区工业企业技术改造经济效益表!AJ51*[1]奖补比例!$C$3+N51*[1]奖补比例!$C$5,IF(K51=\"C\",[1]苏州工业园区工业企业技术改造经济效益表!AJ51*[1]奖补比例!$D$3+N51*[1]奖补比例!$D$5,[1]苏州工业园区工业企业技术改造经济效益表!AJ51*[1]奖补比例!$E$3+N51*[1]奖补比例!$E$5)))*[1]奖补比例!$G$2>1000,1000,IF(K51=\"A\",[1]苏州工业园区工业企业技术改造经济效益表!AJ51*[1]奖补比例!$B$3+N51*[1]奖补比例!$B$5,IF(K51=\"B\",[1]苏州工业园区工业企业技术改造经济效益表!AJ51*[1]奖补比例!$C$3+N51*[1]奖补比例!$C$5,IF(K51=\"C\",[1]苏州工业园区工业企业技术改造经济效益表!AJ51*[1]奖补比例!$D$3+N51*[1]奖补比例!$D$5,[1]苏州工业园区工业企业技术改造经济效益表!AJ51*[1]奖补比例!$E$3+N51*[1]奖补比例!$E$5)))*[1]奖补比例!$G$2)","v":{"v":624.904531338,"d":"624.90"}},{"$f":"VLOOKUP(B51,[1]【扣减】省技改综合奖补!$C$2:$E$59,3,0)/10000","v":35},0,0,{"$f":"[1]【扣减】人工智能奖补!F50","v":0},0,{"$f":"[1]【扣减】投促委!F50","v":0},{"v":589.904531338,"d":"589.90"},{"v":589.9,"d":"589.90"},{"v":0.0796218,"d":"7.96%"},{"$f":"IF([1]项目纳统比对表!D51=\"否\",\"未纳统\",IF([1]项目纳统比对表!F51=\"否\",\"不足500万元\",\"\"))","v":""},null,{"v":589.9,"d":"589.90"}]
[49,{"$f":"[1]苏州工业园区工业企业技术改造经济效益表!B52","v":"摩登纳（中国）自动化设备有限公司"},{"$f":"[1]苏州工业园区工业企业技术改造经济效益表!C52","v":"91320594MA1X0HAH81"},{"$f":"[1]经济效益!N52","v":77},{"$f":"[1]智能化效益!R52","v":{"v":87.977,"d":"87.98"}},{"$f":"IF([1]综合素质认定!O52>10,10,[1]综合素质认定!O52)","v":2},0,0,0,{"v":73.4954,"d":"73.50"},{"$f":"IF(J52<[1]奖补比例!$D$2,\"D\",IF(J52<[1]奖补比例!$C$2,\"C\",IF(J52<[1]奖补比例!$B$2,\"B\",\"A\")))","v":"B"},{"$f":"[1]苏州工业园区工业企业技术改造经济效益表!AJ52","v":6535.38},{"$f":"[1]苏州工业园区工业企业技术改造经济效益表!AM52","v":0},{"$f":"IF([1]苏州工业园区工业企业技术改造经济效益表!AN52>=0.7,[1]苏州工业园区工业企业技术改造经济效益表!AM52,0)","v":0},{"$f":"IF(IF(K52=\"A\",[1]苏州工业园区工业企业技术改造经济效益表!AJ52*[1]奖补比例!$B$3+N52*[1]奖补比例!$B$5,IF(K52=\"B\",[1]苏州工业园区工业企业技术改造经济效益表!AJ52*[1]奖补比例!$C$3+N52*[1]奖补比例!$C$5,IF(K52=\"C\",[1]苏州工业园区工业企业技术改造经济效益表!AJ52*[1]奖补比例!$D$3+N52*[1]奖补比例!$D$5,[1]苏州工业园区工业企业技术改造经济效益表!AJ52*[1]奖补比例!$E$3+N52*[1]奖补比例!$E$5)))*[1]奖补比例!$G$2>1000,1000,IF(K52=\"A\",[1]苏州工业园区工业企业技术改造经济效益表!AJ52*[1]奖补比例!$B$3+N52*[1]奖补比例!$B$5,IF(K52=\"B\",[1]苏州工业园区工业企业技术改造经济效益表!AJ52*[1]奖补比例!$C$3+N52*[1]奖补比例!$C$5,IF(K52=\"C\",[1]苏州工业园区工业企业技术改造经济效益表!AJ52*[1]奖补比例!$D$3+N52*[1]奖补比例!$D$5,[1]苏州工业园区工业企业技术改造经济效益表!AJ52*[1]奖补比例!$E$3+N52*[1]奖补比例!$E$5)))*[1]奖补比例!$G$2)","v":{"v":416.2869754272,"d":"416.29"}},{"$f":"VLOOKUP(B52,[1]【扣减】省技改综合奖补!$C$2:$E$59,3,0)/10000","v":24},0,0,{"$f":"[1]【扣减】人工智能奖补!F51","v":0},0,{"$f":"[1]【扣减】投促委!F51","v":0},{"v":392.2869754272,"d":"392.29"},392.29,{"v":0.06369744,"d":"6.37%"},{"$f":"IF([1]项目纳统比对表!D52=\"否\",\"未纳统\",IF([1]项目纳统比对表!F52=\"否\",\"不足500万元\",\"\"))","v":"未纳统"},null,392.29]
[50,{"$f":"[1]苏州工业园区工业企业技术改造经济效益表!B53","v":"牧东光电科技有限公司"},{"$f":"[1]苏州工业园区工业企业技术改造经济效益表!C53","v":"91320594676364242F"},{"$f":"[1]经济效益!N53","v":{"v":54.4510055920872,"d":"54.45"}},{"$f":"[1]智能化效益!R53","v":{"v":70.6,"d":"70.60"}},{"$f":"IF([1]综合素质认定!O53>10,10,[1]综合素质认定!O53)","v":2},0,0,0,{"v":54.235703914461,"d":"54.24"},{"$f":"IF(J53<[1]奖补比例!$D$2,\"D\",IF(J53<[1]奖补比例!$C$2,\"C\",IF(J53<[1]奖补比例!$B$2,\"B\",\"A\")))","v":"C"},{"$f":"[1]苏州工业园区工业企业技术改造经济效益表!AJ53","v":6951.4},{"$f":"[1]苏州工业园区工业企业技术改造经济效益表!AM53","v":0},{"$f":"IF([1]苏州工业园区工业企业技术改造经济效益表!AN53>=0.7,[1]苏州工业园区工业企业技术改造经济效益表!AM53,0)","v":0},{"$f":"IF(IF(K53=\"A\",[1]苏州工业园区工业企业技术改造经济效益表!AJ53*[1]奖补比例!$B$3+N53*[1]奖补比例!$B$5,IF(K53=\"B\",[1]苏州工业园区工业企业技术改造经济效益表!AJ53*[1]奖补比例!$C$3+N53*[1]奖补比例!$C$5,IF(K53=\"C\",[1]苏州工业园区工业企业技术改造经济效益表!AJ53*[1]奖补比例!$D$3+N53*[1]奖补比例!$D$5,[1]苏州工业园区工业企业技术改造经济效益表!AJ53*[1]奖补比例!$E$3+N53*[1]奖补比例!$E$5)))*[1]奖补比例!$G$2>1000,1000,IF(K53=\"A\",[1]苏州工业园区工业企业技术改造经济效益表!AJ53*[1]奖补比例!$B$3+N53*[1]奖补比例!$B$5,IF(K53=\"B\",[1]苏州工业园区工业企业技术改造经济效益表!AJ53*[1]奖补比例!$C$3+N53*[1]奖补比例!$C$5,IF(K53=\"C\",[1]苏州工业园区工业企业技术改造经济效益表!AJ53*[1]奖补比例!$D$3+N53*[1]奖补比例!$D$5,[1]苏州工业园区工业企业技术改造经济效益表!AJ53*[1]奖补比例!$E$3+N53*[1]奖补比例!$E$5)))*[1]奖补比例!$G$2)","v":{"v":276.74149026,"d":"276.74"}},{"$f":"VLOOKUP(B53,[1]【扣减】省技改综合奖补!$C$2:$E$59,3,0)/10000","v":31},0,0,{"$f":"[1]【扣减】人工智能奖补!F52","v":0},0,{"$f":"[1]【扣减】投促委!F52","v":0},{"v":245.74149026,"d":"245.74"},245.74,{"v":0.0398109,"d":"3.98%"},{"$f":"IF([1]项目纳统比对表!D53=\"否\",\"未纳统\",IF([1]项目纳统比对表!F53=\"否\",\"不足500万元\",\"\"))","v":"不足500万元"},null,245.74]
[51,{"$f":"[1]苏州工业园区工业企业技术改造经济效益表!B54","v":"耐世特汽车系统（苏州）有限公司"},{"$f":"[1]苏州工业园区工业企业技术改造经济效益表!C54","v":"91320594796523981N"},{"$f":"[1]经济效益!N54","v":{"v":60.8470600786359,"d":"60.85"}},{"$f":"[1]智能化效益!R54","v":79.45},{"$f":"IF([1]综合素质认定!O54>10,10,[1]综合素质认定!O54)","v":9},0,0,0,{"v":67.4829420550451,"d":"67.48"},{"$f":"IF(J54<[1]奖补比例!$D$2,\"D\",IF(J54<[1]奖补比例!$C$2,\"C\",IF(J54<[1]奖补比例!$B$2,\"B\",\"A\")))","v":"B"},{"$f":"[1]苏州工业园区工业企业技术改造经济效益表!AJ54","v":7339.74995853},{"$f":"[1]苏州工业园区工业企业技术改造经济效益表!AM54","v":3361.21587296},{"$f":"IF([1]苏州工业园区工业企业技术改造经济效益表!AN54>=0.7,[1]苏州工业园区工业企业技术改造经济效益表!AM54,0)","v":0},{"$f":"IF(IF(K54=\"A\",[1]苏州工业园区工业企业技术改造经济效益表!AJ54*[1]奖补比例!$B$3+N54*[1]奖补比例!$B$5,IF(K54=\"B\",[1]苏州工业园区工业企业技术改造经济效益表!AJ54*[1]奖补比例!$C$3+N54*[1]奖补比例!$C$5,IF(K54=\"C\",[1]苏州工业园区工业企业技术改造经济效益表!AJ54*[1]奖补比例!$D$3+N54*[1]奖补比例!$D$5,[1]苏州工业园区工业企业技术改造经济效益表!AJ54*[1]奖补比例!$E$3+N54*[1]奖补比例!$E$5)))*[1]奖补比例!$G$2>1000,1000,IF(K54=\"A\",[1]苏州工业园区工业企业技术改造经济效益表!AJ54*[1]奖补比例!$B$3+N54*[1]奖补比例!$B$5,IF(K54=\"B\",[1]苏州工业园区工业企业技术改造经济效益表!AJ54*[1]奖补比例!$C$3+N54*[1]奖补比例!$C$5,IF(K54=\"C\",[1]苏州工业园区工业企业技术改造经济效益表!AJ54*[1]奖补比例!$D$3+N54*[1]奖补比例!$D$5,[1]苏州工业园区工业企业技术改造经济效益表!AJ54*[1]奖补比例!$E$3+N54*[1]奖补比例!$E$5)))*[1]奖补比例!$G$2)","v":{"v":467.523282598467,"d":"467.52"}},{"$f":"VLOOKUP(B54,[1]【扣减】省技改综合奖补!$C$2:$E$59,3,0)/10000","v":47},0,0,{"$f":"[1]【扣减】人工智能奖补!F53","v":0},0,{"$f":"[1]【扣减】投促委!F53","v":800},0,{"v":0,"d":"0.00"},{"v":0.06369744,"d":"6.37%"},{"$f":"IF([1]项目纳统比对表!D54=\"否\",\"未纳统\",IF([1]项目纳统比对表!F54=\"否\",\"不足500万元\",\"\"))","v":""},null,{"v":0,"d":"0.00"}]
[52,{"$f":"[1]苏州工业园区工业企业技术改造经济效益表!B55","v":"欧瑞康巴尔查斯涂层（苏州）有限公司"},{"$f":"[1]苏州工业园区工业企业技术改造经济效益表!C55","v":"91320594752733354N"},{"$f":"[1]经济效益!N55","v":68},{"$f":"[1]智能化效益!R55","v":{"v":83.6865,"d":"83.69"}},{"$f":"IF([1]综合素质认定!O55>10,10,[1]综合素质认定!O55)","v":0},0,0,0,{"v":64.3373,"d":"64.34"},{"$f":"IF(J55<[1]奖补比例!$D$2,\"D\",IF(J55<[1]奖补比例!$C$2,\"C\",IF(J55<[1]奖补比例!$B$2,\"B\",\"A\")))","v":"B"},{"$f":"[1]苏州工业园区工业企业技术改造经济效益表!AJ55","v":2243.13},{"$f":"[1]苏州工业园区工业企业技术改造经济效益表!AM55","v":0},{"$f":"IF([1]苏州工业园区工业企业技术改造经济效益表!AN55>=0.7,[1]苏州工业园区工业企业技术改造经济效益表!AM55,0)","v":0},{"$f":"IF(IF(K55=\"A\",[1]苏州工业园区工业企业技术改造经济效益表!AJ55*[1]奖补比例!$B$3+N55*[1]奖补比例!$B$5,IF(K55=\"B\",[1]苏州工业园区工业企业技术改造经济效益表!AJ55*[1]奖补比例!$C$3+N55*[1]奖补比例!$C$5,IF(K55=\"C\",[1]苏州工业园区工业企业技术改造经济效益表!AJ55*[1]奖补比例!$D$3+N55*[1]奖补比例!$D$5,[1]苏州工业园区工业企业技术改造经济效益表!AJ55*[1]奖补比例!$E$3+N55*[1]奖补比例!$E$5)))*[1]奖补比例!$G$2>1000,1000,IF(K55=\"A\",[1]苏州工业园区工业企业技术改造经济效益表!AJ55*[1]奖补比例!$B$3+N55*[1]奖补比例!$B$5,IF(K55=\"B\",[1]苏州工业园区工业企业技术改造经济效益表!AJ55*[1]奖补比例!$C$3+N55*[1]奖补比例!$C$5,IF(K55=\"C\",[1]苏州工业园区工业企业技术改造经济效益表!AJ55*[1]奖补比例!$D$3+N55*[1]奖补比例!$D$5,[1]苏州工业园区工业企业技术改造经济效益表!AJ55*[1]奖补比例!$E$3+N55*[1]奖补比例!$E$5)))*[1]奖补比例!$G$2)","v":{"v":142.8816385872,"d":"142.88"}},{"$f":"VLOOKUP(B55,[1]【扣减】省技改综合奖补!$C$2:$E$59,3,0)/10000","v":15},0,0,{"$f":"[1]【扣减】人工智能奖补!F54","v":0},0,{"$f":"[1]【扣减】投促委!F54","v":0},{"v":127.8816385872,"d":"127.88"},127.88,{"v":0.06369744,"d":"6.37%"},{"$f":"IF([1]项目纳统比对表!D55=\"否\",\"未纳统\",IF([1]项目纳统比对表!F55=\"否\",\"不足500万元\",\"\"))","v":"未纳统"},null,127.88]
[53,{"$f":"[1]苏州工业园区工业企业技术改造经济效益表!B56","v":"欧文斯科宁金属技术（苏州）有限公司"},{"$f":"[1]苏州工业园区工业企业技术改造经济效益表!C56","v":"91320594783360562G"},{"$f":"[1]经济效益!N56","v":67},{"$f":"[1]智能化效益!R56","v":83},{"$f":"IF([1]综合素质认定!O56>10,10,[1]综合素质认定!O56)","v":0},0,0,0,{"v":63.5,"d":"63.50"},{"$f":"IF(J56<[1]奖补比例!$D$2,\"D\",IF(J56<[1]奖补比例!$C$2,\"C\",IF(J56<[1]奖补比例!$B$2,\"B\",\"A\")))","v":"B"},{"$f":"[1]苏州工业园区工业企业技术改造经济效益表!AJ56","v":1410.03},{"$f":"[1]苏州工业园区工业企业技术改造经济效益表!AM56","v":0},{"$f":"IF([1]苏州工业园区工业企业技术改造经济效益表!AN56>=0.7,[1]苏州工业园区工业企业技术改造经济效益表!AM56,0)","v":0},{"$f":"IF(IF(K56=\"A\",[1]苏州工业园区工业企业技术改造经济效益表!AJ56*[1]奖补比例!$B$3+N56*[1]奖补比例!$B$5,IF(K56=\"B\",[1]苏州工业园区工业企业技术改造经济效益表!AJ56*[1]奖补比例!$C$3+N56*[1]奖补比例!$C$5,IF(K56=\"C\",[1]苏州工业园区工业企业技术改造经济效益表!AJ56*[1]奖补比例!$D$3+N56*[1]奖补比例!$D$5,[1]苏州工业园区工业企业技术改造经济效益表!AJ56*[1]奖补比例!$E$3+N56*[1]奖补比例!$E$5)))*[1]奖补比例!$G$2>1000,1000,IF(K56=\"A\",[1]苏州工业园区工业企业技术改造经济效益表!AJ56*[1]奖补比例!$B$3+N56*[1]奖补比例!$B$5,IF(K56=\"B\",[1]苏州工业园区工业企业技术改造经济效益表!AJ56*[1]奖补比例!$C$3+N56*[1]奖补比例!$C$5,IF(K56=\"C\",[1]苏州工业园区工业企业技术改造经济效益表!AJ56*[1]奖补比例!$D$3+N56*[1]奖补比例!$D$5,[1]苏州工业园区工业企业技术改造经济效益表!AJ56*[1]奖补比例!$E$3+N56*[1]奖补比例!$E$5)))*[1]奖补比例!$G$2)","v":{"v":89.8153013232,"d":"89.82"}},0,0,0,{"$f":"[1]【扣减】人工智能奖补!F55","v":0},0,{"$f":"[1]【扣减】投促委!F55","v":0},{"v":89.8153013232,"d":"89.82"},89.82,{"v":0.06369744,"d":"6.37%"},{"$f":"IF([1]项目纳统比对表!D56=\"否\",\"未纳统\",IF([1]项目纳统比对表!F56=\"否\",\"不足500万元\",\"\"))","v":""},null,89.82]
[54,{"$f":"[1]苏州工业园区工业企业技术改造经济效益表!B57","v":"帕玛斯韦奇航空部件（苏州）有限公司"},{"$f":"[1]苏州工业园区工业企业技术改造经济效益表!C57","v":"91320594565323798R"},{"$f":"[1]经济效益!N57","v":42},{"$f":"[1]智能化效益!R57","v":{"v":91.9329,"d":"91.93"}},{"$f":"IF([1]综合素质认定!O57>10,10,[1]综合素质认定!O57)","v":1},0,0,0,{"v":48.78658,"d":"48.79"},{"$f":"IF(J57<[1]奖补比例!$D$2,\"D\",IF(J57<[1]奖补比例!$C$2,\"C\",IF(J57<[1]奖补比例!$B$2,\"B\",\"A\")))","v":"D"},{"$f":"[1]苏州工业园区工业企业技术改造经济效益表!AJ57","v":1257.23},{"$f":"[1]苏州工业园区工业企业技术改造经济效益表!AM57","v":{"v":17.8,"d":"17.80"}},{"$f":"IF([1]苏州工业园区工业企业技术改造经济效益表!AN57>=0.7,[1]苏州工业园区工业企业技术改造经济效益表!AM57,0)","v":0},{"$f":"IF(IF(K57=\"A\",[1]苏州工业园区工业企业技术改造经济效益表!AJ57*[1]奖补比例!$B$3+N57*[1]奖补比例!$B$5,IF(K57=\"B\",[1]苏州工业园区工业企业技术改造经济效益表!AJ57*[1]奖补比例!$C$3+N57*[1]奖补比例!$C$5,IF(K57=\"C\",[1]苏州工业园区工业企业技术改造经济效益表!AJ57*[1]奖补比例!$D$3+N57*[1]奖补比例!$D$5,[1]苏州工业园区工业企业技术改造经济效益表!AJ57*[1]奖补比例!$E$3+N57*[1]奖补比例!$E$5)))*[1]奖补比例!$G$2>1000,1000,IF(K57=\"A\",[1]苏州工业园区工业企业技术改造经济效益表!AJ57*[1]奖补比例!$B$3+N57*[1]奖补比例!$B$5,IF(K57=\"B\",[1]苏州工业园区工业企业技术改造经济效益表!AJ57*[1]奖补比例!$C$3+N57*[1]奖补比例!$C$5,IF(K57=\"C\",[1]苏州工业园区工业企业技术改造经济效益表!AJ57*[1]奖补比例!$D$3+N57*[1]奖补比例!$D$5,[1]苏州工业园区工业企业技术改造经济效益表!AJ57*[1]奖补比例!$E$3+N57*[1]奖补比例!$E$5)))*[1]奖补比例!$G$2)","v":{"v":30.0308746842,"d":"30.03"}},0,0,0,{"$f":"[1]【扣减】人工智能奖补!F56","v":0},0,{"$f":"[1]【扣减】投促委!F56","v":0},{"v":30.0308746842,"d":"30.03"},30.03,{"v":0.02388654,"d":"2.39%"},{"$f":"IF([1]项目纳统比对表!D57=\"否\",\"未纳统\",IF([1]项目纳统比对表!F57=\"否\",\"不足500万元\",\"\"))","v":""},null,30.03]
[55,{"$f":"[1]苏州工业园区工业企业技术改造经济效益表!B58","v":"沛嘉医疗科技（苏州）有限公司"},{"$f":"[1]苏州工业园区工业企业技术改造经济效益表!C58","v":"91320594061881876J"},{"$f":"[1]经济效益!N58","v":45},{"$f":"[1]智能化效益!R58","v":74.62},{"$f":"IF([1]综合素质认定!O58>10,10,[1]综合素质认定!O58)","v":0},0,0,0,{"v":46.424,"d":"46.42"},{"$f":"IF(J58<[1]奖补比例!$D$2,\"D\",IF(J58<[1]奖补比例!$C$2,\"C\",IF(J58<[1]奖补比例!$B$2,\"B\",\"A\")))","v":"D"},{"$f":"[1]苏州工业园区工业企业技术改造经济效益表!AJ58","v":734.5216096726},{"$f":"[1]苏州工业园区工业企业技术改造经济效益表!AM58","v":{"v":5.895,"d":"5.90"}},{"$f":"IF([1]苏州工业园区工业企业技术改造经济效益表!AN58>=0.7,[1]苏州工业园区工业企业技术改造经济效益表!AM58,0)","v":0},{"$f":"IF(IF(K58=\"A\",[1]苏州工业园区工业企业技术改造经济效益表!AJ58*[1]奖补比例!$B$3+N58*[1]奖补比例!$B$5,IF(K58=\"B\",[1]苏州工业园区工业企业技术改造经济效益表!AJ58*[1]奖补比例!$C$3+N58*[1]奖补比例!$C$5,IF(K58=\"C\",[1]苏州工业园区工业企业技术改造经济效益表!AJ58*[1]奖补比例!$D$3+N58*[1]奖补比例!$D$5,[1]苏州工业园区工业企业技术改造经济效益表!AJ58*[1]奖补比例!$E$3+N58*[1]奖补比例!$E$5)))*[1]奖补比例!$G$2>1000,1000,IF(K58=\"A\",[1]苏州工业园区工业企业技术改造经济效益表!AJ58*[1]奖补比例!$B$3+N58*[1]奖补比例!$B$5,IF(K58=\"B\",[1]苏州工业园区工业企业技术改造经济效益表!AJ58*[1]奖补比例!$C$3+N58*[1]奖补比例!$C$5,IF(K58=\"C\",[1]苏州工业园区工业企业技术改造经济效益表!AJ58*[1]奖补比例!$D$3+N58*[1]奖补比例!$D$5,[1]苏州工业园区工业企业技术改造经济效益表!AJ58*[1]奖补比例!$E$3+N58*[1]奖补比例!$E$5)))*[1]奖补比例!$G$2)","v":{"v":17.5451798103089,"d":"17.55"}},0,0,0,{"$f":"[1]【扣减】人工智能奖补!F57","v":0},0,{"$f":"[1]【扣减】投促委!F57","v":0},{"v":17.5451798103089,"d":"17.55"},17.55,{"v":0.02388654,"d":"2.39%"},{"$f":"IF([1]项目纳统比对表!D58=\"否\",\"未纳统\",IF([1]项目纳统比对表!F58=\"否\",\"不足500万元\",\"\"))","v":""},null,17.55]
[56,{"$f":"[1]苏州工业园区工业企业技术改造经济效益表!B59","v":"普美航空制造（苏州）有限公司"},{"$f":"[1]苏州工业园区工业企业技术改造经济效益表!C59","v":"913205947589578775"},{"$f":"[1]经济效益!N59","v":42},{"$f":"[1]智能化效益!R59","v":90},{"$f":"IF([1]综合素质认定!O59>10,10,[1]综合素质认定!O59)","v":1},0,0,0,{"v":48.4,"d":"48.40"},{"$f":"IF(J59<[1]奖补比例!$D$2,\"D\",IF(J59<[1]奖补比例!$C$2,\"C\",IF(J59<[1]奖补比例!$B$2,\"B\",\"A\")))","v":"D"},{"$f":"[1]苏州工业园区工业企业技术改造经济效益表!AJ59","v":1236.18},{"$f":"[1]苏州工业园区工业企业技术改造经济效益表!AM59","v":0},{"$f":"IF([1]苏州工业园区工业企业技术改造经济效益表!AN59>=0.7,[1]苏州工业园区工业企业技术改造经济效益表!AM59,0)","v":0},{"$f":"IF(IF(K59=\"A\",[1]苏州工业园区工业企业技术改造经济效益表!AJ59*[1]奖补比例!$B$3+N59*[1]奖补比例!$B$5,IF(K59=\"B\",[1]苏州工业园区工业企业技术改造经济效益表!AJ59*[1]奖补比例!$C$3+N59*[1]奖补比例!$C$5,IF(K59=\"C\",[1]苏州工业园区工业企业技术改造经济效益表!AJ59*[1]奖补比例!$D$3+N59*[1]奖补比例!$D$5,[1]苏州工业园区工业企业技术改造经济效益表!AJ59*[1]奖补比例!$E$3+N59*[1]奖补比例!$E$5)))*[1]奖补比例!$G$2>1000,1000,IF(K59=\"A\",[1]苏州工业园区工业企业技术改造经济效益表!AJ59*[1]奖补比例!$B$3+N59*[1]奖补比例!$B$5,IF(K59=\"B\",[1]苏州工业园区工业企业技术改造经济效益表!AJ59*[1]奖补比例!$C$3+N59*[1]奖补比例!$C$5,IF(K59=\"C\",[1]苏州工业园区工业企业技术改造经济效益表!AJ59*[1]奖补比例!$D$3+N59*[1]奖补比例!$D$5,[1]苏州工业园区工业企业技术改造经济效益表!AJ59*[1]奖补比例!$E$3+N59*[1]奖补比例!$E$5)))*[1]奖补比例!$G$2)","v":{"v":29.5280630172,"d":"29.53"}},{"$f":"VLOOKUP(B59,[1]【扣减】省技改综合奖补!$C$2:$E$59,3,0)/10000","v":17},0,0,{"$f":"[1]【扣减】人工智能奖补!F58","v":0},0,{"$f":"[1]【扣减】投促委!F58","v":0},{"v":12.5280630172,"d":"12.53"},12.53,{"v":0.02388654,"d":"2.39%"},{"$f":"IF([1]项目纳统比对表!D59=\"否\",\"未纳统\",IF([1]项目纳统比对表!F59=\"否\",\"不足500万元\",\"\"))","v":""},null,12.53]
[57,{"$f":"[1]苏州工业园区工业企业技术改造经济效益表!B60","v":"颀中科技（苏州）有限公司"},{"$f":"[1]苏州工业园区工业企业技术改造经济效益表!C60","v":"91320594762849748G"},{"$f":"[1]经济效益!N60","v":{"v":73.7687642935529,"d":"73.77"}},{"$f":"[1]智能化效益!R60","v":85},{"$f":"IF([1]综合素质认定!O60>10,10,[1]综合素质认定!O60)","v":9},0,0,0,{"v":77.638135005487,"d":"77.64"},{"$f":"IF(J60<[1]奖补比例!$D$2,\"D\",IF(J60<[1]奖补比例!$C$2,\"C\",IF(J60<[1]奖补比例!$B$2,\"B\",\"A\")))","v":"B"},{"$f":"[1]苏州工业园区工业企业技术改造经济效益表!AJ60","v":58892.15},{"$f":"[1]苏州工业园区工业企业技术改造经济效益表!AM60","v":0},{"$f":"IF([1]苏州工业园区工业企业技术改造经济效益表!AN60>=0.7,[1]苏州工业园区工业企业技术改造经济效益表!AM60,0)","v":0},{"$f":"IF(IF(K60=\"A\",[1]苏州工业园区工业企业技术改造经济效益表!AJ60*[1]奖补比例!$B$3+N60*[1]奖补比例!$B$5,IF(K60=\"B\",[1]苏州工业园区工业企业技术改造经济效益表!AJ60*[1]奖补比例!$C$3+N60*[1]奖补比例!$C$5,IF(K60=\"C\",[1]苏州工业园区工业企业技术改造经济效益表!AJ60*[1]奖补比例!$D$3+N60*[1]奖补比例!$D$5,[1]苏州工业园区工业企业技术改造经济效益表!AJ60*[1]奖补比例!$E$3+N60*[1]奖补比例!$E$5)))*[1]奖补比例!$G$2>1000,1000,IF(K60=\"A\",[1]苏州工业园区工业企业技术改造经济效益表!AJ60*[1]奖补比例!$B$3+N60*[1]奖补比例!$B$5,IF(K60=\"B\",[1]苏州工业园区工业企业技术改造经济效益表!AJ60*[1]奖补比例!$C$3+N60*[1]奖补比例!$C$5,IF(K60=\"C\",[1]苏州工业园区工业企业技术改造经济效益表!AJ60*[1]奖补比例!$D$3+N60*[1]奖补比例!$D$5,[1]苏州工业园区工业企业技术改造经济效益表!AJ60*[1]奖补比例!$E$3+N60*[1]奖补比例!$E$5)))*[1]奖补比例!$G$2)","v":1000},{"$f":"VLOOKUP(B60,[1]【扣减】省技改综合奖补!$C$2:$E$59,3,0)/10000","v":168},0,0,{"$f":"[1]【扣减】人工智能奖补!F59","v":0},0,{"$f":"[1]【扣减】投促委!F59","v":0},832,{"v":832,"d":"832.00"},{"v":0.0169801917573055,"d":"1.70%"},{"$f":"IF([1]项目纳统比对表!D60=\"否\",\"未纳统\",IF([1]项目纳统比对表!F60=\"否\",\"不足500万元\",\"\"))","v":""},null,{"v":832,"d":"832.00"}]
[58,{"$f":"[1]苏州工业园区工业企业技术改造经济效益表!B61","v":"乔治费歇尔金属成型科技（苏州）有限公司"},{"$f":"[1]苏州工业园区工业企业技术改造经济效益表!C61","v":"913205947596616800"},{"$f":"[1]经济效益!N61","v":{"v":50.4479462041491,"d":"50.45"}},{"$f":"[1]智能化效益!R61","v":{"v":89.7435,"d":"89.74"}},{"$f":"IF([1]综合素质认定!O61>10,10,[1]综合素质认定!O61)","v":6},0,0,0,{"v":59.2622623429044,"d":"59.26"},{"$f":"IF(J61<[1]奖补比例!$D$2,\"D\",IF(J61<[1]奖补比例!$C$2,\"C\",IF(J61<[1]奖补比例!$B$2,\"B\",\"A\")))","v":"C"},{"$f":"[1]苏州工业园区工业企业技术改造经济效益表!AJ61","v":1660.144213},{"$f":"[1]苏州工业园区工业企业技术改造经济效益表!AM61","v":{"v":16.02566,"d":"16.03"}},{"$f":"IF([1]苏州工业园区工业企业技术改造经济效益表!AN61>=0.7,[1]苏州工业园区工业企业技术改造经济效益表!AM61,0)","v":0},{"$f":"IF(IF(K61=\"A\",[1]苏州工业园区工业企业技术改造经济效益表!AJ61*[1]奖补比例!$B$3+N61*[1]奖补比例!$B$5,IF(K61=\"B\",[1]苏州工业园区工业企业技术改造经济效益表!AJ61*[1]奖补比例!$C$3+N61*[1]奖补比例!$C$5,IF(K61=\"C\",[1]苏州工业园区工业企业技术改造经济效益表!AJ61*[1]奖补比例!$D$3+N61*[1]奖补比例!$D$5,[1]苏州工业园区工业企业技术改造经济效益表!AJ61*[1]奖补比例!$E$3+N61*[1]奖补比例!$E$5)))*[1]奖补比例!$G$2>1000,1000,IF(K61=\"A\",[1]苏州工业园区工业企业技术改造经济效益表!AJ61*[1]奖补比例!$B$3+N61*[1]奖补比例!$B$5,IF(K61=\"B\",[1]苏州工业园区工业企业技术改造经济效益表!AJ61*[1]奖补比例!$C$3+N61*[1]奖补比例!$C$5,IF(K61=\"C\",[1]苏州工业园区工业企业技术改造经济效益表!AJ61*[1]奖补比例!$D$3+N61*[1]奖补比例!$D$5,[1]苏州工业园区工业企业技术改造经济效益表!AJ61*[1]奖补比例!$E$3+N61*[1]奖补比例!$E$5)))*[1]奖补比例!$G$2)","v":{"v":66.0918352493217,"d":"66.09"}},{"$f":"VLOOKUP(B61,[1]【扣减】省技改综合奖补!$C$2:$E$59,3,0)/10000","v":15},0,{"$f":"VLOOKUP(B61,[1]【扣减】节能改造项目奖补!$B$2:$C$23,2,0)","v":15},{"$f":"[1]【扣减】人工智能奖补!F60","v":102.2},0,{"$f":"[1]【扣减】投促委!F60","v":0},0,{"v":0,"d":"0.00"},{"v":0.0398109,"d":"3.98%"},{"$f":"IF([1]项目纳统比对表!D61=\"否\",\"未纳统\",IF([1]项目纳统比对表!F61=\"否\",\"不足500万元\",\"\"))","v":""},null,{"v":0,"d":"0.00"}]
[59,{"$f":"[1]苏州工业园区工业企业技术改造经济效益表!B62","v":"青山汽车紧固件（苏州）有限公司"},{"$f":"[1]苏州工业园区工业企业技术改造经济效益表!C62","v":"913205947641645314"},{"$f":"[1]经济效益!N62","v":66},{"$f":"[1]智能化效益!R62","v":{"v":69.954,"d":"69.95"}},{"$f":"IF([1]综合素质认定!O62>10,10,[1]综合素质认定!O62)","v":0},0,0,0,{"v":60.1908,"d":"60.19"},{"$f":"IF(J62<[1]奖补比例!$D$2,\"D\",IF(J62<[1]奖补比例!$C$2,\"C\",IF(J62<[1]奖补比例!$B$2,\"B\",\"A\")))","v":"B"},{"$f":"[1]苏州工业园区工业企业技术改造经济效益表!AJ62","v":4163},{"$f":"[1]苏州工业园区工业企业技术改造经济效益表!AM62","v":84.42},{"$f":"IF([1]苏州工业园区工业企业技术改造经济效益表!AN62>=0.7,[1]苏州工业园区工业企业技术改造经济效益表!AM62,0)","v":0},{"$f":"IF(IF(K62=\"A\",[1]苏州工业园区工业企业技术改造经济效益表!AJ62*[1]奖补比例!$B$3+N62*[1]奖补比例!$B$5,IF(K62=\"B\",[1]苏州工业园区工业企业技术改造经济效益表!AJ62*[1]奖补比例!$C$3+N62*[1]奖补比例!$C$5,IF(K62=\"C\",[1]苏州工业园区工业企业技术改造经济效益表!AJ62*[1]奖补比例!$D$3+N62*[1]奖补比例!$D$5,[1]苏州工业园区工业企业技术改造经济效益表!AJ62*[1]奖补比例!$E$3+N62*[1]奖补比例!$E$5)))*[1]奖补比例!$G$2>1000,1000,IF(K62=\"A\",[1]苏州工业园区工业企业技术改造经济效益表!AJ62*[1]奖补比例!$B$3+N62*[1]奖补比例!$B$5,IF(K62=\"B\",[1]苏州工业园区工业企业技术改造经济效益表!AJ62*[1]奖补比例!$C$3+N62*[1]奖补比例!$C$5,IF(K62=\"C\",[1]苏州工业园区工业企业技术改造经济效益表!AJ62*[1]奖补比例!$D$3+N62*[1]奖补比例!$D$5,[1]苏州工业园区工业企业技术改造经济效益表!AJ62*[1]奖补比例!$E$3+N62*[1]奖补比例!$E$5)))*[1]奖补比例!$G$2)","v":{"v":265.17244272,"d":"265.17"}},{"$f":"VLOOKUP(B62,[1]【扣减】省技改综合奖补!$C$2:$E$59,3,0)/10000","v":19},0,0,{"$f":"[1]【扣减】人工智能奖补!F61","v":0},0,{"$f":"[1]【扣减】投促委!F61","v":0},{"v":246.17244272,"d":"246.17"},246.17,{"v":0.06369744,"d":"6.37%"},{"$f":"IF([1]项目纳统比对表!D62=\"否\",\"未纳统\",IF([1]项目纳统比对表!F62=\"否\",\"不足500万元\",\"\"))","v":"未纳统"},null,246.17]
[60,{"$f":"[1]苏州工业园区工业企业技术改造经济效益表!B63","v":"日立安斯泰莫汽车系统(苏州)有限公司"},{"$f":"[1]苏州工业园区工业企业技术改造经济效益表!C63","v":"91320594742473181A"},{"$f":"[1]经济效益!N63","v":{"v":75.4145020176729,"d":"75.41"}},{"$f":"[1]智能化效益!R63","v":{"v":81.481,"d":"81.48"}},{"$f":"IF([1]综合素质认定!O63>10,10,[1]综合素质认定!O63)","v":0},0,0,0,{"v":69.086351412371,"d":"69.09"},{"$f":"IF(J63<[1]奖补比例!$D$2,\"D\",IF(J63<[1]奖补比例!$C$2,\"C\",IF(J63<[1]奖补比例!$B$2,\"B\",\"A\")))","v":"B"},{"$f":"[1]苏州工业园区工业企业技术改造经济效益表!AJ63","v":4399.15},{"$f":"[1]苏州工业园区工业企业技术改造经济效益表!AM63","v":48.41},{"$f":"IF([1]苏州工业园区工业企业技术改造经济效益表!AN63>=0.7,[1]苏州工业园区工业企业技术改造经济效益表!AM63,0)","v":0},{"$f":"IF(IF(K63=\"A\",[1]苏州工业园区工业企业技术改造经济效益表!AJ63*[1]奖补比例!$B$3+N63*[1]奖补比例!$B$5,IF(K63=\"B\",[1]苏州工业园区工业企业技术改造经济效益表!AJ63*[1]奖补比例!$C$3+N63*[1]奖补比例!$C$5,IF(K63=\"C\",[1]苏州工业园区工业企业技术改造经济效益表!AJ63*[1]奖补比例!$D$3+N63*[1]奖补比例!$D$5,[1]苏州工业园区工业企业技术改造经济效益表!AJ63*[1]奖补比例!$E$3+N63*[1]奖补比例!$E$5)))*[1]奖补比例!$G$2>1000,1000,IF(K63=\"A\",[1]苏州工业园区工业企业技术改造经济效益表!AJ63*[1]奖补比例!$B$3+N63*[1]奖补比例!$B$5,IF(K63=\"B\",[1]苏州工业园区工业企业技术改造经济效益表!AJ63*[1]奖补比例!$C$3+N63*[1]奖补比例!$C$5,IF(K63=\"C\",[1]苏州工业园区工业企业技术改造经济效益表!AJ63*[1]奖补比例!$D$3+N63*[1]奖补比例!$D$5,[1]苏州工业园区工业企业技术改造经济效益表!AJ63*[1]奖补比例!$E$3+N63*[1]奖补比例!$E$5)))*[1]奖补比例!$G$2)","v":{"v":280.214593176,"d":"280.21"}},{"$f":"VLOOKUP(B63,[1]【扣减】省技改综合奖补!$C$2:$E$59,3,0)/10000","v":89},0,0,{"$f":"[1]【扣减】人工智能奖补!F62","v":0},0,{"$f":"[1]【扣减】投促委!F62","v":0},{"v":191.214593176,"d":"191.21"},191.21,{"v":0.06369744,"d":"6.37%"},{"$f":"IF([1]项目纳统比对表!D63=\"否\",\"未纳统\",IF([1]项目纳统比对表!F63=\"否\",\"不足500万元\",\"\"))","v":"未纳统"},null,191.21]
[61,{"$f":"[1]苏州工业园区工业企业技术改造经济效益表!B64","v":"日立仪器（苏州）有限公司"},{"$f":"[1]苏州工业园区工业企业技术改造经济效益表!C64","v":"91320594608207536E"},{"$f":"[1]经济效益!N64","v":{"v":45.2121009579826,"d":"45.21"}},{"$f":"[1]智能化效益!R64","v":68},{"$f":"IF([1]综合素质认定!O64>10,10,[1]综合素质认定!O64)","v":1},0,0,0,{"v":46.2484706705878,"d":"46.25"},{"$f":"IF(J64<[1]奖补比例!$D$2,\"D\",IF(J64<[1]奖补比例!$C$2,\"C\",IF(J64<[1]奖补比例!$B$2,\"B\",\"A\")))","v":"D"},{"$f":"[1]苏州工业园区工业企业技术改造经济效益表!AJ64","v":598.8},{"$f":"[1]苏州工业园区工业企业技术改造经济效益表!AM64","v":{"v":13.4,"d":"13.40"}},{"$f":"IF([1]苏州工业园区工业企业技术改造经济效益表!AN64>=0.7,[1]苏州工业园区工业企业技术改造经济效益表!AM64,0)","v":0},{"$f":"IF(IF(K64=\"A\",[1]苏州工业园区工业企业技术改造经济效益表!AJ64*[1]奖补比例!$B$3+N64*[1]奖补比例!$B$5,IF(K64=\"B\",[1]苏州工业园区工业企业技术改造经济效益表!AJ64*[1]奖补比例!$C$3+N64*[1]奖补比例!$C$5,IF(K64=\"C\",[1]苏州工业园区工业企业技术改造经济效益表!AJ64*[1]奖补比例!$D$3+N64*[1]奖补比例!$D$5,[1]苏州工业园区工业企业技术改造经济效益表!AJ64*[1]奖补比例!$E$3+N64*[1]奖补比例!$E$5)))*[1]奖补比例!$G$2>1000,1000,IF(K64=\"A\",[1]苏州工业园区工业企业技术改造经济效益表!AJ64*[1]奖补比例!$B$3+N64*[1]奖补比例!$B$5,IF(K64=\"B\",[1]苏州工业园区工业企业技术改造经济效益表!AJ64*[1]奖补比例!$C$3+N64*[1]奖补比例!$C$5,IF(K64=\"C\",[1]苏州工业园区工业企业技术改造经济效益表!AJ64*[1]奖补比例!$D$3+N64*[1]奖补比例!$D$5,[1]苏州工业园区工业企业技术改造经济效益表!AJ64*[1]奖补比例!$E$3+N64*[1]奖补比例!$E$5)))*[1]奖补比例!$G$2)","v":{"v":14.303260152,"d":"14.30"}},0,0,0,{"$f":"[1]【扣减】人工智能奖补!F63","v":0},0,{"$f":"[1]【扣减】投促委!F63","v":0},{"v":14.303260152,"d":"14.30"},{"v":14.3,"d":"14.30"},{"v":0.02388654,"d":"2.39%"},{"$f":"IF([1]项目纳统比对表!D64=\"否\",\"未纳统\",IF([1]项目纳统比对表!F64=\"否\",\"不足500万元\",\"\"))","v":"未纳统"},null,{"v":14.3,"d":"14.30"}]
[62,{"$f":"[1]苏州工业园区工业企业技术改造经济效益表!B65","v":"儒拉玛特自动化技术（苏州）有限公司"},{"$f":"[1]苏州工业园区工业企业技术改造经济效益表!C65","v":"913205947132400989"},{"$f":"[1]经济效益!N65","v":{"v":27.906174093542,"d":"27.91"}},{"$f":"[1]智能化效益!R65","v":70},{"$f":"IF([1]综合素质认定!O65>10,10,[1]综合素质认定!O65)","v":2},0,0,0,{"v":35.5343218654794,"d":"35.53"},{"$f":"IF(J65<[1]奖补比例!$D$2,\"D\",IF(J65<[1]奖补比例!$C$2,\"C\",IF(J65<[1]奖补比例!$B$2,\"B\",\"A\")))","v":"D"},{"$f":"[1]苏州工业园区工业企业技术改造经济效益表!AJ65","v":209.66},{"$f":"[1]苏州工业园区工业企业技术改造经济效益表!AM65","v":0},{"$f":"IF([1]苏州工业园区工业企业技术改造经济效益表!AN65>=0.7,[1]苏州工业园区工业企业技术改造经济效益表!AM65,0)","v":0},{"$f":"IF(IF(K65=\"A\",[1]苏州工业园区工业企业技术改造经济效益表!AJ65*[1]奖补比例!$B$3+N65*[1]奖补比例!$B$5,IF(K65=\"B\",[1]苏州工业园区工业企业技术改造经济效益表!AJ65*[1]奖补比例!$C$3+N65*[1]奖补比例!$C$5,IF(K65=\"C\",[1]苏州工业园区工业企业技术改造经济效益表!AJ65*[1]奖补比例!$D$3+N65*[1]奖补比例!$D$5,[1]苏州工业园区工业企业技术改造经济效益表!AJ65*[1]奖补比例!$E$3+N65*[1]奖补比例!$E$5)))*[1]奖补比例!$G$2>1000,1000,IF(K65=\"A\",[1]苏州工业园区工业企业技术改造经济效益表!AJ65*[1]奖补比例!$B$3+N65*[1]奖补比例!$B$5,IF(K65=\"B\",[1]苏州工业园区工业企业技术改造经济效益表!AJ65*[1]奖补比例!$C$3+N65*[1]奖补比例!$C$5,IF(K65=\"C\",[1]苏州工业园区工业企业技术改造经济效益表!AJ65*[1]奖补比例!$D$3+N65*[1]奖补比例!$D$5,[1]苏州工业园区工业企业技术改造经济效益表!AJ65*[1]奖补比例!$E$3+N65*[1]奖补比例!$E$5)))*[1]奖补比例!$G$2)","v":{"v":5.0080519764,"d":"5.01"}},0,0,0,{"$f":"[1]【扣减】人工智能奖补!F64","v":0},0,{"$f":"[1]【扣减】投促委!F64","v":0},{"v":5.0080519764,"d":"5.01"},5.01,{"v":0.02388654,"d":"2.39%"},{"$f":"IF([1]项目纳统比对表!D65=\"否\",\"未纳统\",IF([1]项目纳统比对表!F65=\"否\",\"不足500万元\",\"\"))","v":""},null,5.01]
[63,{"$f":"[1]苏州工业园区工业企业技术改造经济效益表!B66","v":"赛峰飞机发动机（苏州）有限公司"},{"$f":"[1]苏州工业园区工业企业技术改造经济效益表!C66","v":"91320594783360781T"},{"$f":"[1]经济效益!N66","v":{"v":54.6154239093679,"d":"54.62"}},{"$f":"[1]智能化效益!R66","v":92},{"$f":"IF([1]综合素质认定!O66>10,10,[1]综合素质认定!O66)","v":1},0,0,0,{"v":57.6307967365575,"d":"57.63"},{"$f":"IF(J66<[1]奖补比例!$D$2,\"D\",IF(J66<[1]奖补比例!$C$2,\"C\",IF(J66<[1]奖补比例!$B$2,\"B\",\"A\")))","v":"C"},{"$f":"[1]苏州工业园区工业企业技术改造经济效益表!AJ66","v":5029.16},{"$f":"[1]苏州工业园区工业企业技术改造经济效益表!AM66","v":0},{"$f":"IF([1]苏州工业园区工业企业技术改造经济效益表!AN66>=0.7,[1]苏州工业园区工业企业技术改造经济效益表!AM66,0)","v":0},{"$f":"IF(IF(K66=\"A\",[1]苏州工业园区工业企业技术改造经济效益表!AJ66*[1]奖补比例!$B$3+N66*[1]奖补比例!$B$5,IF(K66=\"B\",[1]苏州工业园区工业企业技术改造经济效益表!AJ66*[1]奖补比例!$C$3+N66*[1]奖补比例!$C$5,IF(K66=\"C\",[1]苏州工业园区工业企业技术改造经济效益表!AJ66*[1]奖补比例!$D$3+N66*[1]奖补比例!$D$5,[1]苏州工业园区工业企业技术改造经济效益表!AJ66*[1]奖补比例!$E$3+N66*[1]奖补比例!$E$5)))*[1]奖补比例!$G$2>1000,1000,IF(K66=\"A\",[1]苏州工业园区工业企业技术改造经济效益表!AJ66*[1]奖补比例!$B$3+N66*[1]奖补比例!$B$5,IF(K66=\"B\",[1]苏州工业园区工业企业技术改造经济效益表!AJ66*[1]奖补比例!$C$3+N66*[1]奖补比例!$C$5,IF(K66=\"C\",[1]苏州工业园区工业企业技术改造经济效益表!AJ66*[1]奖补比例!$D$3+N66*[1]奖补比例!$D$5,[1]苏州工业园区工业企业技术改造经济效益表!AJ66*[1]奖补比例!$E$3+N66*[1]奖补比例!$E$5)))*[1]奖补比例!$G$2)","v":{"v":200.215385844,"d":"200.22"}},{"$f":"VLOOKUP(B66,[1]【扣减】省技改综合奖补!$C$2:$E$59,3,0)/10000","v":25},0,0,{"$f":"[1]【扣减】人工智能奖补!F65","v":0},0,{"$f":"[1]【扣减】投促委!F65","v":0},{"v":175.215385844,"d":"175.22"},175.22,{"v":0.0398109,"d":"3.98%"},{"$f":"IF([1]项目纳统比对表!D66=\"否\",\"未纳统\",IF([1]项目纳统比对表!F66=\"否\",\"不足500万元\",\"\"))","v":"未纳统"},null,175.22]
[64,{"$f":"[1]苏州工业园区工业企业技术改造经济效益表!B67","v":"赛峰起落架系统（苏州）有限公司"},{"$f":"[1]苏州工业园区工业企业技术改造经济效益表!C67","v":"913205947833604074"},{"$f":"[1]经济效益!N67","v":{"v":42.4302139490696,"d":"42.43"}},{"$f":"[1]智能化效益!R67","v":90},{"$f":"IF([1]综合素质认定!O67>10,10,[1]综合素质认定!O67)","v":1},0,0,0,{"v":48.7011497643487,"d":"48.70"},{"$f":"IF(J67<[1]奖补比例!$D$2,\"D\",IF(J67<[1]奖补比例!$C$2,\"C\",IF(J67<[1]奖补比例!$B$2,\"B\",\"A\")))","v":"D"},{"$f":"[1]苏州工业园区工业企业技术改造经济效益表!AJ67","v":1708.79},{"$f":"[1]苏州工业园区工业企业技术改造经济效益表!AM67","v":0},{"$f":"IF([1]苏州工业园区工业企业技术改造经济效益表!AN67>=0.7,[1]苏州工业园区工业企业技术改造经济效益表!AM67,0)","v":0},{"$f":"IF(IF(K67=\"A\",[1]苏州工业园区工业企业技术改造经济效益表!AJ67*[1]奖补比例!$B$3+N67*[1]奖补比例!$B$5,IF(K67=\"B\",[1]苏州工业园区工业企业技术改造经济效益表!AJ67*[1]奖补比例!$C$3+N67*[1]奖补比例!$C$5,IF(K67=\"C\",[1]苏州工业园区工业企业技术改造经济效益表!AJ67*[1]奖补比例!$D$3+N67*[1]奖补比例!$D$5,[1]苏州工业园区工业企业技术改造经济效益表!AJ67*[1]奖补比例!$E$3+N67*[1]奖补比例!$E$5)))*[1]奖补比例!$G$2>1000,1000,IF(K67=\"A\",[1]苏州工业园区工业企业技术改造经济效益表!AJ67*[1]奖补比例!$B$3+N67*[1]奖补比例!$B$5,IF(K67=\"B\",[1]苏州工业园区工业企业技术改造经济效益表!AJ67*[1]奖补比例!$C$3+N67*[1]奖补比例!$C$5,IF(K67=\"C\",[1]苏州工业园区工业企业技术改造经济效益表!AJ67*[1]奖补比例!$D$3+N67*[1]奖补比例!$D$5,[1]苏州工业园区工业企业技术改造经济效益表!AJ67*[1]奖补比例!$E$3+N67*[1]奖补比例!$E$5)))*[1]奖补比例!$G$2)","v":{"v":40.8170806866,"d":"40.82"}},{"$f":"VLOOKUP(B67,[1]【扣减】省技改综合奖补!$C$2:$E$59,3,0)/10000","v":20},0,0,{"$f":"[1]【扣减】人工智能奖补!F66","v":0},0,{"$f":"[1]【扣减】投促委!F66","v":0},{"v":20.8170806866,"d":"20.82"},20.82,{"$f":"O67/L67","v":{"v":0.02388654,"d":"2.39%"}},{"$f":"IF([1]项目纳统比对表!D67=\"否\",\"未纳统\",IF([1]项目纳统比对表!F67=\"否\",\"不足500万元\",\"\"))","v":"未纳统"},null,20.82]
[65,{"$f":"[1]苏州工业园区工业企业技术改造经济效益表!B68","v":"赛卡电子科技（苏州）有限公司"},{"$f":"[1]苏州工业园区工业企业技术改造经济效益表!C68","v":"91320594MA1T6QD44H"},{"$f":"[1]经济效益!N68","v":{"v":77.6465598006351,"d":"77.65"}},{"$f":"[1]智能化效益!R68","v":{"v":79.032,"d":"79.03"}},{"$f":"IF([1]综合素质认定!O68>10,10,[1]综合素质认定!O68)","v":0},0,0,0,{"$f":"D68*$D$3+E68*$E$3+F68-G68-H68-I68","v":{"v":70.1589918604446,"d":"70.16"}},{"$f":"IF(J68<[1]奖补比例!$D$2,\"D\",IF(J68<[1]奖补比例!$C$2,\"C\",IF(J68<[1]奖补比例!$B$2,\"B\",\"A\")))","v":"B"},{"$f":"[1]苏州工业园区工业企业技术改造经济效益表!AJ68","v":600.71},{"$f":"[1]苏州工业园区工业企业技术改造经济效益表!AM68","v":96.41},{"$f":"IF([1]苏州工业园区工业企业技术改造经济效益表!AN68>=0.7,[1]苏州工业园区工业企业技术改造经济效益表!AM68,0)","v":0},{"$f":"IF(IF(K68=\"A\",[1]苏州工业园区工业企业技术改造经济效益表!AJ68*[1]奖补比例!$B$3+N68*[1]奖补比例!$B$5,IF(K68=\"B\",[1]苏州工业园区工业企业技术改造经济效益表!AJ68*[1]奖补比例!$C$3+N68*[1]奖补比例!$C$5,IF(K68=\"C\",[1]苏州工业园区工业企业技术改造经济效益表!AJ68*[1]奖补比例!$D$3+N68*[1]奖补比例!$D$5,[1]苏州工业园区工业企业技术改造经济效益表!AJ68*[1]奖补比例!$E$3+N68*[1]奖补比例!$E$5)))*[1]奖补比例!$G$2>1000,1000,IF(K68=\"A\",[1]苏州工业园区工业企业技术改造经济效益表!AJ68*[1]奖补比例!$B$3+N68*[1]奖补比例!$B$5,IF(K68=\"B\",[1]苏州工业园区工业企业技术改造经济效益表!AJ68*[1]奖补比例!$C$3+N68*[1]奖补比例!$C$5,IF(K68=\"C\",[1]苏州工业园区工业企业技术改造经济效益表!AJ68*[1]奖补比例!$D$3+N68*[1]奖补比例!$D$5,[1]苏州工业园区工业企业技术改造经济效益表!AJ68*[1]奖补比例!$E$3+N68*[1]奖补比例!$E$5)))*[1]奖补比例!$G$2)","v":{"v":38.2636891824,"d":"38.26"}},0,0,0,{"$f":"[1]【扣减】人工智能奖补!F67","v":0},0,{"$f":"[1]【扣减】投促委!F67","v":0},{"v":38.2636891824,"d":"38.26"},{"$f":"ROUND(V68,2)","v":38.26},{"v":0.06369744,"d":"6.37%"},{"$f":"IF([1]项目纳统比对表!D68=\"否\",\"未纳统\",IF([1]项目纳统比对表!F68=\"否\",\"不足500万元\",\"\"))","v":""},null,38.26]
[66,{"$f":"[1]苏州工业园区工业企业技术改造经济效益表!B69","v":"三积瑞科技（苏州）有限公司"},{"$f":"[1]苏州工业园区工业企业技术改造经济效益表!C69","v":"91320594735740050R"},{"$f":"[1]经济效益!N69","v":{"v":74.5401885154913,"d":"74.54"}},{"$f":"[1]智能化效益!R69","v":73.79},{"$f":"IF([1]综合素质认定!O69>10,10,[1]综合素质认定!O69)","v":0},0,0,0,{"v":66.9361319608439,"d":"66.94"},{"$f":"IF(J69<[1]奖补比例!$D$2,\"D\",IF(J69<[1]奖补比例!$C$2,\"C\",IF(J69<[1]奖补比例!$B$2,\"B\",\"A\")))","v":"B"},{"$f":"[1]苏州工业园区工业企业技术改造经济效益表!AJ69","v":1156.72},{"$f":"[1]苏州工业园区工业企业技术改造经济效益表!AM69","v":231},{"$f":"IF([1]苏州工业园区工业企业技术改造经济效益表!AN69>=0.7,[1]苏州工业园区工业企业技术改造经济效益表!AM69,0)","v":0},{"$f":"IF(IF(K69=\"A\",[1]苏州工业园区工业企业技术改造经济效益表!AJ69*[1]奖补比例!$B$3+N69*[1]奖补比例!$B$5,IF(K69=\"B\",[1]苏州工业园区工业企业技术改造经济效益表!AJ69*[1]奖补比例!$C$3+N69*[1]奖补比例!$C$5,IF(K69=\"C\",[1]苏州工业园区工业企业技术改造经济效益表!AJ69*[1]奖补比例!$D$3+N69*[1]奖补比例!$D$5,[1]苏州工业园区工业企业技术改造经济效益表!AJ69*[1]奖补比例!$E$3+N69*[1]奖补比例!$E$5)))*[1]奖补比例!$G$2>1000,1000,IF(K69=\"A\",[1]苏州工业园区工业企业技术改造经济效益表!AJ69*[1]奖补比例!$B$3+N69*[1]奖补比例!$B$5,IF(K69=\"B\",[1]苏州工业园区工业企业技术改造经济效益表!AJ69*[1]奖补比例!$C$3+N69*[1]奖补比例!$C$5,IF(K69=\"C\",[1]苏州工业园区工业企业技术改造经济效益表!AJ69*[1]奖补比例!$D$3+N69*[1]奖补比例!$D$5,[1]苏州工业园区工业企业技术改造经济效益表!AJ69*[1]奖补比例!$E$3+N69*[1]奖补比例!$E$5)))*[1]奖补比例!$G$2)","v":{"v":73.6801027968,"d":"73.68"}},0,0,0,{"$f":"[1]【扣减】人工智能奖补!F68","v":0},0,{"$f":"[1]【扣减】投促委!F68","v":0},{"v":73.6801027968,"d":"73.68"},73.68,{"v":0.06369744,"d":"6.37%"},{"$f":"IF([1]项目纳统比对表!D69=\"否\",\"未纳统\",IF([1]项目纳统比对表!F69=\"否\",\"不足500万元\",\"\"))","v":""},null,73.68]
[67,{"$f":"[1]苏州工业园区工业企业技术改造经济效益表!B70","v":"三星电子（苏州）半导体有限公司"},{"$f":"[1]苏州工业园区工业企业技术改造经济效益表!C70","v":"91320594608197753M"},{"$f":"[1]经济效益!N70","v":{"v":64.5559151918617,"d":"64.56"}},{"$f":"[1]智能化效益!R70","v":85},{"$f":"IF([1]综合素质认定!O70>10,10,[1]综合素质认定!O70)","v":1},0,0,0,{"v":63.1891406343032,"d":"63.19"},{"$f":"IF(J70<[1]奖补比例!$D$2,\"D\",IF(J70<[1]奖补比例!$C$2,\"C\",IF(J70<[1]奖补比例!$B$2,\"B\",\"A\")))","v":"B"},{"$f":"[1]苏州工业园区工业企业技术改造经济效益表!AJ70","v":8321.86},{"$f":"[1]苏州工业园区工业企业技术改造经济效益表!AM70","v":0},{"$f":"IF([1]苏州工业园区工业企业技术改造经济效益表!AN70>=0.7,[1]苏州工业园区工业企业技术改造经济效益表!AM70,0)","v":0},{"$f":"IF(IF(K70=\"A\",[1]苏州工业园区工业企业技术改造经济效益表!AJ70*[1]奖补比例!$B$3+N70*[1]奖补比例!$B$5,IF(K70=\"B\",[1]苏州工业园区工业企业技术改造经济效益表!AJ70*[1]奖补比例!$C$3+N70*[1]奖补比例!$C$5,IF(K70=\"C\",[1]苏州工业园区工业企业技术改造经济效益表!AJ70*[1]奖补比例!$D$3+N70*[1]奖补比例!$D$5,[1]苏州工业园区工业企业技术改造经济效益表!AJ70*[1]奖补比例!$E$3+N70*[1]奖补比例!$E$5)))*[1]奖补比例!$G$2>1000,1000,IF(K70=\"A\",[1]苏州工业园区工业企业技术改造经济效益表!AJ70*[1]奖补比例!$B$3+N70*[1]奖补比例!$B$5,IF(K70=\"B\",[1]苏州工业园区工业企业技术改造经济效益表!AJ70*[1]奖补比例!$C$3+N70*[1]奖补比例!$C$5,IF(K70=\"C\",[1]苏州工业园区工业企业技术改造经济效益表!AJ70*[1]奖补比例!$D$3+N70*[1]奖补比例!$D$5,[1]苏州工业园区工业企业技术改造经济效益表!AJ70*[1]奖补比例!$E$3+N70*[1]奖补比例!$E$5)))*[1]奖补比例!$G$2)","v":{"v":530.0811780384,"d":"530.08"}},0,0,{"$f":"VLOOKUP(B70,[1]【扣减】节能改造项目奖补!$B$2:$C$23,2,0)","v":14},{"$f":"[1]【扣减】人工智能奖补!F69","v":0},0,{"$f":"[1]【扣减】投促委!F69","v":0},{"v":516.0811780384,"d":"516.08"},516.08,{"v":0.06369744,"d":"6.37%"},{"$f":"IF([1]项目纳统比对表!D70=\"否\",\"未纳统\",IF([1]项目纳统比对表!F70=\"否\",\"不足500万元\",\"\"))","v":"未纳统"},null,516.08]
[68,{"$f":"[1]苏州工业园区工业企业技术改造经济效益表!B71","v":"胜科纳米（苏州）股份有限公司"},{"$f":"[1]苏州工业园区工业企业技术改造经济效益表!C71","v":"91320594051861281G"},{"$f":"[1]经济效益!N71","v":88},{"$f":"[1]智能化效益!R71","v":85},{"$f":"IF([1]综合素质认定!O71>10,10,[1]综合素质认定!O71)","v":0},0,0,0,{"v":78.6,"d":"78.60"},{"$f":"IF(J71<[1]奖补比例!$D$2,\"D\",IF(J71<[1]奖补比例!$C$2,\"C\",IF(J71<[1]奖补比例!$B$2,\"B\",\"A\")))","v":"B"},{"$f":"[1]苏州工业园区工业企业技术改造经济效益表!AJ71","v":1753.04},{"$f":"[1]苏州工业园区工业企业技术改造经济效益表!AM71","v":191.09},{"$f":"IF([1]苏州工业园区工业企业技术改造经济效益表!AN71>=0.7,[1]苏州工业园区工业企业技术改造经济效益表!AM71,0)","v":0},{"$f":"IF(IF(K71=\"A\",[1]苏州工业园区工业企业技术改造经济效益表!AJ71*[1]奖补比例!$B$3+N71*[1]奖补比例!$B$5,IF(K71=\"B\",[1]苏州工业园区工业企业技术改造经济效益表!AJ71*[1]奖补比例!$C$3+N71*[1]奖补比例!$C$5,IF(K71=\"C\",[1]苏州工业园区工业企业技术改造经济效益表!AJ71*[1]奖补比例!$D$3+N71*[1]奖补比例!$D$5,[1]苏州工业园区工业企业技术改造经济效益表!AJ71*[1]奖补比例!$E$3+N71*[1]奖补比例!$E$5)))*[1]奖补比例!$G$2>1000,1000,IF(K71=\"A\",[1]苏州工业园区工业企业技术改造经济效益表!AJ71*[1]奖补比例!$B$3+N71*[1]奖补比例!$B$5,IF(K71=\"B\",[1]苏州工业园区工业企业技术改造经济效益表!AJ71*[1]奖补比例!$C$3+N71*[1]奖补比例!$C$5,IF(K71=\"C\",[1]苏州工业园区工业企业技术改造经济效益表!AJ71*[1]奖补比例!$D$3+N71*[1]奖补比例!$D$5,[1]苏州工业园区工业企业技术改造经济效益表!AJ71*[1]奖补比例!$E$3+N71*[1]奖补比例!$E$5)))*[1]奖补比例!$G$2)","v":{"v":111.6641602176,"d":"111.66"}},0,0,0,{"$f":"[1]【扣减】人工智能奖补!F70","v":0},0,{"$f":"[1]【扣减】投促委!F70","v":0},{"v":111.6641602176,"d":"111.66"},111.66,{"v":0.06369744,"d":"6.37%"},{"$f":"IF([1]项目纳统比对表!D71=\"否\",\"未纳统\",IF([1]项目纳统比对表!F71=\"否\",\"不足500万元\",\"\"))","v":""},null,111.66]
[69,{"$f":"[1]苏州工业园区工业企业技术改造经济效益表!B72","v":"石通瑞吉亚太电子（苏州）有限公司"},{"$f":"[1]苏州工业园区工业企业技术改造经济效益表!C72","v":"91320594778676191H"},{"$f":"[1]经济效益!N72","v":{"v":77.4645066301855,"d":"77.46"}},{"$f":"[1]智能化效益!R72","v":{"v":84.7441,"d":"84.74"}},{"$f":"IF([1]综合素质认定!O72>10,10,[1]综合素质认定!O72)","v":0},0,0,0,{"v":71.1739746411298,"d":"71.17"},{"$f":"IF(J72<[1]奖补比例!$D$2,\"D\",IF(J72<[1]奖补比例!$C$2,\"C\",IF(J72<[1]奖补比例!$B$2,\"B\",\"A\")))","v":"B"},{"$f":"[1]苏州工业园区工业企业技术改造经济效益表!AJ72","v":3324.76},{"$f":"[1]苏州工业园区工业企业技术改造经济效益表!AM72","v":296.28},{"$f":"IF([1]苏州工业园区工业企业技术改造经济效益表!AN72>=0.7,[1]苏州工业园区工业企业技术改造经济效益表!AM72,0)","v":0},{"$f":"IF(IF(K72=\"A\",[1]苏州工业园区工业企业技术改造经济效益表!AJ72*[1]奖补比例!$B$3+N72*[1]奖补比例!$B$5,IF(K72=\"B\",[1]苏州工业园区工业企业技术改造经济效益表!AJ72*[1]奖补比例!$C$3+N72*[1]奖补比例!$C$5,IF(K72=\"C\",[1]苏州工业园区工业企业技术改造经济效益表!AJ72*[1]奖补比例!$D$3+N72*[1]奖补比例!$D$5,[1]苏州工业园区工业企业技术改造经济效益表!AJ72*[1]奖补比例!$E$3+N72*[1]奖补比例!$E$5)))*[1]奖补比例!$G$2>1000,1000,IF(K72=\"A\",[1]苏州工业园区工业企业技术改造经济效益表!AJ72*[1]奖补比例!$B$3+N72*[1]奖补比例!$B$5,IF(K72=\"B\",[1]苏州工业园区工业企业技术改造经济效益表!AJ72*[1]奖补比例!$C$3+N72*[1]奖补比例!$C$5,IF(K72=\"C\",[1]苏州工业园区工业企业技术改造经济效益表!AJ72*[1]奖补比例!$D$3+N72*[1]奖补比例!$D$5,[1]苏州工业园区工业企业技术改造经济效益表!AJ72*[1]奖补比例!$E$3+N72*[1]奖补比例!$E$5)))*[1]奖补比例!$G$2)","v":{"v":211.7787006144,"d":"211.78"}},{"$f":"VLOOKUP(B72,[1]【扣减】省技改综合奖补!$C$2:$E$59,3,0)/10000","v":15},0,0,{"$f":"[1]【扣减】人工智能奖补!F71","v":0},0,{"$f":"[1]【扣减】投促委!F71","v":0},{"v":196.7787006144,"d":"196.78"},196.78,{"v":0.06369744,"d":"6.37%"},{"$f":"IF([1]项目纳统比对表!D72=\"否\",\"未纳统\",IF([1]项目纳统比对表!F72=\"否\",\"不足500万元\",\"\"))","v":"未纳统"},null,196.78]
[70,{"$f":"[1]苏州工业园区工业企业技术改造经济效益表!B73","v":"世达普（苏州）通信设备有限公司"},{"$f":"[1]苏州工业园区工业企业技术改造经济效益表!C73","v":"913205947665333539"},{"$f":"[1]经济效益!N73","v":{"v":48.7538212196015,"d":"48.75"}},{"$f":"[1]智能化效益!R73","v":87.19},{"$f":"IF([1]综合素质认定!O73>10,10,[1]综合素质认定!O73)","v":1},0,0,0,{"v":52.565674853721,"d":"52.57"},{"$f":"IF(J73<[1]奖补比例!$D$2,\"D\",IF(J73<[1]奖补比例!$C$2,\"C\",IF(J73<[1]奖补比例!$B$2,\"B\",\"A\")))","v":"C"},{"$f":"[1]苏州工业园区工业企业技术改造经济效益表!AJ73","v":3178.41},{"$f":"[1]苏州工业园区工业企业技术改造经济效益表!AM73","v":22.22},{"$f":"IF([1]苏州工业园区工业企业技术改造经济效益表!AN73>=0.7,[1]苏州工业园区工业企业技术改造经济效益表!AM73,0)","v":0},{"$f":"IF(IF(K73=\"A\",[1]苏州工业园区工业企业技术改造经济效益表!AJ73*[1]奖补比例!$B$3+N73*[1]奖补比例!$B$5,IF(K73=\"B\",[1]苏州工业园区工业企业技术改造经济效益表!AJ73*[1]奖补比例!$C$3+N73*[1]奖补比例!$C$5,IF(K73=\"C\",[1]苏州工业园区工业企业技术改造经济效益表!AJ73*[1]奖补比例!$D$3+N73*[1]奖补比例!$D$5,[1]苏州工业园区工业企业技术改造经济效益表!AJ73*[1]奖补比例!$E$3+N73*[1]奖补比例!$E$5)))*[1]奖补比例!$G$2>1000,1000,IF(K73=\"A\",[1]苏州工业园区工业企业技术改造经济效益表!AJ73*[1]奖补比例!$B$3+N73*[1]奖补比例!$B$5,IF(K73=\"B\",[1]苏州工业园区工业企业技术改造经济效益表!AJ73*[1]奖补比例!$C$3+N73*[1]奖补比例!$C$5,IF(K73=\"C\",[1]苏州工业园区工业企业技术改造经济效益表!AJ73*[1]奖补比例!$D$3+N73*[1]奖补比例!$D$5,[1]苏州工业园区工业企业技术改造经济效益表!AJ73*[1]奖补比例!$E$3+N73*[1]奖补比例!$E$5)))*[1]奖补比例!$G$2)","v":{"v":126.535362669,"d":"126.54"}},{"$f":"VLOOKUP(B73,[1]【扣减】省技改综合奖补!$C$2:$E$59,3,0)/10000","v":46},0,0,{"$f":"[1]【扣减】人工智能奖补!F72","v":0},0,{"$f":"[1]【扣减】投促委!F72","v":0},{"v":80.535362669,"d":"80.54"},80.54,{"v":0.0398109,"d":"3.98%"},{"$f":"IF([1]项目纳统比对表!D73=\"否\",\"未纳统\",IF([1]项目纳统比对表!F73=\"否\",\"不足500万元\",\"\"))","v":""},null,80.54]
[71,{"$f":"[1]苏州工业园区工业企业技术改造经济效益表!B74","v":"舒尔电子（苏州）有限公司"},{"$f":"[1]苏州工业园区工业企业技术改造经济效益表!C74","v":"91320594762449867T"},{"$f":"[1]经济效益!N74","v":{"v":43.4931694573229,"d":"43.49"}},{"$f":"[1]智能化效益!R74","v":{"v":88.805,"d":"88.81"}},{"$f":"IF([1]综合素质认定!O74>10,10,[1]综合素质认定!O74)","v":1},0,0,0,{"v":49.206218620126,"d":"49.21"},{"$f":"IF(J74<[1]奖补比例!$D$2,\"D\",IF(J74<[1]奖补比例!$C$2,\"C\",IF(J74<[1]奖补比例!$B$2,\"B\",\"A\")))","v":"D"},{"$f":"[1]苏州工业园区工业企业技术改造经济效益表!AJ74","v":800.75},{"$f":"[1]苏州工业园区工业企业技术改造经济效益表!AM74","v":95.31},{"$f":"IF([1]苏州工业园区工业企业技术改造经济效益表!AN74>=0.7,[1]苏州工业园区工业企业技术改造经济效益表!AM74,0)","v":0},{"$f":"IF(IF(K74=\"A\",[1]苏州工业园区工业企业技术改造经济效益表!AJ74*[1]奖补比例!$B$3+N74*[1]奖补比例!$B$5,IF(K74=\"B\",[1]苏州工业园区工业企业技术改造经济效益表!AJ74*[1]奖补比例!$C$3+N74*[1]奖补比例!$C$5,IF(K74=\"C\",[1]苏州工业园区工业企业技术改造经济效益表!AJ74*[1]奖补比例!$D$3+N74*[1]奖补比例!$D$5,[1]苏州工业园区工业企业技术改造经济效益表!AJ74*[1]奖补比例!$E$3+N74*[1]奖补比例!$E$5)))*[1]奖补比例!$G$2>1000,1000,IF(K74=\"A\",[1]苏州工业园区工业企业技术改造经济效益表!AJ74*[1]奖补比例!$B$3+N74*[1]奖补比例!$B$5,IF(K74=\"B\",[1]苏州工业园区工业企业技术改造经济效益表!AJ74*[1]奖补比例!$C$3+N74*[1]奖补比例!$C$5,IF(K74=\"C\",[1]苏州工业园区工业企业技术改造经济效益表!AJ74*[1]奖补比例!$D$3+N74*[1]奖补比例!$D$5,[1]苏州工业园区工业企业技术改造经济效益表!AJ74*[1]奖补比例!$E$3+N74*[1]奖补比例!$E$5)))*[1]奖补比例!$G$2)","v":{"v":19.127146905,"d":"19.13"}},0,0,0,{"$f":"[1]【扣减】人工智能奖补!F73","v":0},0,{"$f":"[1]【扣减】投促委!F73","v":0},{"v":19.127146905,"d":"19.13"},19.13,{"v":0.02388654,"d":"2.39%"},{"$f":"IF([1]项目纳统比对表!D74=\"否\",\"未纳统\",IF([1]项目纳统比对表!F74=\"否\",\"不足500万元\",\"\"))","v":""},null,19.13]
[72,{"$f":"[1]苏州工业园区工业企业技术改造经济效益表!B75","v":"丝艾产品标识（苏州）有限公司"},{"$f":"[1]苏州工业园区工业企业技术改造经济效益表!C75","v":"913205946082293488"},{"$f":"[1]经济效益!N75","v":{"v":69.6589248424035,"d":"69.66"}},{"$f":"[1]智能化效益!R75","v":{"v":79.703,"d":"79.70"}},{"$f":"IF([1]综合素质认定!O75>10,10,[1]综合素质认定!O75)","v":0},0,0,0,{"v":64.7018473896824,"d":"64.70"},{"$f":"IF(J75<[1]奖补比例!$D$2,\"D\",IF(J75<[1]奖补比例!$C$2,\"C\",IF(J75<[1]奖补比例!$B$2,\"B\",\"A\")))","v":"B"},{"$f":"[1]苏州工业园区工业企业技术改造经济效益表!AJ75","v":1531.3646},{"$f":"[1]苏州工业园区工业企业技术改造经济效益表!AM75","v":0},{"$f":"IF([1]苏州工业园区工业企业技术改造经济效益表!AN75>=0.7,[1]苏州工业园区工业企业技术改造经济效益表!AM75,0)","v":0},{"$f":"IF(IF(K75=\"A\",[1]苏州工业园区工业企业技术改造经济效益表!AJ75*[1]奖补比例!$B$3+N75*[1]奖补比例!$B$5,IF(K75=\"B\",[1]苏州工业园区工业企业技术改造经济效益表!AJ75*[1]奖补比例!$C$3+N75*[1]奖补比例!$C$5,IF(K75=\"C\",[1]苏州工业园区工业企业技术改造经济效益表!AJ75*[1]奖补比例!$D$3+N75*[1]奖补比例!$D$5,[1]苏州工业园区工业企业技术改造经济效益表!AJ75*[1]奖补比例!$E$3+N75*[1]奖补比例!$E$5)))*[1]奖补比例!$G$2>1000,1000,IF(K75=\"A\",[1]苏州工业园区工业企业技术改造经济效益表!AJ75*[1]奖补比例!$B$3+N75*[1]奖补比例!$B$5,IF(K75=\"B\",[1]苏州工业园区工业企业技术改造经济效益表!AJ75*[1]奖补比例!$C$3+N75*[1]奖补比例!$C$5,IF(K75=\"C\",[1]苏州工业园区工业企业技术改造经济效益表!AJ75*[1]奖补比例!$D$3+N75*[1]奖补比例!$D$5,[1]苏州工业园区工业企业技术改造经济效益表!AJ75*[1]奖补比例!$E$3+N75*[1]奖补比例!$E$5)))*[1]奖补比例!$G$2)","v":{"v":97.544004726624,"d":"97.54"}},{"$f":"VLOOKUP(B75,[1]【扣减】省技改综合奖补!$C$2:$E$59,3,0)/10000","v":15},0,0,{"$f":"[1]【扣减】人工智能奖补!F74","v":0},0,{"$f":"[1]【扣减】投促委!F74","v":0},{"v":82.544004726624,"d":"82.54"},82.54,{"v":0.06369744,"d":"6.37%"},{"$f":"IF([1]项目纳统比对表!D75=\"否\",\"未纳统\",IF([1]项目纳统比对表!F75=\"否\",\"不足500万元\",\"\"))","v":""},null,82.54]
[73,{"$f":"[1]苏州工业园区工业企业技术改造经济效益表!B76","v":"斯凯菲尔电子（苏州）有限公司"},{"$f":"[1]苏州工业园区工业企业技术改造经济效益表!C76","v":"91320594713244603F"},{"$f":"[1]经济效益!N76","v":{"v":20.3247048581079,"d":"20.32"}},{"$f":"[1]智能化效益!R76","v":90},{"$f":"IF([1]综合素质认定!O76>10,10,[1]综合素质认定!O76)","v":0},0,0,0,{"v":32.2272934006755,"d":"32.23"},{"$f":"IF(J76<[1]奖补比例!$D$2,\"D\",IF(J76<[1]奖补比例!$C$2,\"C\",IF(J76<[1]奖补比例!$B$2,\"B\",\"A\")))","v":"D"},{"$f":"[1]苏州工业园区工业企业技术改造经济效益表!AJ76","v":465},{"$f":"[1]苏州工业园区工业企业技术改造经济效益表!AM76","v":0},{"$f":"IF([1]苏州工业园区工业企业技术改造经济效益表!AN76>=0.7,[1]苏州工业园区工业企业技术改造经济效益表!AM76,0)","v":0},{"$f":"IF(IF(K76=\"A\",[1]苏州工业园区工业企业技术改造经济效益表!AJ76*[1]奖补比例!$B$3+N76*[1]奖补比例!$B$5,IF(K76=\"B\",[1]苏州工业园区工业企业技术改造经济效益表!AJ76*[1]奖补比例!$C$3+N76*[1]奖补比例!$C$5,IF(K76=\"C\",[1]苏州工业园区工业企业技术改造经济效益表!AJ76*[1]奖补比例!$D$3+N76*[1]奖补比例!$D$5,[1]苏州工业园区工业企业技术改造经济效益表!AJ76*[1]奖补比例!$E$3+N76*[1]奖补比例!$E$5)))*[1]奖补比例!$G$2>1000,1000,IF(K76=\"A\",[1]苏州工业园区工业企业技术改造经济效益表!AJ76*[1]奖补比例!$B$3+N76*[1]奖补比例!$B$5,IF(K76=\"B\",[1]苏州工业园区工业企业技术改造经济效益表!AJ76*[1]奖补比例!$C$3+N76*[1]奖补比例!$C$5,IF(K76=\"C\",[1]苏州工业园区工业企业技术改造经济效益表!AJ76*[1]奖补比例!$D$3+N76*[1]奖补比例!$D$5,[1]苏州工业园区工业企业技术改造经济效益表!AJ76*[1]奖补比例!$E$3+N76*[1]奖补比例!$E$5)))*[1]奖补比例!$G$2)","v":{"v":11.1072411,"d":"11.11"}},0,0,0,{"$f":"[1]【扣减】人工智能奖补!F75","v":0},0,{"$f":"[1]【扣减】投促委!F75","v":0},{"v":11.1072411,"d":"11.11"},11.11,{"v":0.02388654,"d":"2.39%"},{"$f":"IF([1]项目纳统比对表!D76=\"否\",\"未纳统\",IF([1]项目纳统比对表!F76=\"否\",\"不足500万元\",\"\"))","v":""},null,11.11]
[74,{"$f":"[1]苏州工业园区工业企业技术改造经济效益表!B77","v":"苏州UL美华认证有限公司"},{"$f":"[1]苏州工业园区工业企业技术改造经济效益表!C77","v":"9132059471093641XU"},{"$f":"[1]经济效益!N77","v":66},{"$f":"[1]智能化效益!R77","v":70},{"$f":"IF([1]综合素质认定!O77>10,10,[1]综合素质认定!O77)","v":0},0,0,0,{"v":60.2,"d":"60.20"},{"$f":"IF(J77<[1]奖补比例!$D$2,\"D\",IF(J77<[1]奖补比例!$C$2,\"C\",IF(J77<[1]奖补比例!$B$2,\"B\",\"A\")))","v":"B"},{"$f":"[1]苏州工业园区工业企业技术改造经济效益表!AJ77","v":822.37},{"$f":"[1]苏州工业园区工业企业技术改造经济效益表!AM77","v":{"v":11.1,"d":"11.10"}},{"$f":"IF([1]苏州工业园区工业企业技术改造经济效益表!AN77>=0.7,[1]苏州工业园区工业企业技术改造经济效益表!AM77,0)","v":0},{"$f":"IF(IF(K77=\"A\",[1]苏州工业园区工业企业技术改造经济效益表!AJ77*[1]奖补比例!$B$3+N77*[1]奖补比例!$B$5,IF(K77=\"B\",[1]苏州工业园区工业企业技术改造经济效益表!AJ77*[1]奖补比例!$C$3+N77*[1]奖补比例!$C$5,IF(K77=\"C\",[1]苏州工业园区工业企业技术改造经济效益表!AJ77*[1]奖补比例!$D$3+N77*[1]奖补比例!$D$5,[1]苏州工业园区工业企业技术改造经济效益表!AJ77*[1]奖补比例!$E$3+N77*[1]奖补比例!$E$5)))*[1]奖补比例!$G$2>1000,1000,IF(K77=\"A\",[1]苏州工业园区工业企业技术改造经济效益表!AJ77*[1]奖补比例!$B$3+N77*[1]奖补比例!$B$5,IF(K77=\"B\",[1]苏州工业园区工业企业技术改造经济效益表!AJ77*[1]奖补比例!$C$3+N77*[1]奖补比例!$C$5,IF(K77=\"C\",[1]苏州工业园区工业企业技术改造经济效益表!AJ77*[1]奖补比例!$D$3+N77*[1]奖补比例!$D$5,[1]苏州工业园区工业企业技术改造经济效益表!AJ77*[1]奖补比例!$E$3+N77*[1]奖补比例!$E$5)))*[1]奖补比例!$G$2)","v":{"v":52.3828637328,"d":"52.38"}},0,0,0,{"$f":"[1]【扣减】人工智能奖补!F76","v":0},0,{"$f":"[1]【扣减】投促委!F76","v":279.16},0,{"v":0,"d":"0.00"},{"v":0.06369744,"d":"6.37%"},{"$f":"IF([1]项目纳统比对表!D77=\"否\",\"未纳统\",IF([1]项目纳统比对表!F77=\"否\",\"不足500万元\",\"\"))","v":"未纳统"},null,{"v":0,"d":"0.00"}]
[75,{"$f":"[1]苏州工业园区工业企业技术改造经济效益表!B78","v":"苏州阿诺精密切削技术有限公司"},{"$f":"[1]苏州工业园区工业企业技术改造经济效益表!C78","v":"9132000073441427XR"},{"$f":"[1]经济效益!N78","v":{"v":77.4818342747835,"d":"77.48"}},{"$f":"[1]智能化效益!R78","v":{"v":79.9736,"d":"79.97"}},{"$f":"IF([1]综合素质认定!O78>10,10,[1]综合素质认定!O78)","v":2},0,0,0,{"v":72.2320039923484,"d":"72.23"},{"$f":"IF(J78<[1]奖补比例!$D$2,\"D\",IF(J78<[1]奖补比例!$C$2,\"C\",IF(J78<[1]奖补比例!$B$2,\"B\",\"A\")))","v":"B"},{"$f":"[1]苏州工业园区工业企业技术改造经济效益表!AJ78","v":1723.67},{"$f":"[1]苏州工业园区工业企业技术改造经济效益表!AM78","v":0},{"$f":"IF([1]苏州工业园区工业企业技术改造经济效益表!AN78>=0.7,[1]苏州工业园区工业企业技术改造经济效益表!AM78,0)","v":0},{"$f":"IF(IF(K78=\"A\",[1]苏州工业园区工业企业技术改造经济效益表!AJ78*[1]奖补比例!$B$3+N78*[1]奖补比例!$B$5,IF(K78=\"B\",[1]苏州工业园区工业企业技术改造经济效益表!AJ78*[1]奖补比例!$C$3+N78*[1]奖补比例!$C$5,IF(K78=\"C\",[1]苏州工业园区工业企业技术改造经济效益表!AJ78*[1]奖补比例!$D$3+N78*[1]奖补比例!$D$5,[1]苏州工业园区工业企业技术改造经济效益表!AJ78*[1]奖补比例!$E$3+N78*[1]奖补比例!$E$5)))*[1]奖补比例!$G$2>1000,1000,IF(K78=\"A\",[1]苏州工业园区工业企业技术改造经济效益表!AJ78*[1]奖补比例!$B$3+N78*[1]奖补比例!$B$5,IF(K78=\"B\",[1]苏州工业园区工业企业技术改造经济效益表!AJ78*[1]奖补比例!$C$3+N78*[1]奖补比例!$C$5,IF(K78=\"C\",[1]苏州工业园区工业企业技术改造经济效益表!AJ78*[1]奖补比例!$D$3+N78*[1]奖补比例!$D$5,[1]苏州工业园区工业企业技术改造经济效益表!AJ78*[1]奖补比例!$E$3+N78*[1]奖补比例!$E$5)))*[1]奖补比例!$G$2)","v":{"v":109.7933664048,"d":"109.79"}},{"$f":"VLOOKUP(B78,[1]【扣减】省技改综合奖补!$C$2:$E$59,3,0)/10000","v":15},0,0,{"$f":"[1]【扣减】人工智能奖补!F77","v":0},0,{"$f":"[1]【扣减】投促委!F77","v":0},{"v":94.7933664048,"d":"94.79"},94.79,{"v":0.06369744,"d":"6.37%"},{"$f":"IF([1]项目纳统比对表!D78=\"否\",\"未纳统\",IF([1]项目纳统比对表!F78=\"否\",\"不足500万元\",\"\"))","v":""},null,94.79]
[76,{"$f":"[1]苏州工业园区工业企业技术改造经济效益表!B79","v":"苏州阿诺医疗器械有限公司"},{"$f":"[1]苏州工业园区工业企业技术改造经济效益表!C79","v":"91320594MA1WNQ3M38"},{"$f":"[1]经济效益!N79","v":{"v":61.8269985354033,"d":"61.83"}},{"$f":"[1]智能化效益!R79","v":{"v":87.2075,"d":"87.21"}},{"$f":"IF([1]综合素质认定!O79>10,10,[1]综合素质认定!O79)","v":0},0,0,0,{"v":60.7203989747823,"d":"60.72"},{"$f":"IF(J79<[1]奖补比例!$D$2,\"D\",IF(J79<[1]奖补比例!$C$2,\"C\",IF(J79<[1]奖补比例!$B$2,\"B\",\"A\")))","v":"B"},{"$f":"[1]苏州工业园区工业企业技术改造经济效益表!AJ79","v":612.416052},{"$f":"[1]苏州工业园区工业企业技术改造经济效益表!AM79","v":{"v":321.182591,"d":"321.18"}},{"$f":"IF([1]苏州工业园区工业企业技术改造经济效益表!AN79>=0.7,[1]苏州工业园区工业企业技术改造经济效益表!AM79,0)","v":0},{"$f":"IF(IF(K79=\"A\",[1]苏州工业园区工业企业技术改造经济效益表!AJ79*[1]奖补比例!$B$3+N79*[1]奖补比例!$B$5,IF(K79=\"B\",[1]苏州工业园区工业企业技术改造经济效益表!AJ79*[1]奖补比例!$C$3+N79*[1]奖补比例!$C$5,IF(K79=\"C\",[1]苏州工业园区工业企业技术改造经济效益表!AJ79*[1]奖补比例!$D$3+N79*[1]奖补比例!$D$5,[1]苏州工业园区工业企业技术改造经济效益表!AJ79*[1]奖补比例!$E$3+N79*[1]奖补比例!$E$5)))*[1]奖补比例!$G$2>1000,1000,IF(K79=\"A\",[1]苏州工业园区工业企业技术改造经济效益表!AJ79*[1]奖补比例!$B$3+N79*[1]奖补比例!$B$5,IF(K79=\"B\",[1]苏州工业园区工业企业技术改造经济效益表!AJ79*[1]奖补比例!$C$3+N79*[1]奖补比例!$C$5,IF(K79=\"C\",[1]苏州工业园区工业企业技术改造经济效益表!AJ79*[1]奖补比例!$D$3+N79*[1]奖补比例!$D$5,[1]苏州工业园区工业企业技术改造经济效益表!AJ79*[1]奖补比例!$E$3+N79*[1]奖补比例!$E$5)))*[1]奖补比例!$G$2)","v":{"v":39.0093347273069,"d":"39.01"}},0,0,0,{"$f":"[1]【扣减】人工智能奖补!F78","v":0},0,{"$f":"[1]【扣减】投促委!F78","v":0},{"v":39.0093347273069,"d":"39.01"},39.01,{"v":0.06369744,"d":"6.37%"},{"$f":"IF([1]项目纳统比对表!D79=\"否\",\"未纳统\",IF([1]项目纳统比对表!F79=\"否\",\"不足500万元\",\"\"))","v":"未纳统"},null,39.01]
[77,{"$f":"[1]苏州工业园区工业企业技术改造经济效益表!B80","v":"苏州碧迪医疗器械有限公司"},{"$f":"[1]苏州工业园区工业企业技术改造经济效益表!C80","v":"9132059460819806XN"},{"$f":"[1]经济效益!N80","v":45},{"$f":"[1]智能化效益!R80","v":90},{"$f":"IF([1]综合素质认定!O80>10,10,[1]综合素质认定!O80)","v":10},0,0,0,{"v":59.5,"d":"59.50"},{"$f":"IF(J80<[1]奖补比例!$D$2,\"D\",IF(J80<[1]奖补比例!$C$2,\"C\",IF(J80<[1]奖补比例!$B$2,\"B\",\"A\")))","v":"C"},{"$f":"[1]苏州工业园区工业企业技术改造经济效益表!AJ80","v":3000.5},{"$f":"[1]苏州工业园区工业企业技术改造经济效益表!AM80","v":0},{"$f":"IF([1]苏州工业园区工业企业技术改造经济效益表!AN80>=0.7,[1]苏州工业园区工业企业技术改造经济效益表!AM80,0)","v":0},{"$f":"IF(IF(K80=\"A\",[1]苏州工业园区工业企业技术改造经济效益表!AJ80*[1]奖补比例!$B$3+N80*[1]奖补比例!$B$5,IF(K80=\"B\",[1]苏州工业园区工业企业技术改造经济效益表!AJ80*[1]奖补比例!$C$3+N80*[1]奖补比例!$C$5,IF(K80=\"C\",[1]苏州工业园区工业企业技术改造经济效益表!AJ80*[1]奖补比例!$D$3+N80*[1]奖补比例!$D$5,[1]苏州工业园区工业企业技术改造经济效益表!AJ80*[1]奖补比例!$E$3+N80*[1]奖补比例!$E$5)))*[1]奖补比例!$G$2>1000,1000,IF(K80=\"A\",[1]苏州工业园区工业企业技术改造经济效益表!AJ80*[1]奖补比例!$B$3+N80*[1]奖补比例!$B$5,IF(K80=\"B\",[1]苏州工业园区工业企业技术改造经济效益表!AJ80*[1]奖补比例!$C$3+N80*[1]奖补比例!$C$5,IF(K80=\"C\",[1]苏州工业园区工业企业技术改造经济效益表!AJ80*[1]奖补比例!$D$3+N80*[1]奖补比例!$D$5,[1]苏州工业园区工业企业技术改造经济效益表!AJ80*[1]奖补比例!$E$3+N80*[1]奖补比例!$E$5)))*[1]奖补比例!$G$2)","v":{"v":119.45260545,"d":"119.45"}},0,0,0,{"$f":"[1]【扣减】人工智能奖补!F79","v":0},0,{"$f":"[1]【扣减】投促委!F79","v":1354},0,{"v":0,"d":"0.00"},{"v":0.0398109,"d":"3.98%"},{"$f":"IF([1]项目纳统比对表!D80=\"否\",\"未纳统\",IF([1]项目纳统比对表!F80=\"否\",\"不足500万元\",\"\"))","v":""},null,{"v":0,"d":"0.00"}]
[78,{"$f":"[1]苏州工业园区工业企业技术改造经济效益表!B81","v":"苏州春兴精工股份有限公司"},{"$f":"[1]苏州工业园区工业企业技术改造经济效益表!C81","v":"91320000832592061P"},{"$f":"[1]经济效益!N81","v":{"v":43.5479140198975,"d":"43.55"}},{"$f":"[1]智能化效益!R81","v":{"v":81.0271,"d":"81.03"}},{"$f":"IF([1]综合素质认定!O81>10,10,[1]综合素质认定!O81)","v":4},0,0,0,{"v":50.6889598139282,"d":"50.69"},{"$f":"IF(J81<[1]奖补比例!$D$2,\"D\",IF(J81<[1]奖补比例!$C$2,\"C\",IF(J81<[1]奖补比例!$B$2,\"B\",\"A\")))","v":"C"},{"$f":"[1]苏州工业园区工业企业技术改造经济效益表!AJ81","v":663.64},{"$f":"[1]苏州工业园区工业企业技术改造经济效益表!AM81","v":0},{"$f":"IF([1]苏州工业园区工业企业技术改造经济效益表!AN81>=0.7,[1]苏州工业园区工业企业技术改造经济效益表!AM81,0)","v":0},{"$f":"IF(IF(K81=\"A\",[1]苏州工业园区工业企业技术改造经济效益表!AJ81*[1]奖补比例!$B$3+N81*[1]奖补比例!$B$5,IF(K81=\"B\",[1]苏州工业园区工业企业技术改造经济效益表!AJ81*[1]奖补比例!$C$3+N81*[1]奖补比例!$C$5,IF(K81=\"C\",[1]苏州工业园区工业企业技术改造经济效益表!AJ81*[1]奖补比例!$D$3+N81*[1]奖补比例!$D$5,[1]苏州工业园区工业企业技术改造经济效益表!AJ81*[1]奖补比例!$E$3+N81*[1]奖补比例!$E$5)))*[1]奖补比例!$G$2>1000,1000,IF(K81=\"A\",[1]苏州工业园区工业企业技术改造经济效益表!AJ81*[1]奖补比例!$B$3+N81*[1]奖补比例!$B$5,IF(K81=\"B\",[1]苏州工业园区工业企业技术改造经济效益表!AJ81*[1]奖补比例!$C$3+N81*[1]奖补比例!$C$5,IF(K81=\"C\",[1]苏州工业园区工业企业技术改造经济效益表!AJ81*[1]奖补比例!$D$3+N81*[1]奖补比例!$D$5,[1]苏州工业园区工业企业技术改造经济效益表!AJ81*[1]奖补比例!$E$3+N81*[1]奖补比例!$E$5)))*[1]奖补比例!$G$2)","v":{"v":26.420105676,"d":"26.42"}},0,0,0,{"$f":"[1]【扣减】人工智能奖补!F80","v":0},0,{"$f":"[1]【扣减】投促委!F80","v":0},{"v":26.420105676,"d":"26.42"},26.42,{"v":0.0398109,"d":"3.98%"},{"$f":"IF([1]项目纳统比对表!D81=\"否\",\"未纳统\",IF([1]项目纳统比对表!F81=\"否\",\"不足500万元\",\"\"))","v":""},null,26.42]
[79,{"$f":"[1]苏州工业园区工业企业技术改造经济效益表!B82","v":"苏州德斯倍电子有限公司"},{"$f":"[1]苏州工业园区工业企业技术改造经济效益表!C82","v":"91320594MA1Y79R715"},{"$f":"[1]经济效益!N82","v":68},{"$f":"[1]智能化效益!R82","v":90},{"$f":"IF([1]综合素质认定!O82>10,10,[1]综合素质认定!O82)","v":0},0,0,0,{"v":65.6,"d":"65.60"},{"$f":"IF(J82<[1]奖补比例!$D$2,\"D\",IF(J82<[1]奖补比例!$C$2,\"C\",IF(J82<[1]奖补比例!$B$2,\"B\",\"A\")))","v":"B"},{"$f":"[1]苏州工业园区工业企业技术改造经济效益表!AJ82","v":1787.17},{"$f":"[1]苏州工业园区工业企业技术改造经济效益表!AM82","v":590.98},{"$f":"IF([1]苏州工业园区工业企业技术改造经济效益表!AN82>=0.7,[1]苏州工业园区工业企业技术改造经济效益表!AM82,0)","v":0},{"$f":"IF(IF(K82=\"A\",[1]苏州工业园区工业企业技术改造经济效益表!AJ82*[1]奖补比例!$B$3+N82*[1]奖补比例!$B$5,IF(K82=\"B\",[1]苏州工业园区工业企业技术改造经济效益表!AJ82*[1]奖补比例!$C$3+N82*[1]奖补比例!$C$5,IF(K82=\"C\",[1]苏州工业园区工业企业技术改造经济效益表!AJ82*[1]奖补比例!$D$3+N82*[1]奖补比例!$D$5,[1]苏州工业园区工业企业技术改造经济效益表!AJ82*[1]奖补比例!$E$3+N82*[1]奖补比例!$E$5)))*[1]奖补比例!$G$2>1000,1000,IF(K82=\"A\",[1]苏州工业园区工业企业技术改造经济效益表!AJ82*[1]奖补比例!$B$3+N82*[1]奖补比例!$B$5,IF(K82=\"B\",[1]苏州工业园区工业企业技术改造经济效益表!AJ82*[1]奖补比例!$C$3+N82*[1]奖补比例!$C$5,IF(K82=\"C\",[1]苏州工业园区工业企业技术改造经济效益表!AJ82*[1]奖补比例!$D$3+N82*[1]奖补比例!$D$5,[1]苏州工业园区工业企业技术改造经济效益表!AJ82*[1]奖补比例!$E$3+N82*[1]奖补比例!$E$5)))*[1]奖补比例!$G$2)","v":{"v":113.8381538448,"d":"113.84"}},0,0,0,{"$f":"[1]【扣减】人工智能奖补!F81","v":0},0,{"$f":"[1]【扣减】投促委!F81","v":0},{"v":113.8381538448,"d":"113.84"},113.84,{"v":0.06369744,"d":"6.37%"},{"$f":"IF([1]项目纳统比对表!D82=\"否\",\"未纳统\",IF([1]项目纳统比对表!F82=\"否\",\"不足500万元\",\"\"))","v":"未纳统"},null,113.84]
[80,{"$f":"[1]苏州工业园区工业企业技术改造经济效益表!B83","v":"苏州东辉光学有限公司"},{"$f":"[1]苏州工业园区工业企业技术改造经济效益表!C83","v":"91320594672010084A"},{"$f":"[1]经济效益!N83","v":{"v":75.9285221973401,"d":"75.93"}},{"$f":"[1]智能化效益!R83","v":90},{"$f":"IF([1]综合素质认定!O83>10,10,[1]综合素质认定!O83)","v":1},0,0,0,{"v":72.1499655381381,"d":"72.15"},{"$f":"IF(J83<[1]奖补比例!$D$2,\"D\",IF(J83<[1]奖补比例!$C$2,\"C\",IF(J83<[1]奖补比例!$B$2,\"B\",\"A\")))","v":"B"},{"$f":"[1]苏州工业园区工业企业技术改造经济效益表!AJ83","v":961.26},{"$f":"[1]苏州工业园区工业企业技术改造经济效益表!AM83","v":13.39},{"$f":"IF([1]苏州工业园区工业企业技术改造经济效益表!AN83>=0.7,[1]苏州工业园区工业企业技术改造经济效益表!AM83,0)","v":0},{"$f":"IF(IF(K83=\"A\",[1]苏州工业园区工业企业技术改造经济效益表!AJ83*[1]奖补比例!$B$3+N83*[1]奖补比例!$B$5,IF(K83=\"B\",[1]苏州工业园区工业企业技术改造经济效益表!AJ83*[1]奖补比例!$C$3+N83*[1]奖补比例!$C$5,IF(K83=\"C\",[1]苏州工业园区工业企业技术改造经济效益表!AJ83*[1]奖补比例!$D$3+N83*[1]奖补比例!$D$5,[1]苏州工业园区工业企业技术改造经济效益表!AJ83*[1]奖补比例!$E$3+N83*[1]奖补比例!$E$5)))*[1]奖补比例!$G$2>1000,1000,IF(K83=\"A\",[1]苏州工业园区工业企业技术改造经济效益表!AJ83*[1]奖补比例!$B$3+N83*[1]奖补比例!$B$5,IF(K83=\"B\",[1]苏州工业园区工业企业技术改造经济效益表!AJ83*[1]奖补比例!$C$3+N83*[1]奖补比例!$C$5,IF(K83=\"C\",[1]苏州工业园区工业企业技术改造经济效益表!AJ83*[1]奖补比例!$D$3+N83*[1]奖补比例!$D$5,[1]苏州工业园区工业企业技术改造经济效益表!AJ83*[1]奖补比例!$E$3+N83*[1]奖补比例!$E$5)))*[1]奖补比例!$G$2)","v":{"v":61.2298011744,"d":"61.23"}},0,0,0,{"$f":"[1]【扣减】人工智能奖补!F82","v":0},0,{"$f":"[1]【扣减】投促委!F82","v":0},{"v":61.2298011744,"d":"61.23"},61.23,{"v":0.06369744,"d":"6.37%"},{"$f":"IF([1]项目纳统比对表!D83=\"否\",\"未纳统\",IF([1]项目纳统比对表!F83=\"否\",\"不足500万元\",\"\"))","v":""},null,61.23]
[81,{"$f":"[1]苏州工业园区工业企业技术改造经济效益表!B84","v":"苏州恩都法汽车系统有限公司"},{"$f":"[1]苏州工业园区工业企业技术改造经济效益表!C84","v":"91320594MA1MPXL923"},{"$f":"[1]经济效益!N84","v":{"v":75.047100283722,"d":"75.05"}},{"$f":"[1]智能化效益!R84","v":{"v":91.9684,"d":"91.97"}},{"$f":"IF([1]综合素质认定!O84>10,10,[1]综合素质认定!O84)","v":0},0,0,0,{"v":70.9266501986054,"d":"70.93"},{"$f":"IF(J84<[1]奖补比例!$D$2,\"D\",IF(J84<[1]奖补比例!$C$2,\"C\",IF(J84<[1]奖补比例!$B$2,\"B\",\"A\")))","v":"B"},{"$f":"[1]苏州工业园区工业企业技术改造经济效益表!AJ84","v":546.01},{"$f":"[1]苏州工业园区工业企业技术改造经济效益表!AM84","v":187.51},{"$f":"IF([1]苏州工业园区工业企业技术改造经济效益表!AN84>=0.7,[1]苏州工业园区工业企业技术改造经济效益表!AM84,0)","v":0},{"$f":"IF(IF(K84=\"A\",[1]苏州工业园区工业企业技术改造经济效益表!AJ84*[1]奖补比例!$B$3+N84*[1]奖补比例!$B$5,IF(K84=\"B\",[1]苏州工业园区工业企业技术改造经济效益表!AJ84*[1]奖补比例!$C$3+N84*[1]奖补比例!$C$5,IF(K84=\"C\",[1]苏州工业园区工业企业技术改造经济效益表!AJ84*[1]奖补比例!$D$3+N84*[1]奖补比例!$D$5,[1]苏州工业园区工业企业技术改造经济效益表!AJ84*[1]奖补比例!$E$3+N84*[1]奖补比例!$E$5)))*[1]奖补比例!$G$2>1000,1000,IF(K84=\"A\",[1]苏州工业园区工业企业技术改造经济效益表!AJ84*[1]奖补比例!$B$3+N84*[1]奖补比例!$B$5,IF(K84=\"B\",[1]苏州工业园区工业企业技术改造经济效益表!AJ84*[1]奖补比例!$C$3+N84*[1]奖补比例!$C$5,IF(K84=\"C\",[1]苏州工业园区工业企业技术改造经济效益表!AJ84*[1]奖补比例!$D$3+N84*[1]奖补比例!$D$5,[1]苏州工业园区工业企业技术改造经济效益表!AJ84*[1]奖补比例!$E$3+N84*[1]奖补比例!$E$5)))*[1]奖补比例!$G$2)","v":{"v":34.7794392144,"d":"34.78"}},0,0,0,{"$f":"[1]【扣减】人工智能奖补!F83","v":0},0,{"$f":"[1]【扣减】投促委!F83","v":0},{"v":34.7794392144,"d":"34.78"},34.78,{"v":0.06369744,"d":"6.37%"},{"$f":"IF([1]项目纳统比对表!D84=\"否\",\"未纳统\",IF([1]项目纳统比对表!F84=\"否\",\"不足500万元\",\"\"))","v":"未纳统"},null,34.78]
[82,{"$f":"[1]苏州工业园区工业企业技术改造经济效益表!B85","v":"苏州富莱克精密工具有限公司"},{"$f":"[1]苏州工业园区工业企业技术改造经济效益表!C85","v":"91320594672023221K"},{"$f":"[1]经济效益!N85","v":{"v":49.72088908984,"d":"49.72"}},{"$f":"[1]智能化效益!R85","v":90},{"$f":"IF([1]综合素质认定!O85>10,10,[1]综合素质认定!O85)","v":0},0,0,0,{"v":52.804622362888,"d":"52.80"},{"$f":"IF(J85<[1]奖补比例!$D$2,\"D\",IF(J85<[1]奖补比例!$C$2,\"C\",IF(J85<[1]奖补比例!$B$2,\"B\",\"A\")))","v":"C"},{"$f":"[1]苏州工业园区工业企业技术改造经济效益表!AJ85","v":551.96},{"$f":"[1]苏州工业园区工业企业技术改造经济效益表!AM85","v":0},{"$f":"IF([1]苏州工业园区工业企业技术改造经济效益表!AN85>=0.7,[1]苏州工业园区工业企业技术改造经济效益表!AM85,0)","v":0},{"$f":"IF(IF(K85=\"A\",[1]苏州工业园区工业企业技术改造经济效益表!AJ85*[1]奖补比例!$B$3+N85*[1]奖补比例!$B$5,IF(K85=\"B\",[1]苏州工业园区工业企业技术改造经济效益表!AJ85*[1]奖补比例!$C$3+N85*[1]奖补比例!$C$5,IF(K85=\"C\",[1]苏州工业园区工业企业技术改造经济效益表!AJ85*[1]奖补比例!$D$3+N85*[1]奖补比例!$D$5,[1]苏州工业园区工业企业技术改造经济效益表!AJ85*[1]奖补比例!$E$3+N85*[1]奖补比例!$E$5)))*[1]奖补比例!$G$2>1000,1000,IF(K85=\"A\",[1]苏州工业园区工业企业技术改造经济效益表!AJ85*[1]奖补比例!$B$3+N85*[1]奖补比例!$B$5,IF(K85=\"B\",[1]苏州工业园区工业企业技术改造经济效益表!AJ85*[1]奖补比例!$C$3+N85*[1]奖补比例!$C$5,IF(K85=\"C\",[1]苏州工业园区工业企业技术改造经济效益表!AJ85*[1]奖补比例!$D$3+N85*[1]奖补比例!$D$5,[1]苏州工业园区工业企业技术改造经济效益表!AJ85*[1]奖补比例!$E$3+N85*[1]奖补比例!$E$5)))*[1]奖补比例!$G$2)","v":{"v":21.974024364,"d":"21.97"}},0,0,0,{"$f":"[1]【扣减】人工智能奖补!F84","v":0},0,{"$f":"[1]【扣减】投促委!F84","v":0},{"v":21.974024364,"d":"21.97"},21.97,{"v":0.0398109,"d":"3.98%"},{"$f":"IF([1]项目纳统比对表!D85=\"否\",\"未纳统\",IF([1]项目纳统比对表!F85=\"否\",\"不足500万元\",\"\"))","v":"未纳统"},null,21.97]
[83,{"$f":"[1]苏州工业园区工业企业技术改造经济效益表!B86","v":"苏州工业园区久泰精密电子有限公司"},{"$f":"[1]苏州工业园区工业企业技术改造经济效益表!C86","v":"9132059474624006X0"},{"$f":"[1]经济效益!N86","v":{"v":70.5773641460787,"d":"70.58"}},{"$f":"[1]智能化效益!R86","v":88},{"$f":"IF([1]综合素质认定!O86>10,10,[1]综合素质认定!O86)","v":0},0,0,0,{"v":67.0041549022551,"d":"67.00"},{"$f":"IF(J86<[1]奖补比例!$D$2,\"D\",IF(J86<[1]奖补比例!$C$2,\"C\",IF(J86<[1]奖补比例!$B$2,\"B\",\"A\")))","v":"B"},{"$f":"[1]苏州工业园区工业企业技术改造经济效益表!AJ86","v":3601.35},{"$f":"[1]苏州工业园区工业企业技术改造经济效益表!AM86","v":0},{"$f":"IF([1]苏州工业园区工业企业技术改造经济效益表!AN86>=0.7,[1]苏州工业园区工业企业技术改造经济效益表!AM86,0)","v":0},{"$f":"IF(IF(K86=\"A\",[1]苏州工业园区工业企业技术改造经济效益表!AJ86*[1]奖补比例!$B$3+N86*[1]奖补比例!$B$5,IF(K86=\"B\",[1]苏州工业园区工业企业技术改造经济效益表!AJ86*[1]奖补比例!$C$3+N86*[1]奖补比例!$C$5,IF(K86=\"C\",[1]苏州工业园区工业企业技术改造经济效益表!AJ86*[1]奖补比例!$D$3+N86*[1]奖补比例!$D$5,[1]苏州工业园区工业企业技术改造经济效益表!AJ86*[1]奖补比例!$E$3+N86*[1]奖补比例!$E$5)))*[1]奖补比例!$G$2>1000,1000,IF(K86=\"A\",[1]苏州工业园区工业企业技术改造经济效益表!AJ86*[1]奖补比例!$B$3+N86*[1]奖补比例!$B$5,IF(K86=\"B\",[1]苏州工业园区工业企业技术改造经济效益表!AJ86*[1]奖补比例!$C$3+N86*[1]奖补比例!$C$5,IF(K86=\"C\",[1]苏州工业园区工业企业技术改造经济效益表!AJ86*[1]奖补比例!$D$3+N86*[1]奖补比例!$D$5,[1]苏州工业园区工业企业技术改造经济效益表!AJ86*[1]奖补比例!$E$3+N86*[1]奖补比例!$E$5)))*[1]奖补比例!$G$2)","v":{"v":229.396775544,"d":"229.40"}},0,0,0,{"$f":"[1]【扣减】人工智能奖补!F85","v":0},0,{"$f":"[1]【扣减】投促委!F85","v":0},{"v":229.396775544,"d":"229.40"},{"v":229.4,"d":"229.40"},{"v":0.06369744,"d":"6.37%"},{"$f":"IF([1]项目纳统比对表!D86=\"否\",\"未纳统\",IF([1]项目纳统比对表!F86=\"否\",\"不足500万元\",\"\"))","v":""},null,{"v":229.4,"d":"229.40"}]
[84,{"$f":"[1]苏州工业园区工业企业技术改造经济效益表!B87","v":"苏州工业园区蓝天燃气热电有限公司"},{"$f":"[1]苏州工业园区工业企业技术改造经济效益表!C87","v":"913205947558549871"},{"$f":"[1]经济效益!N87","v":{"v":89.3618363966651,"d":"89.36"}},{"$f":"[1]智能化效益!R87","v":80.11},{"$f":"IF([1]综合素质认定!O87>10,10,[1]综合素质认定!O87)","v":0},0,0,0,{"v":78.5752854776656,"d":"78.58"},{"$f":"IF(J87<[1]奖补比例!$D$2,\"D\",IF(J87<[1]奖补比例!$C$2,\"C\",IF(J87<[1]奖补比例!$B$2,\"B\",\"A\")))","v":"B"},{"$f":"[1]苏州工业园区工业企业技术改造经济效益表!AJ87","v":1252.87},{"$f":"[1]苏州工业园区工业企业技术改造经济效益表!AM87","v":24.37},{"$f":"IF([1]苏州工业园区工业企业技术改造经济效益表!AN87>=0.7,[1]苏州工业园区工业企业技术改造经济效益表!AM87,0)","v":0},{"$f":"IF(IF(K87=\"A\",[1]苏州工业园区工业企业技术改造经济效益表!AJ87*[1]奖补比例!$B$3+N87*[1]奖补比例!$B$5,IF(K87=\"B\",[1]苏州工业园区工业企业技术改造经济效益表!AJ87*[1]奖补比例!$C$3+N87*[1]奖补比例!$C$5,IF(K87=\"C\",[1]苏州工业园区工业企业技术改造经济效益表!AJ87*[1]奖补比例!$D$3+N87*[1]奖补比例!$D$5,[1]苏州工业园区工业企业技术改造经济效益表!AJ87*[1]奖补比例!$E$3+N87*[1]奖补比例!$E$5)))*[1]奖补比例!$G$2>1000,1000,IF(K87=\"A\",[1]苏州工业园区工业企业技术改造经济效益表!AJ87*[1]奖补比例!$B$3+N87*[1]奖补比例!$B$5,IF(K87=\"B\",[1]苏州工业园区工业企业技术改造经济效益表!AJ87*[1]奖补比例!$C$3+N87*[1]奖补比例!$C$5,IF(K87=\"C\",[1]苏州工业园区工业企业技术改造经济效益表!AJ87*[1]奖补比例!$D$3+N87*[1]奖补比例!$D$5,[1]苏州工业园区工业企业技术改造经济效益表!AJ87*[1]奖补比例!$E$3+N87*[1]奖补比例!$E$5)))*[1]奖补比例!$G$2)","v":{"v":79.8046116528,"d":"79.80"}},0,0,0,{"$f":"[1]【扣减】人工智能奖补!F86","v":0},0,{"$f":"[1]【扣减】投促委!F86","v":0},{"v":79.8046116528,"d":"79.80"},{"v":79.8,"d":"79.80"},{"v":0.06369744,"d":"6.37%"},{"$f":"IF([1]项目纳统比对表!D87=\"否\",\"未纳统\",IF([1]项目纳统比对表!F87=\"否\",\"不足500万元\",\"\"))","v":"未纳统"},null,{"v":79.8,"d":"79.80"}]
[85,{"$f":"[1]苏州工业园区工业企业技术改造经济效益表!B88","v":"苏州工业园区星德胜电机有限公司"},{"$f":"[1]苏州工业园区工业企业技术改造经济效益表!C88","v":"9132059476827691X1"},{"$f":"[1]经济效益!N88","v":63},{"$f":"[1]智能化效益!R88","v":90},{"$f":"IF([1]综合素质认定!O88>10,10,[1]综合素质认定!O88)","v":1},0,0,0,{"v":63.1,"d":"63.10"},{"$f":"IF(J88<[1]奖补比例!$D$2,\"D\",IF(J88<[1]奖补比例!$C$2,\"C\",IF(J88<[1]奖补比例!$B$2,\"B\",\"A\")))","v":"B"},{"$f":"[1]苏州工业园区工业企业技术改造经济效益表!AJ88","v":1570.75},{"$f":"[1]苏州工业园区工业企业技术改造经济效益表!AM88","v":0},{"$f":"IF([1]苏州工业园区工业企业技术改造经济效益表!AN88>=0.7,[1]苏州工业园区工业企业技术改造经济效益表!AM88,0)","v":0},{"$f":"IF(IF(K88=\"A\",[1]苏州工业园区工业企业技术改造经济效益表!AJ88*[1]奖补比例!$B$3+N88*[1]奖补比例!$B$5,IF(K88=\"B\",[1]苏州工业园区工业企业技术改造经济效益表!AJ88*[1]奖补比例!$C$3+N88*[1]奖补比例!$C$5,IF(K88=\"C\",[1]苏州工业园区工业企业技术改造经济效益表!AJ88*[1]奖补比例!$D$3+N88*[1]奖补比例!$D$5,[1]苏州工业园区工业企业技术改造经济效益表!AJ88*[1]奖补比例!$E$3+N88*[1]奖补比例!$E$5)))*[1]奖补比例!$G$2>1000,1000,IF(K88=\"A\",[1]苏州工业园区工业企业技术改造经济效益表!AJ88*[1]奖补比例!$B$3+N88*[1]奖补比例!$B$5,IF(K88=\"B\",[1]苏州工业园区工业企业技术改造经济效益表!AJ88*[1]奖补比例!$C$3+N88*[1]奖补比例!$C$5,IF(K88=\"C\",[1]苏州工业园区工业企业技术改造经济效益表!AJ88*[1]奖补比例!$D$3+N88*[1]奖补比例!$D$5,[1]苏州工业园区工业企业技术改造经济效益表!AJ88*[1]奖补比例!$E$3+N88*[1]奖补比例!$E$5)))*[1]奖补比例!$G$2)","v":{"v":100.05275388,"d":"100.05"}},0,0,0,{"$f":"[1]【扣减】人工智能奖补!F87","v":0},0,{"$f":"[1]【扣减】投促委!F87","v":0},{"v":100.05275388,"d":"100.05"},100.05,{"v":0.06369744,"d":"6.37%"},{"$f":"IF([1]项目纳统比对表!D88=\"否\",\"未纳统\",IF([1]项目纳统比对表!F88=\"否\",\"不足500万元\",\"\"))","v":""},null,100.05]
[86,{"$f":"[1]苏州工业园区工业企业技术改造经济效益表!B89","v":"苏州恒瑞宏远医疗科技有限公司"},{"$f":"[1]苏州工业园区工业企业技术改造经济效益表!C89","v":"91320594MA1X6PHN6H"},{"$f":"[1]经济效益!N89","v":70},{"$f":"[1]智能化效益!R89","v":85},{"$f":"IF([1]综合素质认定!O89>10,10,[1]综合素质认定!O89)","v":0},0,0,0,66,{"$f":"IF(J89<[1]奖补比例!$D$2,\"D\",IF(J89<[1]奖补比例!$C$2,\"C\",IF(J89<[1]奖补比例!$B$2,\"B\",\"A\")))","v":"B"},{"$f":"[1]苏州工业园区工业企业技术改造经济效益表!AJ89","v":1627.05},{"$f":"[1]苏州工业园区工业企业技术改造经济效益表!AM89","v":0},{"$f":"IF([1]苏州工业园区工业企业技术改造经济效益表!AN89>=0.7,[1]苏州工业园区工业企业技术改造经济效益表!AM89,0)","v":0},{"$f":"IF(IF(K89=\"A\",[1]苏州工业园区工业企业技术改造经济效益表!AJ89*[1]奖补比例!$B$3+N89*[1]奖补比例!$B$5,IF(K89=\"B\",[1]苏州工业园区工业企业技术改造经济效益表!AJ89*[1]奖补比例!$C$3+N89*[1]奖补比例!$C$5,IF(K89=\"C\",[1]苏州工业园区工业企业技术改造经济效益表!AJ89*[1]奖补比例!$D$3+N89*[1]奖补比例!$D$5,[1]苏州工业园区工业企业技术改造经济效益表!AJ89*[1]奖补比例!$E$3+N89*[1]奖补比例!$E$5)))*[1]奖补比例!$G$2>1000,1000,IF(K89=\"A\",[1]苏州工业园区工业企业技术改造经济效益表!AJ89*[1]奖补比例!$B$3+N89*[1]奖补比例!$B$5,IF(K89=\"B\",[1]苏州工业园区工业企业技术改造经济效益表!AJ89*[1]奖补比例!$C$3+N89*[1]奖补比例!$C$5,IF(K89=\"C\",[1]苏州工业园区工业企业技术改造经济效益表!AJ89*[1]奖补比例!$D$3+N89*[1]奖补比例!$D$5,[1]苏州工业园区工业企业技术改造经济效益表!AJ89*[1]奖补比例!$E$3+N89*[1]奖补比例!$E$5)))*[1]奖补比例!$G$2)","v":{"v":103.638919752,"d":"103.64"}},{"$f":"VLOOKUP(B89,[1]【扣减】省技改综合奖补!$C$2:$E$59,3,0)/10000","v":68},0,0,{"$f":"[1]【扣减】人工智能奖补!F88","v":0},0,{"$f":"[1]【扣减】投促委!F88","v":278},0,{"v":0,"d":"0.00"},{"v":0.06369744,"d":"6.37%"},{"$f":"IF([1]项目纳统比对表!D89=\"否\",\"未纳统\",IF([1]项目纳统比对表!F89=\"否\",\"不足500万元\",\"\"))","v":"不足500万元"},null,{"v":0,"d":"0.00"}]
[87,{"$f":"[1]苏州工业园区工业企业技术改造经济效益表!B90","v":"苏州华星光电技术有限公司"},{"$f":"[1]苏州工业园区工业企业技术改造经济效益表!C90","v":"91320594717884886K"},{"$f":"[1]经济效益!N90","v":{"v":51.8030272461861,"d":"51.80"}},{"$f":"[1]智能化效益!R90","v":90},{"$f":"IF([1]综合素质认定!O90>10,10,[1]综合素质认定!O90)","v":1},0,0,0,{"v":55.2621190723303,"d":"55.26"},{"$f":"IF(J90<[1]奖补比例!$D$2,\"D\",IF(J90<[1]奖补比例!$C$2,\"C\",IF(J90<[1]奖补比例!$B$2,\"B\",\"A\")))","v":"C"},{"$f":"[1]苏州工业园区工业企业技术改造经济效益表!AJ90","v":6483.89},{"$f":"[1]苏州工业园区工业企业技术改造经济效益表!AM90","v":0},{"$f":"IF([1]苏州工业园区工业企业技术改造经济效益表!AN90>=0.7,[1]苏州工业园区工业企业技术改造经济效益表!AM90,0)","v":0},{"$f":"IF(IF(K90=\"A\",[1]苏州工业园区工业企业技术改造经济效益表!AJ90*[1]奖补比例!$B$3+N90*[1]奖补比例!$B$5,IF(K90=\"B\",[1]苏州工业园区工业企业技术改造经济效益表!AJ90*[1]奖补比例!$C$3+N90*[1]奖补比例!$C$5,IF(K90=\"C\",[1]苏州工业园区工业企业技术改造经济效益表!AJ90*[1]奖补比例!$D$3+N90*[1]奖补比例!$D$5,[1]苏州工业园区工业企业技术改造经济效益表!AJ90*[1]奖补比例!$E$3+N90*[1]奖补比例!$E$5)))*[1]奖补比例!$G$2>1000,1000,IF(K90=\"A\",[1]苏州工业园区工业企业技术改造经济效益表!AJ90*[1]奖补比例!$B$3+N90*[1]奖补比例!$B$5,IF(K90=\"B\",[1]苏州工业园区工业企业技术改造经济效益表!AJ90*[1]奖补比例!$C$3+N90*[1]奖补比例!$C$5,IF(K90=\"C\",[1]苏州工业园区工业企业技术改造经济效益表!AJ90*[1]奖补比例!$D$3+N90*[1]奖补比例!$D$5,[1]苏州工业园区工业企业技术改造经济效益表!AJ90*[1]奖补比例!$E$3+N90*[1]奖补比例!$E$5)))*[1]奖补比例!$G$2)","v":{"v":258.129496401,"d":"258.13"}},0,0,0,{"$f":"[1]【扣减】人工智能奖补!F89","v":0},0,{"$f":"[1]【扣减】投促委!F89","v":0},{"v":258.129496401,"d":"258.13"},258.13,{"v":0.0398109,"d":"3.98%"},{"$f":"IF([1]项目纳统比对表!D90=\"否\",\"未纳统\",IF([1]项目纳统比对表!F90=\"否\",\"不足500万元\",\"\"))","v":"未纳统"},null,258.13]
[88,{"$f":"[1]苏州工业园区工业企业技术改造经济效益表!B91","v":"苏州华星光电显示有限公司"},{"$f":"[1]苏州工业园区工业企业技术改造经济效益表!C91","v":"91320594742473456P"},{"$f":"[1]经济效益!N91","v":60},{"$f":"[1]智能化效益!R91","v":88},{"$f":"IF([1]综合素质认定!O91>10,10,[1]综合素质认定!O91)","v":1},0,0,0,{"v":60.6,"d":"60.60"},{"$f":"IF(J91<[1]奖补比例!$D$2,\"D\",IF(J91<[1]奖补比例!$C$2,\"C\",IF(J91<[1]奖补比例!$B$2,\"B\",\"A\")))","v":"B"},{"$f":"[1]苏州工业园区工业企业技术改造经济效益表!AJ91","v":11677.17},{"$f":"[1]苏州工业园区工业企业技术改造经济效益表!AM91","v":1296.94},{"$f":"IF([1]苏州工业园区工业企业技术改造经济效益表!AN91>=0.7,[1]苏州工业园区工业企业技术改造经济效益表!AM91,0)","v":0},{"$f":"IF(IF(K91=\"A\",[1]苏州工业园区工业企业技术改造经济效益表!AJ91*[1]奖补比例!$B$3+N91*[1]奖补比例!$B$5,IF(K91=\"B\",[1]苏州工业园区工业企业技术改造经济效益表!AJ91*[1]奖补比例!$C$3+N91*[1]奖补比例!$C$5,IF(K91=\"C\",[1]苏州工业园区工业企业技术改造经济效益表!AJ91*[1]奖补比例!$D$3+N91*[1]奖补比例!$D$5,[1]苏州工业园区工业企业技术改造经济效益表!AJ91*[1]奖补比例!$E$3+N91*[1]奖补比例!$E$5)))*[1]奖补比例!$G$2>1000,1000,IF(K91=\"A\",[1]苏州工业园区工业企业技术改造经济效益表!AJ91*[1]奖补比例!$B$3+N91*[1]奖补比例!$B$5,IF(K91=\"B\",[1]苏州工业园区工业企业技术改造经济效益表!AJ91*[1]奖补比例!$C$3+N91*[1]奖补比例!$C$5,IF(K91=\"C\",[1]苏州工业园区工业企业技术改造经济效益表!AJ91*[1]奖补比例!$D$3+N91*[1]奖补比例!$D$5,[1]苏州工业园区工业企业技术改造经济效益表!AJ91*[1]奖补比例!$E$3+N91*[1]奖补比例!$E$5)))*[1]奖补比例!$G$2)","v":{"v":743.8058354448,"d":"743.81"}},0,0,{"$f":"VLOOKUP(B91,[1]【扣减】节能改造项目奖补!$B$2:$C$23,2,0)","v":32},{"$f":"[1]【扣减】人工智能奖补!F90","v":0},0,{"$f":"[1]【扣减】投促委!F90","v":0},{"v":711.8058354448,"d":"711.81"},711.81,{"v":0.06369744,"d":"6.37%"},{"$f":"IF([1]项目纳统比对表!D91=\"否\",\"未纳统\",IF([1]项目纳统比对表!F91=\"否\",\"不足500万元\",\"\"))","v":"未纳统"},null,711.81]
[89,{"$f":"[1]苏州工业园区工业企业技术改造经济效益表!B92","v":"苏州华兴源创科技股份有限公司"},{"$f":"[1]苏州工业园区工业企业技术改造经济效益表!C92","v":"91320594776412379N"},{"$f":"[1]经济效益!N92","v":61},{"$f":"[1]智能化效益!R92","v":91.08},{"$f":"IF([1]综合素质认定!O92>10,10,[1]综合素质认定!O92)","v":2},0,0,0,{"v":62.916,"d":"62.92"},{"$f":"IF(J92<[1]奖补比例!$D$2,\"D\",IF(J92<[1]奖补比例!$C$2,\"C\",IF(J92<[1]奖补比例!$B$2,\"B\",\"A\")))","v":"B"},{"$f":"[1]苏州工业园区工业企业技术改造经济效益表!AJ92","v":545.08},{"$f":"[1]苏州工业园区工业企业技术改造经济效益表!AM92","v":16.92},{"$f":"IF([1]苏州工业园区工业企业技术改造经济效益表!AN92>=0.7,[1]苏州工业园区工业企业技术改造经济效益表!AM92,0)","v":0},{"$f":"IF(IF(K92=\"A\",[1]苏州工业园区工业企业技术改造经济效益表!AJ92*[1]奖补比例!$B$3+N92*[1]奖补比例!$B$5,IF(K92=\"B\",[1]苏州工业园区工业企业技术改造经济效益表!AJ92*[1]奖补比例!$C$3+N92*[1]奖补比例!$C$5,IF(K92=\"C\",[1]苏州工业园区工业企业技术改造经济效益表!AJ92*[1]奖补比例!$D$3+N92*[1]奖补比例!$D$5,[1]苏州工业园区工业企业技术改造经济效益表!AJ92*[1]奖补比例!$E$3+N92*[1]奖补比例!$E$5)))*[1]奖补比例!$G$2>1000,1000,IF(K92=\"A\",[1]苏州工业园区工业企业技术改造经济效益表!AJ92*[1]奖补比例!$B$3+N92*[1]奖补比例!$B$5,IF(K92=\"B\",[1]苏州工业园区工业企业技术改造经济效益表!AJ92*[1]奖补比例!$C$3+N92*[1]奖补比例!$C$5,IF(K92=\"C\",[1]苏州工业园区工业企业技术改造经济效益表!AJ92*[1]奖补比例!$D$3+N92*[1]奖补比例!$D$5,[1]苏州工业园区工业企业技术改造经济效益表!AJ92*[1]奖补比例!$E$3+N92*[1]奖补比例!$E$5)))*[1]奖补比例!$G$2)","v":{"v":34.7202005952,"d":"34.72"}},0,0,0,{"$f":"[1]【扣减】人工智能奖补!F91","v":0},0,{"$f":"[1]【扣减】投促委!F91","v":0},{"v":34.7202005952,"d":"34.72"},34.72,{"v":0.06369744,"d":"6.37%"},{"$f":"IF([1]项目纳统比对表!D92=\"否\",\"未纳统\",IF([1]项目纳统比对表!F92=\"否\",\"不足500万元\",\"\"))","v":"未纳统"},null,34.72]
[90,{"$f":"[1]苏州工业园区工业企业技术改造经济效益表!B93","v":"苏州吉恒纳米科技有限公司"},{"$f":"[1]苏州工业园区工业企业技术改造经济效益表!C93","v":"91320594338895913L"},{"$f":"[1]经济效益!N93","v":84},{"$f":"[1]智能化效益!R93","v":70},{"$f":"IF([1]综合素质认定!O93>10,10,[1]综合素质认定!O93)","v":0},0,0,0,{"v":72.8,"d":"72.80"},{"$f":"IF(J93<[1]奖补比例!$D$2,\"D\",IF(J93<[1]奖补比例!$C$2,\"C\",IF(J93<[1]奖补比例!$B$2,\"B\",\"A\")))","v":"B"},{"$f":"[1]苏州工业园区工业企业技术改造经济效益表!AJ93","v":941.41},{"$f":"[1]苏州工业园区工业企业技术改造经济效益表!AM93","v":19.77},{"$f":"IF([1]苏州工业园区工业企业技术改造经济效益表!AN93>=0.7,[1]苏州工业园区工业企业技术改造经济效益表!AM93,0)","v":0},{"$f":"IF(IF(K93=\"A\",[1]苏州工业园区工业企业技术改造经济效益表!AJ93*[1]奖补比例!$B$3+N93*[1]奖补比例!$B$5,IF(K93=\"B\",[1]苏州工业园区工业企业技术改造经济效益表!AJ93*[1]奖补比例!$C$3+N93*[1]奖补比例!$C$5,IF(K93=\"C\",[1]苏州工业园区工业企业技术改造经济效益表!AJ93*[1]奖补比例!$D$3+N93*[1]奖补比例!$D$5,[1]苏州工业园区工业企业技术改造经济效益表!AJ93*[1]奖补比例!$E$3+N93*[1]奖补比例!$E$5)))*[1]奖补比例!$G$2>1000,1000,IF(K93=\"A\",[1]苏州工业园区工业企业技术改造经济效益表!AJ93*[1]奖补比例!$B$3+N93*[1]奖补比例!$B$5,IF(K93=\"B\",[1]苏州工业园区工业企业技术改造经济效益表!AJ93*[1]奖补比例!$C$3+N93*[1]奖补比例!$C$5,IF(K93=\"C\",[1]苏州工业园区工业企业技术改造经济效益表!AJ93*[1]奖补比例!$D$3+N93*[1]奖补比例!$D$5,[1]苏州工业园区工业企业技术改造经济效益表!AJ93*[1]奖补比例!$E$3+N93*[1]奖补比例!$E$5)))*[1]奖补比例!$G$2)","v":{"v":59.9654069904,"d":"59.97"}},0,0,0,{"$f":"[1]【扣减】人工智能奖补!F92","v":0},0,{"$f":"[1]【扣减】投促委!F92","v":0},{"v":59.9654069904,"d":"59.97"},59.97,{"v":0.06369744,"d":"6.37%"},{"$f":"IF([1]项目纳统比对表!D93=\"否\",\"未纳统\",IF([1]项目纳统比对表!F93=\"否\",\"不足500万元\",\"\"))","v":"未纳统"},null,59.97]
[91,{"$f":"[1]苏州工业园区工业企业技术改造经济效益表!B94","v":"苏州晶方半导体科技股份有限公司"},{"$f":"[1]苏州工业园区工业企业技术改造经济效益表!C94","v":"913200007746765307"},{"$f":"[1]经济效益!N94","v":95},{"$f":"[1]智能化效益!R94","v":90.89},{"$f":"IF([1]综合素质认定!O94>10,10,[1]综合素质认定!O94)","v":8},0,0,0,{"v":92.678,"d":"92.68"},{"$f":"IF(J94<[1]奖补比例!$D$2,\"D\",IF(J94<[1]奖补比例!$C$2,\"C\",IF(J94<[1]奖补比例!$B$2,\"B\",\"A\")))","v":"A"},{"$f":"[1]苏州工业园区工业企业技术改造经济效益表!AJ94","v":3717.37},{"$f":"[1]苏州工业园区工业企业技术改造经济效益表!AM94","v":{"v":781.238936,"d":"781.24"}},{"$f":"IF([1]苏州工业园区工业企业技术改造经济效益表!AN94>=0.7,[1]苏州工业园区工业企业技术改造经济效益表!AM94,0)","v":0},{"$f":"IF(IF(K94=\"A\",[1]苏州工业园区工业企业技术改造经济效益表!AJ94*[1]奖补比例!$B$3+N94*[1]奖补比例!$B$5,IF(K94=\"B\",[1]苏州工业园区工业企业技术改造经济效益表!AJ94*[1]奖补比例!$C$3+N94*[1]奖补比例!$C$5,IF(K94=\"C\",[1]苏州工业园区工业企业技术改造经济效益表!AJ94*[1]奖补比例!$D$3+N94*[1]奖补比例!$D$5,[1]苏州工业园区工业企业技术改造经济效益表!AJ94*[1]奖补比例!$E$3+N94*[1]奖补比例!$E$5)))*[1]奖补比例!$G$2>1000,1000,IF(K94=\"A\",[1]苏州工业园区工业企业技术改造经济效益表!AJ94*[1]奖补比例!$B$3+N94*[1]奖补比例!$B$5,IF(K94=\"B\",[1]苏州工业园区工业企业技术改造经济效益表!AJ94*[1]奖补比例!$C$3+N94*[1]奖补比例!$C$5,IF(K94=\"C\",[1]苏州工业园区工业企业技术改造经济效益表!AJ94*[1]奖补比例!$D$3+N94*[1]奖补比例!$D$5,[1]苏州工业园区工业企业技术改造经济效益表!AJ94*[1]奖补比例!$E$3+N94*[1]奖补比例!$E$5)))*[1]奖补比例!$G$2)","v":{"v":295.983690666,"d":"295.98"}},{"$f":"VLOOKUP(B94,[1]【扣减】省技改综合奖补!$C$2:$E$59,3,0)/10000","v":19},0,0,{"$f":"[1]【扣减】人工智能奖补!F93","v":0},0,{"$f":"[1]【扣减】投促委!F93","v":0},{"v":276.983690666,"d":"276.98"},276.98,{"v":0.0796218,"d":"7.96%"},{"$f":"IF([1]项目纳统比对表!D94=\"否\",\"未纳统\",IF([1]项目纳统比对表!F94=\"否\",\"不足500万元\",\"\"))","v":""},null,276.98]
[92,{"$f":"[1]苏州工业园区工业企业技术改造经济效益表!B95","v":"苏州晶湛半导体有限公司"},{"$f":"[1]苏州工业园区工业企业技术改造经济效益表!C95","v":"91320594592520797R"},{"$f":"[1]经济效益!N95","v":66},{"$f":"[1]智能化效益!R95","v":80},{"$f":"IF([1]综合素质认定!O95>10,10,[1]综合素质认定!O95)","v":0},0,0,0,{"v":62.2,"d":"62.20"},{"$f":"IF(J95<[1]奖补比例!$D$2,\"D\",IF(J95<[1]奖补比例!$C$2,\"C\",IF(J95<[1]奖补比例!$B$2,\"B\",\"A\")))","v":"B"},{"$f":"[1]苏州工业园区工业企业技术改造经济效益表!AJ95","v":2597.03},{"$f":"[1]苏州工业园区工业企业技术改造经济效益表!AM95","v":18},{"$f":"IF([1]苏州工业园区工业企业技术改造经济效益表!AN95>=0.7,[1]苏州工业园区工业企业技术改造经济效益表!AM95,0)","v":0},{"$f":"IF(IF(K95=\"A\",[1]苏州工业园区工业企业技术改造经济效益表!AJ95*[1]奖补比例!$B$3+N95*[1]奖补比例!$B$5,IF(K95=\"B\",[1]苏州工业园区工业企业技术改造经济效益表!AJ95*[1]奖补比例!$C$3+N95*[1]奖补比例!$C$5,IF(K95=\"C\",[1]苏州工业园区工业企业技术改造经济效益表!AJ95*[1]奖补比例!$D$3+N95*[1]奖补比例!$D$5,[1]苏州工业园区工业企业技术改造经济效益表!AJ95*[1]奖补比例!$E$3+N95*[1]奖补比例!$E$5)))*[1]奖补比例!$G$2>1000,1000,IF(K95=\"A\",[1]苏州工业园区工业企业技术改造经济效益表!AJ95*[1]奖补比例!$B$3+N95*[1]奖补比例!$B$5,IF(K95=\"B\",[1]苏州工业园区工业企业技术改造经济效益表!AJ95*[1]奖补比例!$C$3+N95*[1]奖补比例!$C$5,IF(K95=\"C\",[1]苏州工业园区工业企业技术改造经济效益表!AJ95*[1]奖补比例!$D$3+N95*[1]奖补比例!$D$5,[1]苏州工业园区工业企业技术改造经济效益表!AJ95*[1]奖补比例!$E$3+N95*[1]奖补比例!$E$5)))*[1]奖补比例!$G$2)","v":{"v":165.4241626032,"d":"165.42"}},{"$f":"VLOOKUP(B95,[1]【扣减】省技改综合奖补!$C$2:$E$59,3,0)/10000","v":15},0,0,{"$f":"[1]【扣减】人工智能奖补!F94","v":0},0,{"$f":"[1]【扣减】投促委!F94","v":0},{"v":150.4241626032,"d":"150.42"},150.42,{"v":0.06369744,"d":"6.37%"},{"$f":"IF([1]项目纳统比对表!D95=\"否\",\"未纳统\",IF([1]项目纳统比对表!F95=\"否\",\"不足500万元\",\"\"))","v":""},null,150.42]
[93,{"$f":"[1]苏州工业园区工业企业技术改造经济效益表!B96","v":"苏州卡利肯新光讯科技有限公司"},{"$f":"[1]苏州工业园区工业企业技术改造经济效益表!C96","v":"91320594774676506M"},{"$f":"[1]经济效益!N96","v":65},{"$f":"[1]智能化效益!R96","v":{"v":86.6972,"d":"86.70"}},{"$f":"IF([1]综合素质认定!O96>10,10,[1]综合素质认定!O96)","v":0},0,0,0,{"v":62.83944,"d":"62.84"},{"$f":"IF(J96<[1]奖补比例!$D$2,\"D\",IF(J96<[1]奖补比例!$C$2,\"C\",IF(J96<[1]奖补比例!$B$2,\"B\",\"A\")))","v":"B"},{"$f":"[1]苏州工业园区工业企业技术改造经济效益表!AJ96","v":552.81},{"$f":"[1]苏州工业园区工业企业技术改造经济效益表!AM96","v":21.54},{"$f":"IF([1]苏州工业园区工业企业技术改造经济效益表!AN96>=0.7,[1]苏州工业园区工业企业技术改造经济效益表!AM96,0)","v":0},{"$f":"IF(IF(K96=\"A\",[1]苏州工业园区工业企业技术改造经济效益表!AJ96*[1]奖补比例!$B$3+N96*[1]奖补比例!$B$5,IF(K96=\"B\",[1]苏州工业园区工业企业技术改造经济效益表!AJ96*[1]奖补比例!$C$3+N96*[1]奖补比例!$C$5,IF(K96=\"C\",[1]苏州工业园区工业企业技术改造经济效益表!AJ96*[1]奖补比例!$D$3+N96*[1]奖补比例!$D$5,[1]苏州工业园区工业企业技术改造经济效益表!AJ96*[1]奖补比例!$E$3+N96*[1]奖补比例!$E$5)))*[1]奖补比例!$G$2>1000,1000,IF(K96=\"A\",[1]苏州工业园区工业企业技术改造经济效益表!AJ96*[1]奖补比例!$B$3+N96*[1]奖补比例!$B$5,IF(K96=\"B\",[1]苏州工业园区工业企业技术改造经济效益表!AJ96*[1]奖补比例!$C$3+N96*[1]奖补比例!$C$5,IF(K96=\"C\",[1]苏州工业园区工业企业技术改造经济效益表!AJ96*[1]奖补比例!$D$3+N96*[1]奖补比例!$D$5,[1]苏州工业园区工业企业技术改造经济效益表!AJ96*[1]奖补比例!$E$3+N96*[1]奖补比例!$E$5)))*[1]奖补比例!$G$2)","v":{"v":35.2125818064,"d":"35.21"}},0,0,0,{"$f":"[1]【扣减】人工智能奖补!F95","v":40},0,{"$f":"[1]【扣减】投促委!F95","v":0},0,{"v":0,"d":"0.00"},{"v":0.06369744,"d":"6.37%"},{"$f":"IF([1]项目纳统比对表!D96=\"否\",\"未纳统\",IF([1]项目纳统比对表!F96=\"否\",\"不足500万元\",\"\"))","v":""},null,{"v":0,"d":"0.00"}]
[94,{"$f":"[1]苏州工业园区工业企业技术改造经济效益表!B97","v":"苏州立昂新材料有限公司"},{"$f":"[1]苏州工业园区工业企业技术改造经济效益表!C97","v":"91320594339264750C"},{"$f":"[1]经济效益!N97","v":82},{"$f":"[1]智能化效益!R97","v":85},{"$f":"IF([1]综合素质认定!O97>10,10,[1]综合素质认定!O97)","v":0},0,0,0,{"v":74.4,"d":"74.40"},{"$f":"IF(J97<[1]奖补比例!$D$2,\"D\",IF(J97<[1]奖补比例!$C$2,\"C\",IF(J97<[1]奖补比例!$B$2,\"B\",\"A\")))","v":"B"},{"$f":"[1]苏州工业园区工业企业技术改造经济效益表!AJ97","v":682.74},{"$f":"[1]苏州工业园区工业企业技术改造经济效益表!AM97","v":272.11},{"$f":"IF([1]苏州工业园区工业企业技术改造经济效益表!AN97>=0.7,[1]苏州工业园区工业企业技术改造经济效益表!AM97,0)","v":0},{"$f":"IF(IF(K97=\"A\",[1]苏州工业园区工业企业技术改造经济效益表!AJ97*[1]奖补比例!$B$3+N97*[1]奖补比例!$B$5,IF(K97=\"B\",[1]苏州工业园区工业企业技术改造经济效益表!AJ97*[1]奖补比例!$C$3+N97*[1]奖补比例!$C$5,IF(K97=\"C\",[1]苏州工业园区工业企业技术改造经济效益表!AJ97*[1]奖补比例!$D$3+N97*[1]奖补比例!$D$5,[1]苏州工业园区工业企业技术改造经济效益表!AJ97*[1]奖补比例!$E$3+N97*[1]奖补比例!$E$5)))*[1]奖补比例!$G$2>1000,1000,IF(K97=\"A\",[1]苏州工业园区工业企业技术改造经济效益表!AJ97*[1]奖补比例!$B$3+N97*[1]奖补比例!$B$5,IF(K97=\"B\",[1]苏州工业园区工业企业技术改造经济效益表!AJ97*[1]奖补比例!$C$3+N97*[1]奖补比例!$C$5,IF(K97=\"C\",[1]苏州工业园区工业企业技术改造经济效益表!AJ97*[1]奖补比例!$D$3+N97*[1]奖补比例!$D$5,[1]苏州工业园区工业企业技术改造经济效益表!AJ97*[1]奖补比例!$E$3+N97*[1]奖补比例!$E$5)))*[1]奖补比例!$G$2)","v":{"v":43.4887901856,"d":"43.49"}},0,0,0,{"$f":"[1]【扣减】人工智能奖补!F96","v":0},0,{"$f":"[1]【扣减】投促委!F96","v":0},{"v":43.4887901856,"d":"43.49"},43.49,{"v":0.06369744,"d":"6.37%"},{"$f":"IF([1]项目纳统比对表!D97=\"否\",\"未纳统\",IF([1]项目纳统比对表!F97=\"否\",\"不足500万元\",\"\"))","v":"未纳统"},null,43.49]
[95,{"$f":"[1]苏州工业园区工业企业技术改造经济效益表!B98","v":"苏州林华医疗器械股份有限公司"},{"$f":"[1]苏州工业园区工业企业技术改造经济效益表!C98","v":"91320000608293032F"},{"$f":"[1]经济效益!N98","v":{"v":47.9632677847869,"d":"47.96"}},{"$f":"[1]智能化效益!R98","v":{"v":87.1,"d":"87.10"}},{"$f":"IF([1]综合素质认定!O98>10,10,[1]综合素质认定!O98)","v":2},0,0,0,{"v":52.9942874493508,"d":"52.99"},{"$f":"IF(J98<[1]奖补比例!$D$2,\"D\",IF(J98<[1]奖补比例!$C$2,\"C\",IF(J98<[1]奖补比例!$B$2,\"B\",\"A\")))","v":"C"},{"$f":"[1]苏州工业园区工业企业技术改造经济效益表!AJ98","v":703.43},{"$f":"[1]苏州工业园区工业企业技术改造经济效益表!AM98","v":15.05},{"$f":"IF([1]苏州工业园区工业企业技术改造经济效益表!AN98>=0.7,[1]苏州工业园区工业企业技术改造经济效益表!AM98,0)","v":0},{"$f":"IF(IF(K98=\"A\",[1]苏州工业园区工业企业技术改造经济效益表!AJ98*[1]奖补比例!$B$3+N98*[1]奖补比例!$B$5,IF(K98=\"B\",[1]苏州工业园区工业企业技术改造经济效益表!AJ98*[1]奖补比例!$C$3+N98*[1]奖补比例!$C$5,IF(K98=\"C\",[1]苏州工业园区工业企业技术改造经济效益表!AJ98*[1]奖补比例!$D$3+N98*[1]奖补比例!$D$5,[1]苏州工业园区工业企业技术改造经济效益表!AJ98*[1]奖补比例!$E$3+N98*[1]奖补比例!$E$5)))*[1]奖补比例!$G$2>1000,1000,IF(K98=\"A\",[1]苏州工业园区工业企业技术改造经济效益表!AJ98*[1]奖补比例!$B$3+N98*[1]奖补比例!$B$5,IF(K98=\"B\",[1]苏州工业园区工业企业技术改造经济效益表!AJ98*[1]奖补比例!$C$3+N98*[1]奖补比例!$C$5,IF(K98=\"C\",[1]苏州工业园区工业企业技术改造经济效益表!AJ98*[1]奖补比例!$D$3+N98*[1]奖补比例!$D$5,[1]苏州工业园区工业企业技术改造经济效益表!AJ98*[1]奖补比例!$E$3+N98*[1]奖补比例!$E$5)))*[1]奖补比例!$G$2)","v":{"v":28.004181387,"d":"28.00"}},{"$f":"VLOOKUP(B98,[1]【扣减】省技改综合奖补!$C$2:$E$59,3,0)/10000","v":15},0,0,{"$f":"[1]【扣减】人工智能奖补!F97","v":0},230.21,{"$f":"[1]【扣减】投促委!F97","v":0},0,{"v":0,"d":"0.00"},{"v":0.0398109,"d":"3.98%"},{"$f":"IF([1]项目纳统比对表!D98=\"否\",\"未纳统\",IF([1]项目纳统比对表!F98=\"否\",\"不足500万元\",\"\"))","v":""},null,{"v":0,"d":"0.00"}]
[96,{"$f":"[1]苏州工业园区工业企业技术改造经济效益表!B99","v":"苏州诺菲纳米科技有限公司"},{"$f":"[1]苏州工业园区工业企业技术改造经济效益表!C99","v":"91320594588454723T"},{"$f":"[1]经济效益!N99","v":66},{"$f":"[1]智能化效益!R99","v":91.94},{"$f":"IF([1]综合素质认定!O99>10,10,[1]综合素质认定!O99)","v":0},0,0,0,{"v":64.588,"d":"64.59"},{"$f":"IF(J99<[1]奖补比例!$D$2,\"D\",IF(J99<[1]奖补比例!$C$2,\"C\",IF(J99<[1]奖补比例!$B$2,\"B\",\"A\")))","v":"B"},{"$f":"[1]苏州工业园区工业企业技术改造经济效益表!AJ99","v":524.41},{"$f":"[1]苏州工业园区工业企业技术改造经济效益表!AM99","v":0},{"$f":"IF([1]苏州工业园区工业企业技术改造经济效益表!AN99>=0.7,[1]苏州工业园区工业企业技术改造经济效益表!AM99,0)","v":0},{"$f":"IF(IF(K99=\"A\",[1]苏州工业园区工业企业技术改造经济效益表!AJ99*[1]奖补比例!$B$3+N99*[1]奖补比例!$B$5,IF(K99=\"B\",[1]苏州工业园区工业企业技术改造经济效益表!AJ99*[1]奖补比例!$C$3+N99*[1]奖补比例!$C$5,IF(K99=\"C\",[1]苏州工业园区工业企业技术改造经济效益表!AJ99*[1]奖补比例!$D$3+N99*[1]奖补比例!$D$5,[1]苏州工业园区工业企业技术改造经济效益表!AJ99*[1]奖补比例!$E$3+N99*[1]奖补比例!$E$5)))*[1]奖补比例!$G$2>1000,1000,IF(K99=\"A\",[1]苏州工业园区工业企业技术改造经济效益表!AJ99*[1]奖补比例!$B$3+N99*[1]奖补比例!$B$5,IF(K99=\"B\",[1]苏州工业园区工业企业技术改造经济效益表!AJ99*[1]奖补比例!$C$3+N99*[1]奖补比例!$C$5,IF(K99=\"C\",[1]苏州工业园区工业企业技术改造经济效益表!AJ99*[1]奖补比例!$D$3+N99*[1]奖补比例!$D$5,[1]苏州工业园区工业企业技术改造经济效益表!AJ99*[1]奖补比例!$E$3+N99*[1]奖补比例!$E$5)))*[1]奖补比例!$G$2)","v":{"v":33.4035745104,"d":"33.40"}},0,0,0,{"$f":"[1]【扣减】人工智能奖补!F98","v":0},0,{"$f":"[1]【扣减】投促委!F98","v":0},{"v":33.4035745104,"d":"33.40"},{"v":33.4,"d":"33.40"},{"$f":"O99/L99","v":{"v":0.06369744,"d":"6.37%"}},{"$f":"IF([1]项目纳统比对表!D99=\"否\",\"未纳统\",IF([1]项目纳统比对表!F99=\"否\",\"不足500万元\",\"\"))","v":"未纳统"},null,{"v":33.4,"d":"33.40"}]
[97,{"$f":"[1]苏州工业园区工业企业技术改造经济效益表!B100","v":"苏州浦项科技有限公司"},{"$f":"[1]苏州工业园区工业企业技术改造经济效益表!C100","v":"91320594776896609M"},{"$f":"[1]经济效益!N100","v":63},{"$f":"[1]智能化效益!R100","v":{"v":72.221,"d":"72.22"}},{"$f":"IF([1]综合素质认定!O100>10,10,[1]综合素质认定!O100)","v":0},0,0,0,{"v":58.5442,"d":"58.54"},{"$f":"IF(J100<[1]奖补比例!$D$2,\"D\",IF(J100<[1]奖补比例!$C$2,\"C\",IF(J100<[1]奖补比例!$B$2,\"B\",\"A\")))","v":"C"},{"$f":"[1]苏州工业园区工业企业技术改造经济效益表!AJ100","v":1917.19},{"$f":"[1]苏州工业园区工业企业技术改造经济效益表!AM100","v":0},{"$f":"IF([1]苏州工业园区工业企业技术改造经济效益表!AN100>=0.7,[1]苏州工业园区工业企业技术改造经济效益表!AM100,0)","v":0},{"$f":"IF(IF(K100=\"A\",[1]苏州工业园区工业企业技术改造经济效益表!AJ100*[1]奖补比例!$B$3+N100*[1]奖补比例!$B$5,IF(K100=\"B\",[1]苏州工业园区工业企业技术改造经济效益表!AJ100*[1]奖补比例!$C$3+N100*[1]奖补比例!$C$5,IF(K100=\"C\",[1]苏州工业园区工业企业技术改造经济效益表!AJ100*[1]奖补比例!$D$3+N100*[1]奖补比例!$D$5,[1]苏州工业园区工业企业技术改造经济效益表!AJ100*[1]奖补比例!$E$3+N100*[1]奖补比例!$E$5)))*[1]奖补比例!$G$2>1000,1000,IF(K100=\"A\",[1]苏州工业园区工业企业技术改造经济效益表!AJ100*[1]奖补比例!$B$3+N100*[1]奖补比例!$B$5,IF(K100=\"B\",[1]苏州工业园区工业企业技术改造经济效益表!AJ100*[1]奖补比例!$C$3+N100*[1]奖补比例!$C$5,IF(K100=\"C\",[1]苏州工业园区工业企业技术改造经济效益表!AJ100*[1]奖补比例!$D$3+N100*[1]奖补比例!$D$5,[1]苏州工业园区工业企业技术改造经济效益表!AJ100*[1]奖补比例!$E$3+N100*[1]奖补比例!$E$5)))*[1]奖补比例!$G$2)","v":{"v":76.325059371,"d":"76.33"}},0,0,0,{"$f":"[1]【扣减】人工智能奖补!F99","v":0},0,{"$f":"[1]【扣减】投促委!F99","v":0},{"v":76.325059371,"d":"76.33"},76.33,{"v":0.0398109,"d":"3.98%"},{"$f":"IF([1]项目纳统比对表!D100=\"否\",\"未纳统\",IF([1]项目纳统比对表!F100=\"否\",\"不足500万元\",\"\"))","v":""},null,76.33]
[98,{"$f":"[1]苏州工业园区工业企业技术改造经济效益表!B101","v":"苏州千机智能技术有限公司"},{"$f":"[1]苏州工业园区工业企业技术改造经济效益表!C101","v":"91320594346201571H"},{"$f":"[1]经济效益!N101","v":{"v":65.4354132798301,"d":"65.44"}},{"$f":"[1]智能化效益!R101","v":90},{"$f":"IF([1]综合素质认定!O101>10,10,[1]综合素质认定!O101)","v":2},0,0,0,{"v":65.8047892958811,"d":"65.80"},{"$f":"IF(J101<[1]奖补比例!$D$2,\"D\",IF(J101<[1]奖补比例!$C$2,\"C\",IF(J101<[1]奖补比例!$B$2,\"B\",\"A\")))","v":"B"},{"$f":"[1]苏州工业园区工业企业技术改造经济效益表!AJ101","v":1798.36314},{"$f":"[1]苏州工业园区工业企业技术改造经济效益表!AM101","v":0},{"$f":"IF([1]苏州工业园区工业企业技术改造经济效益表!AN101>=0.7,[1]苏州工业园区工业企业技术改造经济效益表!AM101,0)","v":0},{"$f":"IF(IF(K101=\"A\",[1]苏州工业园区工业企业技术改造经济效益表!AJ101*[1]奖补比例!$B$3+N101*[1]奖补比例!$B$5,IF(K101=\"B\",[1]苏州工业园区工业企业技术改造经济效益表!AJ101*[1]奖补比例!$C$3+N101*[1]奖补比例!$C$5,IF(K101=\"C\",[1]苏州工业园区工业企业技术改造经济效益表!AJ101*[1]奖补比例!$D$3+N101*[1]奖补比例!$D$5,[1]苏州工业园区工业企业技术改造经济效益表!AJ101*[1]奖补比例!$E$3+N101*[1]奖补比例!$E$5)))*[1]奖补比例!$G$2>1000,1000,IF(K101=\"A\",[1]苏州工业园区工业企业技术改造经济效益表!AJ101*[1]奖补比例!$B$3+N101*[1]奖补比例!$B$5,IF(K101=\"B\",[1]苏州工业园区工业企业技术改造经济效益表!AJ101*[1]奖补比例!$C$3+N101*[1]奖补比例!$C$5,IF(K101=\"C\",[1]苏州工业园区工业企业技术改造经济效益表!AJ101*[1]奖补比例!$D$3+N101*[1]奖补比例!$D$5,[1]苏州工业园区工业企业技术改造经济效益表!AJ101*[1]奖补比例!$E$3+N101*[1]奖补比例!$E$5)))*[1]奖补比例!$G$2)","v":{"v":114.551128208362,"d":"114.55"}},0,0,0,{"$f":"[1]【扣减】人工智能奖补!F100","v":0},0,{"$f":"[1]【扣减】投促委!F100","v":0},{"v":114.551128208362,"d":"114.55"},114.55,{"v":0.06369744,"d":"6.37%"},{"$f":"IF([1]项目纳统比对表!D101=\"否\",\"未纳统\",IF([1]项目纳统比对表!F101=\"否\",\"不足500万元\",\"\"))","v":""},null,114.55]
[99,{"$f":"[1]苏州工业园区工业企业技术改造经济效益表!B102","v":"苏州群策科技有限公司"},{"$f":"[1]苏州工业园区工业企业技术改造经济效益表!C102","v":"91320594774676792X"},{"$f":"[1]经济效益!N102","v":{"v":77.7677253181607,"d":"77.77"}},{"$f":"[1]智能化效益!R102","v":85},{"$f":"IF([1]综合素质认定!O102>10,10,[1]综合素质认定!O102)","v":2},0,0,0,{"v":73.4374077227125,"d":"73.44"},{"$f":"IF(J102<[1]奖补比例!$D$2,\"D\",IF(J102<[1]奖补比例!$C$2,\"C\",IF(J102<[1]奖补比例!$B$2,\"B\",\"A\")))","v":"B"},{"$f":"[1]苏州工业园区工业企业技术改造经济效益表!AJ102","v":21410.5},{"$f":"[1]苏州工业园区工业企业技术改造经济效益表!AM102","v":0},{"$f":"IF([1]苏州工业园区工业企业技术改造经济效益表!AN102>=0.7,[1]苏州工业园区工业企业技术改造经济效益表!AM102,0)","v":0},{"$f":"IF(IF(K102=\"A\",[1]苏州工业园区工业企业技术改造经济效益表!AJ102*[1]奖补比例!$B$3+N102*[1]奖补比例!$B$5,IF(K102=\"B\",[1]苏州工业园区工业企业技术改造经济效益表!AJ102*[1]奖补比例!$C$3+N102*[1]奖补比例!$C$5,IF(K102=\"C\",[1]苏州工业园区工业企业技术改造经济效益表!AJ102*[1]奖补比例!$D$3+N102*[1]奖补比例!$D$5,[1]苏州工业园区工业企业技术改造经济效益表!AJ102*[1]奖补比例!$E$3+N102*[1]奖补比例!$E$5)))*[1]奖补比例!$G$2>1000,1000,IF(K102=\"A\",[1]苏州工业园区工业企业技术改造经济效益表!AJ102*[1]奖补比例!$B$3+N102*[1]奖补比例!$B$5,IF(K102=\"B\",[1]苏州工业园区工业企业技术改造经济效益表!AJ102*[1]奖补比例!$C$3+N102*[1]奖补比例!$C$5,IF(K102=\"C\",[1]苏州工业园区工业企业技术改造经济效益表!AJ102*[1]奖补比例!$D$3+N102*[1]奖补比例!$D$5,[1]苏州工业园区工业企业技术改造经济效益表!AJ102*[1]奖补比例!$E$3+N102*[1]奖补比例!$E$5)))*[1]奖补比例!$G$2)","v":1000},0,0,0,{"$f":"[1]【扣减】人工智能奖补!F101","v":0},0,{"$f":"[1]【扣减】投促委!F101","v":500},500,{"v":500,"d":"500.00"},{"v":0.0467060554400878,"d":"4.67%"},{"$f":"IF([1]项目纳统比对表!D102=\"否\",\"未纳统\",IF([1]项目纳统比对表!F102=\"否\",\"不足500万元\",\"\"))","v":"未纳统"},null,{"v":500,"d":"500.00"}]
[100,{"$f":"[1]苏州工业园区工业企业技术改造经济效益表!B103","v":"苏州日月新半导体有限公司"},{"$f":"[1]苏州工业园区工业企业技术改造经济效益表!C103","v":"91320594728014317G"},{"$f":"[1]经济效益!N103","v":{"v":74.0231496426212,"d":"74.02"}},{"$f":"[1]智能化效益!R103","v":80},{"$f":"IF([1]综合素质认定!O103>10,10,[1]综合素质认定!O103)","v":3},0,0,0,{"v":70.8162047498348,"d":"70.82"},{"$f":"IF(J103<[1]奖补比例!$D$2,\"D\",IF(J103<[1]奖补比例!$C$2,\"C\",IF(J103<[1]奖补比例!$B$2,\"B\",\"A\")))","v":"B"},{"$f":"[1]苏州工业园区工业企业技术改造经济效益表!AJ103","v":26814},{"$f":"[1]苏州工业园区工业企业技术改造经济效益表!AM103","v":0},{"$f":"IF([1]苏州工业园区工业企业技术改造经济效益表!AN103>=0.7,[1]苏州工业园区工业企业技术改造经济效益表!AM103,0)","v":0},{"$f":"IF(IF(K103=\"A\",[1]苏州工业园区工业企业技术改造经济效益表!AJ103*[1]奖补比例!$B$3+N103*[1]奖补比例!$B$5,IF(K103=\"B\",[1]苏州工业园区工业企业技术改造经济效益表!AJ103*[1]奖补比例!$C$3+N103*[1]奖补比例!$C$5,IF(K103=\"C\",[1]苏州工业园区工业企业技术改造经济效益表!AJ103*[1]奖补比例!$D$3+N103*[1]奖补比例!$D$5,[1]苏州工业园区工业企业技术改造经济效益表!AJ103*[1]奖补比例!$E$3+N103*[1]奖补比例!$E$5)))*[1]奖补比例!$G$2>1000,1000,IF(K103=\"A\",[1]苏州工业园区工业企业技术改造经济效益表!AJ103*[1]奖补比例!$B$3+N103*[1]奖补比例!$B$5,IF(K103=\"B\",[1]苏州工业园区工业企业技术改造经济效益表!AJ103*[1]奖补比例!$C$3+N103*[1]奖补比例!$C$5,IF(K103=\"C\",[1]苏州工业园区工业企业技术改造经济效益表!AJ103*[1]奖补比例!$D$3+N103*[1]奖补比例!$D$5,[1]苏州工业园区工业企业技术改造经济效益表!AJ103*[1]奖补比例!$E$3+N103*[1]奖补比例!$E$5)))*[1]奖补比例!$G$2)","v":1000},{"$f":"VLOOKUP(B103,[1]【扣减】省技改综合奖补!$C$2:$E$59,3,0)/10000","v":106},0,0,{"$f":"[1]【扣减】人工智能奖补!F102","v":0},0,{"$f":"[1]【扣减】投促委!F102","v":0},894,{"v":894,"d":"894.00"},{"v":0.0372939509211606,"d":"3.73%"},{"$f":"IF([1]项目纳统比对表!D103=\"否\",\"未纳统\",IF([1]项目纳统比对表!F103=\"否\",\"不足500万元\",\"\"))","v":""},null,{"v":894,"d":"894.00"}]
[101,{"$f":"[1]苏州工业园区工业企业技术改造经济效益表!B104","v":"苏州盛迪亚生物医药有限公司"},{"$f":"[1]苏州工业园区工业企业技术改造经济效益表!C104","v":"91320594355003673J"},{"$f":"[1]经济效益!N104","v":98},{"$f":"[1]智能化效益!R104","v":{"v":84.8085,"d":"84.81"}},{"$f":"IF([1]综合素质认定!O104>10,10,[1]综合素质认定!O104)","v":4},0,0,0,{"v":89.5617,"d":"89.56"},{"$f":"IF(J104<[1]奖补比例!$D$2,\"D\",IF(J104<[1]奖补比例!$C$2,\"C\",IF(J104<[1]奖补比例!$B$2,\"B\",\"A\")))","v":"A"},{"$f":"[1]苏州工业园区工业企业技术改造经济效益表!AJ104","v":9387.13},{"$f":"[1]苏州工业园区工业企业技术改造经济效益表!AM104","v":865.79},{"$f":"IF([1]苏州工业园区工业企业技术改造经济效益表!AN104>=0.7,[1]苏州工业园区工业企业技术改造经济效益表!AM104,0)","v":0},{"$f":"IF(IF(K104=\"A\",[1]苏州工业园区工业企业技术改造经济效益表!AJ104*[1]奖补比例!$B$3+N104*[1]奖补比例!$B$5,IF(K104=\"B\",[1]苏州工业园区工业企业技术改造经济效益表!AJ104*[1]奖补比例!$C$3+N104*[1]奖补比例!$C$5,IF(K104=\"C\",[1]苏州工业园区工业企业技术改造经济效益表!AJ104*[1]奖补比例!$D$3+N104*[1]奖补比例!$D$5,[1]苏州工业园区工业企业技术改造经济效益表!AJ104*[1]奖补比例!$E$3+N104*[1]奖补比例!$E$5)))*[1]奖补比例!$G$2>1000,1000,IF(K104=\"A\",[1]苏州工业园区工业企业技术改造经济效益表!AJ104*[1]奖补比例!$B$3+N104*[1]奖补比例!$B$5,IF(K104=\"B\",[1]苏州工业园区工业企业技术改造经济效益表!AJ104*[1]奖补比例!$C$3+N104*[1]奖补比例!$C$5,IF(K104=\"C\",[1]苏州工业园区工业企业技术改造经济效益表!AJ104*[1]奖补比例!$D$3+N104*[1]奖补比例!$D$5,[1]苏州工业园区工业企业技术改造经济效益表!AJ104*[1]奖补比例!$E$3+N104*[1]奖补比例!$E$5)))*[1]奖补比例!$G$2)","v":{"v":747.420187434,"d":"747.42"}},0,0,0,{"$f":"[1]【扣减】人工智能奖补!F103","v":0},0,{"$f":"[1]【扣减】投促委!F103","v":0},{"v":747.420187434,"d":"747.42"},747.42,{"v":0.0796218,"d":"7.96%"},{"$f":"IF([1]项目纳统比对表!D104=\"否\",\"未纳统\",IF([1]项目纳统比对表!F104=\"否\",\"不足500万元\",\"\"))","v":""},null,747.42]
[102,{"$f":"[1]苏州工业园区工业企业技术改造经济效益表!B105","v":"苏州市利来星辰塑业科技有限公司"},{"$f":"[1]苏州工业园区工业企业技术改造经济效益表!C105","v":"91320594743127619W"},{"$f":"[1]经济效益!N105","v":{"v":57.1928182283743,"d":"57.19"}},{"$f":"[1]智能化效益!R105","v":70},{"$f":"IF([1]综合素质认定!O105>10,10,[1]综合素质认定!O105)","v":1},0,0,0,{"v":55.034972759862,"d":"55.03"},{"$f":"IF(J105<[1]奖补比例!$D$2,\"D\",IF(J105<[1]奖补比例!$C$2,\"C\",IF(J105<[1]奖补比例!$B$2,\"B\",\"A\")))","v":"C"},{"$f":"[1]苏州工业园区工业企业技术改造经济效益表!AJ105","v":844.44},{"$f":"[1]苏州工业园区工业企业技术改造经济效益表!AM105","v":0},{"$f":"IF([1]苏州工业园区工业企业技术改造经济效益表!AN105>=0.7,[1]苏州工业园区工业企业技术改造经济效益表!AM105,0)","v":0},{"$f":"IF(IF(K105=\"A\",[1]苏州工业园区工业企业技术改造经济效益表!AJ105*[1]奖补比例!$B$3+N105*[1]奖补比例!$B$5,IF(K105=\"B\",[1]苏州工业园区工业企业技术改造经济效益表!AJ105*[1]奖补比例!$C$3+N105*[1]奖补比例!$C$5,IF(K105=\"C\",[1]苏州工业园区工业企业技术改造经济效益表!AJ105*[1]奖补比例!$D$3+N105*[1]奖补比例!$D$5,[1]苏州工业园区工业企业技术改造经济效益表!AJ105*[1]奖补比例!$E$3+N105*[1]奖补比例!$E$5)))*[1]奖补比例!$G$2>1000,1000,IF(K105=\"A\",[1]苏州工业园区工业企业技术改造经济效益表!AJ105*[1]奖补比例!$B$3+N105*[1]奖补比例!$B$5,IF(K105=\"B\",[1]苏州工业园区工业企业技术改造经济效益表!AJ105*[1]奖补比例!$C$3+N105*[1]奖补比例!$C$5,IF(K105=\"C\",[1]苏州工业园区工业企业技术改造经济效益表!AJ105*[1]奖补比例!$D$3+N105*[1]奖补比例!$D$5,[1]苏州工业园区工业企业技术改造经济效益表!AJ105*[1]奖补比例!$E$3+N105*[1]奖补比例!$E$5)))*[1]奖补比例!$G$2)","v":{"v":33.617916396,"d":"33.62"}},0,0,0,{"$f":"[1]【扣减】人工智能奖补!F104","v":0},0,{"$f":"[1]【扣减】投促委!F104","v":0},{"v":33.617916396,"d":"33.62"},33.62,{"v":0.0398109,"d":"3.98%"},{"$f":"IF([1]项目纳统比对表!D105=\"否\",\"未纳统\",IF([1]项目纳统比对表!F105=\"否\",\"不足500万元\",\"\"))","v":"未纳统"},null,33.62]
[103,{"$f":"[1]苏州工业园区工业企业技术改造经济效益表!B106","v":"苏州苏试广博环境可靠性实验室有限公司"},{"$f":"[1]苏州工业园区工业企业技术改造经济效益表!C106","v":"91320594695503316U"},{"$f":"[1]经济效益!N106","v":{"v":65.8399782784617,"d":"65.84"}},{"$f":"[1]智能化效益!R106","v":89},{"$f":"IF([1]综合素质认定!O106>10,10,[1]综合素质认定!O106)","v":0},0,0,0,{"v":63.8879847949232,"d":"63.89"},{"$f":"IF(J106<[1]奖补比例!$D$2,\"D\",IF(J106<[1]奖补比例!$C$2,\"C\",IF(J106<[1]奖补比例!$B$2,\"B\",\"A\")))","v":"B"},{"$f":"[1]苏州工业园区工业企业技术改造经济效益表!AJ106","v":2850.63},{"$f":"[1]苏州工业园区工业企业技术改造经济效益表!AM106","v":2328},{"$f":"IF([1]苏州工业园区工业企业技术改造经济效益表!AN106>=0.7,[1]苏州工业园区工业企业技术改造经济效益表!AM106,0)","v":2328},{"$f":"IF(IF(K106=\"A\",[1]苏州工业园区工业企业技术改造经济效益表!AJ106*[1]奖补比例!$B$3+N106*[1]奖补比例!$B$5,IF(K106=\"B\",[1]苏州工业园区工业企业技术改造经济效益表!AJ106*[1]奖补比例!$C$3+N106*[1]奖补比例!$C$5,IF(K106=\"C\",[1]苏州工业园区工业企业技术改造经济效益表!AJ106*[1]奖补比例!$D$3+N106*[1]奖补比例!$D$5,[1]苏州工业园区工业企业技术改造经济效益表!AJ106*[1]奖补比例!$E$3+N106*[1]奖补比例!$E$5)))*[1]奖补比例!$G$2>1000,1000,IF(K106=\"A\",[1]苏州工业园区工业企业技术改造经济效益表!AJ106*[1]奖补比例!$B$3+N106*[1]奖补比例!$B$5,IF(K106=\"B\",[1]苏州工业园区工业企业技术改造经济效益表!AJ106*[1]奖补比例!$C$3+N106*[1]奖补比例!$C$5,IF(K106=\"C\",[1]苏州工业园区工业企业技术改造经济效益表!AJ106*[1]奖补比例!$D$3+N106*[1]奖补比例!$D$5,[1]苏州工业园区工业企业技术改造经济效益表!AJ106*[1]奖补比例!$E$3+N106*[1]奖补比例!$E$5)))*[1]奖补比例!$G$2)","v":{"v":237.1856985072,"d":"237.19"}},{"$f":"VLOOKUP(B106,[1]【扣减】省技改综合奖补!$C$2:$E$59,3,0)/10000","v":15},0,0,{"$f":"[1]【扣减】人工智能奖补!F105","v":0},0,{"$f":"[1]【扣减】投促委!F105","v":0},{"v":222.1856985072,"d":"222.19"},222.19,{"v":0.0832046594988476,"d":"8.32%"},{"$f":"IF([1]项目纳统比对表!D106=\"否\",\"未纳统\",IF([1]项目纳统比对表!F106=\"否\",\"不足500万元\",\"\"))","v":"未纳统"},null,222.19]
[104,{"$f":"[1]苏州工业园区工业企业技术改造经济效益表!B107","v":"苏州通富超威半导体有限公司"},{"$f":"[1]苏州工业园区工业企业技术改造经济效益表!C107","v":"91320594759661883L"},{"$f":"[1]经济效益!N107","v":{"v":78.2707945448482,"d":"78.27"}},{"$f":"[1]智能化效益!R107","v":{"v":84.8378,"d":"84.84"}},{"$f":"IF([1]综合素质认定!O107>10,10,[1]综合素质认定!O107)","v":10},0,0,0,{"v":81.7571161813937,"d":"81.76"},{"$f":"IF(J107<[1]奖补比例!$D$2,\"D\",IF(J107<[1]奖补比例!$C$2,\"C\",IF(J107<[1]奖补比例!$B$2,\"B\",\"A\")))","v":"A"},{"$f":"[1]苏州工业园区工业企业技术改造经济效益表!AJ107","v":14920.73},{"$f":"[1]苏州工业园区工业企业技术改造经济效益表!AM107","v":0},{"$f":"IF([1]苏州工业园区工业企业技术改造经济效益表!AN107>=0.7,[1]苏州工业园区工业企业技术改造经济效益表!AM107,0)","v":0},{"$f":"IF(IF(K107=\"A\",[1]苏州工业园区工业企业技术改造经济效益表!AJ107*[1]奖补比例!$B$3+N107*[1]奖补比例!$B$5,IF(K107=\"B\",[1]苏州工业园区工业企业技术改造经济效益表!AJ107*[1]奖补比例!$C$3+N107*[1]奖补比例!$C$5,IF(K107=\"C\",[1]苏州工业园区工业企业技术改造经济效益表!AJ107*[1]奖补比例!$D$3+N107*[1]奖补比例!$D$5,[1]苏州工业园区工业企业技术改造经济效益表!AJ107*[1]奖补比例!$E$3+N107*[1]奖补比例!$E$5)))*[1]奖补比例!$G$2>1000,1000,IF(K107=\"A\",[1]苏州工业园区工业企业技术改造经济效益表!AJ107*[1]奖补比例!$B$3+N107*[1]奖补比例!$B$5,IF(K107=\"B\",[1]苏州工业园区工业企业技术改造经济效益表!AJ107*[1]奖补比例!$C$3+N107*[1]奖补比例!$C$5,IF(K107=\"C\",[1]苏州工业园区工业企业技术改造经济效益表!AJ107*[1]奖补比例!$D$3+N107*[1]奖补比例!$D$5,[1]苏州工业园区工业企业技术改造经济效益表!AJ107*[1]奖补比例!$E$3+N107*[1]奖补比例!$E$5)))*[1]奖补比例!$G$2)","v":1000},0,0,{"$f":"VLOOKUP(B107,[1]【扣减】节能改造项目奖补!$B$2:$C$23,2,0)","v":13},{"$f":"[1]【扣减】人工智能奖补!F106","v":0},0,{"$f":"[1]【扣减】投促委!F106","v":1061},0,{"v":0,"d":"0.00"},{"v":0.067020849516076,"d":"6.70%"},{"$f":"IF([1]项目纳统比对表!D107=\"否\",\"未纳统\",IF([1]项目纳统比对表!F107=\"否\",\"不足500万元\",\"\"))","v":""},null,{"v":0,"d":"0.00"}]
[105,{"$f":"[1]苏州工业园区工业企业技术改造经济效益表!B108","v":"苏州万龙电气集团股份有限公司"},{"$f":"[1]苏州工业园区工业企业技术改造经济效益表!C108","v":"9132000076827085X5"},{"$f":"[1]经济效益!N108","v":{"v":38.3381642861014,"d":"38.34"}},{"$f":"[1]智能化效益!R108","v":0},{"$f":"IF([1]综合素质认定!O108>10,10,[1]综合素质认定!O108)","v":7},0,0,0,{"v":33.836715000271,"d":"33.84"},{"$f":"IF(J108<[1]奖补比例!$D$2,\"D\",IF(J108<[1]奖补比例!$C$2,\"C\",IF(J108<[1]奖补比例!$B$2,\"B\",\"A\")))","v":"D"},{"$f":"[1]苏州工业园区工业企业技术改造经济效益表!AJ108","v":{"v":1e-6,"d":"0"}},{"$f":"[1]苏州工业园区工业企业技术改造经济效益表!AM108","v":315.15},{"$f":"IF([1]苏州工业园区工业企业技术改造经济效益表!AN108>=0.7,[1]苏州工业园区工业企业技术改造经济效益表!AM108,0)","v":315.15},{"$f":"IF(IF(K108=\"A\",[1]苏州工业园区工业企业技术改造经济效益表!AJ108*[1]奖补比例!$B$3+N108*[1]奖补比例!$B$5,IF(K108=\"B\",[1]苏州工业园区工业企业技术改造经济效益表!AJ108*[1]奖补比例!$C$3+N108*[1]奖补比例!$C$5,IF(K108=\"C\",[1]苏州工业园区工业企业技术改造经济效益表!AJ108*[1]奖补比例!$D$3+N108*[1]奖补比例!$D$5,[1]苏州工业园区工业企业技术改造经济效益表!AJ108*[1]奖补比例!$E$3+N108*[1]奖补比例!$E$5)))*[1]奖补比例!$G$2>1000,1000,IF(K108=\"A\",[1]苏州工业园区工业企业技术改造经济效益表!AJ108*[1]奖补比例!$B$3+N108*[1]奖补比例!$B$5,IF(K108=\"B\",[1]苏州工业园区工业企业技术改造经济效益表!AJ108*[1]奖补比例!$C$3+N108*[1]奖补比例!$C$5,IF(K108=\"C\",[1]苏州工业园区工业企业技术改造经济效益表!AJ108*[1]奖补比例!$D$3+N108*[1]奖补比例!$D$5,[1]苏州工业园区工业企业技术改造经济效益表!AJ108*[1]奖补比例!$E$3+N108*[1]奖补比例!$E$5)))*[1]奖补比例!$G$2)","v":{"v":5.01856207788654,"d":"5.02"}},{"$f":"VLOOKUP(B108,[1]【扣减】省技改综合奖补!$C$2:$E$59,3,0)/10000","v":15},0,0,{"$f":"[1]【扣减】人工智能奖补!F107","v":0},0,{"$f":"[1]【扣减】投促委!F107","v":0},0,{"v":0,"d":"0.00"},{"v":0,"d":"0.00%"},{"$f":"IF([1]项目纳统比对表!D108=\"否\",\"未纳统\",IF([1]项目纳统比对表!F108=\"否\",\"不足500万元\",\"\"))","v":""},null,{"v":0,"d":"0.00"}]
[106,{"$f":"[1]苏州工业园区工业企业技术改造经济效益表!B109","v":"苏州微创关节医疗科技有限公司"},{"$f":"[1]苏州工业园区工业企业技术改造经济效益表!C109","v":"9132059433902399XA"},{"$f":"[1]经济效益!N109","v":86},{"$f":"[1]智能化效益!R109","v":{"v":82.515,"d":"82.52"}},{"$f":"IF([1]综合素质认定!O109>10,10,[1]综合素质认定!O109)","v":1},0,0,0,{"v":77.703,"d":"77.70"},{"$f":"IF(J109<[1]奖补比例!$D$2,\"D\",IF(J109<[1]奖补比例!$C$2,\"C\",IF(J109<[1]奖补比例!$B$2,\"B\",\"A\")))","v":"B"},{"$f":"[1]苏州工业园区工业企业技术改造经济效益表!AJ109","v":1944.63},{"$f":"[1]苏州工业园区工业企业技术改造经济效益表!AM109","v":0},{"$f":"IF([1]苏州工业园区工业企业技术改造经济效益表!AN109>=0.7,[1]苏州工业园区工业企业技术改造经济效益表!AM109,0)","v":0},{"$f":"IF(IF(K109=\"A\",[1]苏州工业园区工业企业技术改造经济效益表!AJ109*[1]奖补比例!$B$3+N109*[1]奖补比例!$B$5,IF(K109=\"B\",[1]苏州工业园区工业企业技术改造经济效益表!AJ109*[1]奖补比例!$C$3+N109*[1]奖补比例!$C$5,IF(K109=\"C\",[1]苏州工业园区工业企业技术改造经济效益表!AJ109*[1]奖补比例!$D$3+N109*[1]奖补比例!$D$5,[1]苏州工业园区工业企业技术改造经济效益表!AJ109*[1]奖补比例!$E$3+N109*[1]奖补比例!$E$5)))*[1]奖补比例!$G$2>1000,1000,IF(K109=\"A\",[1]苏州工业园区工业企业技术改造经济效益表!AJ109*[1]奖补比例!$B$3+N109*[1]奖补比例!$B$5,IF(K109=\"B\",[1]苏州工业园区工业企业技术改造经济效益表!AJ109*[1]奖补比例!$C$3+N109*[1]奖补比例!$C$5,IF(K109=\"C\",[1]苏州工业园区工业企业技术改造经济效益表!AJ109*[1]奖补比例!$D$3+N109*[1]奖补比例!$D$5,[1]苏州工业园区工业企业技术改造经济效益表!AJ109*[1]奖补比例!$E$3+N109*[1]奖补比例!$E$5)))*[1]奖补比例!$G$2)","v":{"v":123.8679527472,"d":"123.87"}},{"$f":"VLOOKUP(B109,[1]【扣减】省技改综合奖补!$C$2:$E$59,3,0)/10000","v":15},0,0,{"$f":"[1]【扣减】人工智能奖补!F108","v":0},0,{"$f":"[1]【扣减】投促委!F108","v":0},{"v":108.8679527472,"d":"108.87"},108.87,{"$f":"O109/L109","v":{"v":0.06369744,"d":"6.37%"}},{"$f":"IF([1]项目纳统比对表!D109=\"否\",\"未纳统\",IF([1]项目纳统比对表!F109=\"否\",\"不足500万元\",\"\"))","v":""},null,108.87]
[107,{"$f":"[1]苏州工业园区工业企业技术改造经济效益表!B110","v":"苏州微创脊柱创伤医疗科技有限公司"},{"$f":"[1]苏州工业园区工业企业技术改造经济效益表!C110","v":"91320582755087095L"},{"$f":"[1]经济效益!N110","v":64},{"$f":"[1]智能化效益!R110","v":75},{"$f":"IF([1]综合素质认定!O110>10,10,[1]综合素质认定!O110)","v":0},0,0,0,{"v":59.8,"d":"59.80"},{"$f":"IF(J110<[1]奖补比例!$D$2,\"D\",IF(J110<[1]奖补比例!$C$2,\"C\",IF(J110<[1]奖补比例!$B$2,\"B\",\"A\")))","v":"C"},{"$f":"[1]苏州工业园区工业企业技术改造经济效益表!AJ110","v":512.04},{"$f":"[1]苏州工业园区工业企业技术改造经济效益表!AM110","v":0},{"$f":"IF([1]苏州工业园区工业企业技术改造经济效益表!AN110>=0.7,[1]苏州工业园区工业企业技术改造经济效益表!AM110,0)","v":0},{"$f":"IF(IF(K110=\"A\",[1]苏州工业园区工业企业技术改造经济效益表!AJ110*[1]奖补比例!$B$3+N110*[1]奖补比例!$B$5,IF(K110=\"B\",[1]苏州工业园区工业企业技术改造经济效益表!AJ110*[1]奖补比例!$C$3+N110*[1]奖补比例!$C$5,IF(K110=\"C\",[1]苏州工业园区工业企业技术改造经济效益表!AJ110*[1]奖补比例!$D$3+N110*[1]奖补比例!$D$5,[1]苏州工业园区工业企业技术改造经济效益表!AJ110*[1]奖补比例!$E$3+N110*[1]奖补比例!$E$5)))*[1]奖补比例!$G$2>1000,1000,IF(K110=\"A\",[1]苏州工业园区工业企业技术改造经济效益表!AJ110*[1]奖补比例!$B$3+N110*[1]奖补比例!$B$5,IF(K110=\"B\",[1]苏州工业园区工业企业技术改造经济效益表!AJ110*[1]奖补比例!$C$3+N110*[1]奖补比例!$C$5,IF(K110=\"C\",[1]苏州工业园区工业企业技术改造经济效益表!AJ110*[1]奖补比例!$D$3+N110*[1]奖补比例!$D$5,[1]苏州工业园区工业企业技术改造经济效益表!AJ110*[1]奖补比例!$E$3+N110*[1]奖补比例!$E$5)))*[1]奖补比例!$G$2)","v":{"v":20.384773236,"d":"20.38"}},0,0,0,{"$f":"[1]【扣减】人工智能奖补!F109","v":0},0,{"$f":"[1]【扣减】投促委!F109","v":0},{"v":20.384773236,"d":"20.38"},20.38,{"v":0.0398109,"d":"3.98%"},{"$f":"IF([1]项目纳统比对表!D110=\"否\",\"未纳统\",IF([1]项目纳统比对表!F110=\"否\",\"不足500万元\",\"\"))","v":"未纳统"},null,20.38]
[108,{"$f":"[1]苏州工业园区工业企业技术改造经济效益表!B111","v":"苏州新凯紧固系统有限公司"},{"$f":"[1]苏州工业园区工业企业技术改造经济效益表!C111","v":"913205947539393628"},{"$f":"[1]经济效益!N111","v":{"v":51.8985603378594,"d":"51.90"}},{"$f":"[1]智能化效益!R111","v":{"v":89.668,"d":"89.67"}},{"$f":"IF([1]综合素质认定!O111>10,10,[1]综合素质认定!O111)","v":2},0,0,0,{"v":56.2625922365016,"d":"56.26"},{"$f":"IF(J111<[1]奖补比例!$D$2,\"D\",IF(J111<[1]奖补比例!$C$2,\"C\",IF(J111<[1]奖补比例!$B$2,\"B\",\"A\")))","v":"C"},{"$f":"[1]苏州工业园区工业企业技术改造经济效益表!AJ111","v":1358.04},{"$f":"[1]苏州工业园区工业企业技术改造经济效益表!AM111","v":12.81},{"$f":"IF([1]苏州工业园区工业企业技术改造经济效益表!AN111>=0.7,[1]苏州工业园区工业企业技术改造经济效益表!AM111,0)","v":0},{"$f":"IF(IF(K111=\"A\",[1]苏州工业园区工业企业技术改造经济效益表!AJ111*[1]奖补比例!$B$3+N111*[1]奖补比例!$B$5,IF(K111=\"B\",[1]苏州工业园区工业企业技术改造经济效益表!AJ111*[1]奖补比例!$C$3+N111*[1]奖补比例!$C$5,IF(K111=\"C\",[1]苏州工业园区工业企业技术改造经济效益表!AJ111*[1]奖补比例!$D$3+N111*[1]奖补比例!$D$5,[1]苏州工业园区工业企业技术改造经济效益表!AJ111*[1]奖补比例!$E$3+N111*[1]奖补比例!$E$5)))*[1]奖补比例!$G$2>1000,1000,IF(K111=\"A\",[1]苏州工业园区工业企业技术改造经济效益表!AJ111*[1]奖补比例!$B$3+N111*[1]奖补比例!$B$5,IF(K111=\"B\",[1]苏州工业园区工业企业技术改造经济效益表!AJ111*[1]奖补比例!$C$3+N111*[1]奖补比例!$C$5,IF(K111=\"C\",[1]苏州工业园区工业企业技术改造经济效益表!AJ111*[1]奖补比例!$D$3+N111*[1]奖补比例!$D$5,[1]苏州工业园区工业企业技术改造经济效益表!AJ111*[1]奖补比例!$E$3+N111*[1]奖补比例!$E$5)))*[1]奖补比例!$G$2)","v":{"v":54.064794636,"d":"54.06"}},0,0,0,{"$f":"[1]【扣减】人工智能奖补!F110","v":0},0,{"$f":"[1]【扣减】投促委!F110","v":0},{"v":54.064794636,"d":"54.06"},54.06,{"v":0.0398109,"d":"3.98%"},{"$f":"IF([1]项目纳统比对表!D111=\"否\",\"未纳统\",IF([1]项目纳统比对表!F111=\"否\",\"不足500万元\",\"\"))","v":"未纳统"},null,54.06]
[109,{"$f":"[1]苏州工业园区工业企业技术改造经济效益表!B112","v":"苏州新锐合金工具股份有限公司"},{"$f":"[1]苏州工业园区工业企业技术改造经济效益表!C112","v":"9132000077867054XF"},{"$f":"[1]经济效益!N112","v":{"v":69.2208218460829,"d":"69.22"}},{"$f":"[1]智能化效益!R112","v":{"v":87.779,"d":"87.78"}},{"$f":"IF([1]综合素质认定!O112>10,10,[1]综合素质认定!O112)","v":3},0,0,0,{"v":69.010375292258,"d":"69.01"},{"$f":"IF(J112<[1]奖补比例!$D$2,\"D\",IF(J112<[1]奖补比例!$C$2,\"C\",IF(J112<[1]奖补比例!$B$2,\"B\",\"A\")))","v":"B"},{"$f":"[1]苏州工业园区工业企业技术改造经济效益表!AJ112","v":964.88},{"$f":"[1]苏州工业园区工业企业技术改造经济效益表!AM112","v":0},{"$f":"IF([1]苏州工业园区工业企业技术改造经济效益表!AN112>=0.7,[1]苏州工业园区工业企业技术改造经济效益表!AM112,0)","v":0},{"$f":"IF(IF(K112=\"A\",[1]苏州工业园区工业企业技术改造经济效益表!AJ112*[1]奖补比例!$B$3+N112*[1]奖补比例!$B$5,IF(K112=\"B\",[1]苏州工业园区工业企业技术改造经济效益表!AJ112*[1]奖补比例!$C$3+N112*[1]奖补比例!$C$5,IF(K112=\"C\",[1]苏州工业园区工业企业技术改造经济效益表!AJ112*[1]奖补比例!$D$3+N112*[1]奖补比例!$D$5,[1]苏州工业园区工业企业技术改造经济效益表!AJ112*[1]奖补比例!$E$3+N112*[1]奖补比例!$E$5)))*[1]奖补比例!$G$2>1000,1000,IF(K112=\"A\",[1]苏州工业园区工业企业技术改造经济效益表!AJ112*[1]奖补比例!$B$3+N112*[1]奖补比例!$B$5,IF(K112=\"B\",[1]苏州工业园区工业企业技术改造经济效益表!AJ112*[1]奖补比例!$C$3+N112*[1]奖补比例!$C$5,IF(K112=\"C\",[1]苏州工业园区工业企业技术改造经济效益表!AJ112*[1]奖补比例!$D$3+N112*[1]奖补比例!$D$5,[1]苏州工业园区工业企业技术改造经济效益表!AJ112*[1]奖补比例!$E$3+N112*[1]奖补比例!$E$5)))*[1]奖补比例!$G$2)","v":{"v":61.4603859072,"d":"61.46"}},0,0,0,{"$f":"[1]【扣减】人工智能奖补!F111","v":0},0,{"$f":"[1]【扣减】投促委!F111","v":0},{"v":61.4603859072,"d":"61.46"},61.46,{"v":0.06369744,"d":"6.37%"},{"$f":"IF([1]项目纳统比对表!D112=\"否\",\"未纳统\",IF([1]项目纳统比对表!F112=\"否\",\"不足500万元\",\"\"))","v":""},null,61.46]
[110,{"$f":"[1]苏州工业园区工业企业技术改造经济效益表!B113","v":"苏州星诺奇科技股份有限公司"},{"$f":"[1]苏州工业园区工业企业技术改造经济效益表!C113","v":"913200005642769422"},{"$f":"[1]经济效益!N113","v":{"v":60.2981170226344,"d":"60.30"}},{"$f":"[1]智能化效益!R113","v":72},{"$f":"IF([1]综合素质认定!O113>10,10,[1]综合素质认定!O113)","v":4},0,0,0,{"v":60.6086819158441,"d":"60.61"},{"$f":"IF(J113<[1]奖补比例!$D$2,\"D\",IF(J113<[1]奖补比例!$C$2,\"C\",IF(J113<[1]奖补比例!$B$2,\"B\",\"A\")))","v":"B"},{"$f":"[1]苏州工业园区工业企业技术改造经济效益表!AJ113","v":1070.31},{"$f":"[1]苏州工业园区工业企业技术改造经济效益表!AM113","v":41.25},{"$f":"IF([1]苏州工业园区工业企业技术改造经济效益表!AN113>=0.7,[1]苏州工业园区工业企业技术改造经济效益表!AM113,0)","v":0},{"$f":"IF(IF(K113=\"A\",[1]苏州工业园区工业企业技术改造经济效益表!AJ113*[1]奖补比例!$B$3+N113*[1]奖补比例!$B$5,IF(K113=\"B\",[1]苏州工业园区工业企业技术改造经济效益表!AJ113*[1]奖补比例!$C$3+N113*[1]奖补比例!$C$5,IF(K113=\"C\",[1]苏州工业园区工业企业技术改造经济效益表!AJ113*[1]奖补比例!$D$3+N113*[1]奖补比例!$D$5,[1]苏州工业园区工业企业技术改造经济效益表!AJ113*[1]奖补比例!$E$3+N113*[1]奖补比例!$E$5)))*[1]奖补比例!$G$2>1000,1000,IF(K113=\"A\",[1]苏州工业园区工业企业技术改造经济效益表!AJ113*[1]奖补比例!$B$3+N113*[1]奖补比例!$B$5,IF(K113=\"B\",[1]苏州工业园区工业企业技术改造经济效益表!AJ113*[1]奖补比例!$C$3+N113*[1]奖补比例!$C$5,IF(K113=\"C\",[1]苏州工业园区工业企业技术改造经济效益表!AJ113*[1]奖补比例!$D$3+N113*[1]奖补比例!$D$5,[1]苏州工业园区工业企业技术改造经济效益表!AJ113*[1]奖补比例!$E$3+N113*[1]奖补比例!$E$5)))*[1]奖补比例!$G$2)","v":{"v":68.1760070064,"d":"68.18"}},0,0,0,{"$f":"[1]【扣减】人工智能奖补!F112","v":0},0,{"$f":"[1]【扣减】投促委!F112","v":0},{"v":68.1760070064,"d":"68.18"},68.18,{"v":0.06369744,"d":"6.37%"},{"$f":"IF([1]项目纳统比对表!D113=\"否\",\"未纳统\",IF([1]项目纳统比对表!F113=\"否\",\"不足500万元\",\"\"))","v":""},null,68.18]
[111,{"$f":"[1]苏州工业园区工业企业技术改造经济效益表!B114","v":"苏州兴胜科半导体材料有限公司"},{"$f":"[1]苏州工业园区工业企业技术改造经济效益表!C114","v":"91320594747307756U"},{"$f":"[1]经济效益!N114","v":{"v":85.0937841658822,"d":"85.09"}},{"$f":"[1]智能化效益!R114","v":{"v":70.202,"d":"70.20"}},{"$f":"IF([1]综合素质认定!O114>10,10,[1]综合素质认定!O114)","v":0},0,0,0,{"v":73.6060489161175,"d":"73.61"},{"$f":"IF(J114<[1]奖补比例!$D$2,\"D\",IF(J114<[1]奖补比例!$C$2,\"C\",IF(J114<[1]奖补比例!$B$2,\"B\",\"A\")))","v":"B"},{"$f":"[1]苏州工业园区工业企业技术改造经济效益表!AJ114","v":1033.66},{"$f":"[1]苏州工业园区工业企业技术改造经济效益表!AM114","v":65.06},{"$f":"IF([1]苏州工业园区工业企业技术改造经济效益表!AN114>=0.7,[1]苏州工业园区工业企业技术改造经济效益表!AM114,0)","v":0},{"$f":"IF(IF(K114=\"A\",[1]苏州工业园区工业企业技术改造经济效益表!AJ114*[1]奖补比例!$B$3+N114*[1]奖补比例!$B$5,IF(K114=\"B\",[1]苏州工业园区工业企业技术改造经济效益表!AJ114*[1]奖补比例!$C$3+N114*[1]奖补比例!$C$5,IF(K114=\"C\",[1]苏州工业园区工业企业技术改造经济效益表!AJ114*[1]奖补比例!$D$3+N114*[1]奖补比例!$D$5,[1]苏州工业园区工业企业技术改造经济效益表!AJ114*[1]奖补比例!$E$3+N114*[1]奖补比例!$E$5)))*[1]奖补比例!$G$2>1000,1000,IF(K114=\"A\",[1]苏州工业园区工业企业技术改造经济效益表!AJ114*[1]奖补比例!$B$3+N114*[1]奖补比例!$B$5,IF(K114=\"B\",[1]苏州工业园区工业企业技术改造经济效益表!AJ114*[1]奖补比例!$C$3+N114*[1]奖补比例!$C$5,IF(K114=\"C\",[1]苏州工业园区工业企业技术改造经济效益表!AJ114*[1]奖补比例!$D$3+N114*[1]奖补比例!$D$5,[1]苏州工业园区工业企业技术改造经济效益表!AJ114*[1]奖补比例!$E$3+N114*[1]奖补比例!$E$5)))*[1]奖补比例!$G$2)","v":{"v":65.8414958304,"d":"65.84"}},0,0,0,{"$f":"[1]【扣减】人工智能奖补!F113","v":0},0,{"$f":"[1]【扣减】投促委!F113","v":0},{"v":65.8414958304,"d":"65.84"},65.84,{"v":0.06369744,"d":"6.37%"},{"$f":"IF([1]项目纳统比对表!D114=\"否\",\"未纳统\",IF([1]项目纳统比对表!F114=\"否\",\"不足500万元\",\"\"))","v":"不足500万元"},null,65.84]
[112,{"$f":"[1]苏州工业园区工业企业技术改造经济效益表!B115","v":"苏州旭创科技有限公司"},{"$f":"[1]苏州工业园区工业企业技术改造经济效益表!C115","v":"913205946739170837"},{"$f":"[1]经济效益!N115","v":{"v":99.3733146003236,"d":"99.37"}},{"$f":"[1]智能化效益!R115","v":87},{"$f":"IF([1]综合素质认定!O115>10,10,[1]综合素质认定!O115)","v":3},0,0,0,{"v":89.9613202202265,"d":"89.96"},{"$f":"IF(J115<[1]奖补比例!$D$2,\"D\",IF(J115<[1]奖补比例!$C$2,\"C\",IF(J115<[1]奖补比例!$B$2,\"B\",\"A\")))","v":"A"},{"$f":"[1]苏州工业园区工业企业技术改造经济效益表!AJ115","v":16292.04},{"$f":"[1]苏州工业园区工业企业技术改造经济效益表!AM115","v":68},{"$f":"IF([1]苏州工业园区工业企业技术改造经济效益表!AN115>=0.7,[1]苏州工业园区工业企业技术改造经济效益表!AM115,0)","v":0},{"$f":"IF(IF(K115=\"A\",[1]苏州工业园区工业企业技术改造经济效益表!AJ115*[1]奖补比例!$B$3+N115*[1]奖补比例!$B$5,IF(K115=\"B\",[1]苏州工业园区工业企业技术改造经济效益表!AJ115*[1]奖补比例!$C$3+N115*[1]奖补比例!$C$5,IF(K115=\"C\",[1]苏州工业园区工业企业技术改造经济效益表!AJ115*[1]奖补比例!$D$3+N115*[1]奖补比例!$D$5,[1]苏州工业园区工业企业技术改造经济效益表!AJ115*[1]奖补比例!$E$3+N115*[1]奖补比例!$E$5)))*[1]奖补比例!$G$2>1000,1000,IF(K115=\"A\",[1]苏州工业园区工业企业技术改造经济效益表!AJ115*[1]奖补比例!$B$3+N115*[1]奖补比例!$B$5,IF(K115=\"B\",[1]苏州工业园区工业企业技术改造经济效益表!AJ115*[1]奖补比例!$C$3+N115*[1]奖补比例!$C$5,IF(K115=\"C\",[1]苏州工业园区工业企业技术改造经济效益表!AJ115*[1]奖补比例!$D$3+N115*[1]奖补比例!$D$5,[1]苏州工业园区工业企业技术改造经济效益表!AJ115*[1]奖补比例!$E$3+N115*[1]奖补比例!$E$5)))*[1]奖补比例!$G$2)","v":1000},0,0,{"$f":"VLOOKUP(B115,[1]【扣减】节能改造项目奖补!$B$2:$C$23,2,0)","v":14},{"$f":"[1]【扣减】人工智能奖补!F114","v":0},0,{"$f":"[1]【扣减】投促委!F114","v":0},986,{"v":986,"d":"986.00"},{"v":0.0613796676168239,"d":"6.14%"},{"$f":"IF([1]项目纳统比对表!D115=\"否\",\"未纳统\",IF([1]项目纳统比对表!F115=\"否\",\"不足500万元\",\"\"))","v":"未纳统"},null,{"v":986,"d":"986.00"}]
[113,{"$f":"[1]苏州工业园区工业企业技术改造经济效益表!B116","v":"苏州一光仪器有限公司"},{"$f":"[1]苏州工业园区工业企业技术改造经济效益表!C116","v":"91320594716806851B"},{"$f":"[1]经济效益!N116","v":{"v":77.0132138313007,"d":"77.01"}},{"$f":"[1]智能化效益!R116","v":90},{"$f":"IF([1]综合素质认定!O116>10,10,[1]综合素质认定!O116)","v":3},0,0,0,{"v":74.9092496819105,"d":"74.91"},{"$f":"IF(J116<[1]奖补比例!$D$2,\"D\",IF(J116<[1]奖补比例!$C$2,\"C\",IF(J116<[1]奖补比例!$B$2,\"B\",\"A\")))","v":"B"},{"$f":"[1]苏州工业园区工业企业技术改造经济效益表!AJ116","v":574.9},{"$f":"[1]苏州工业园区工业企业技术改造经济效益表!AM116","v":0},{"$f":"IF([1]苏州工业园区工业企业技术改造经济效益表!AN116>=0.7,[1]苏州工业园区工业企业技术改造经济效益表!AM116,0)","v":0},{"$f":"IF(IF(K116=\"A\",[1]苏州工业园区工业企业技术改造经济效益表!AJ116*[1]奖补比例!$B$3+N116*[1]奖补比例!$B$5,IF(K116=\"B\",[1]苏州工业园区工业企业技术改造经济效益表!AJ116*[1]奖补比例!$C$3+N116*[1]奖补比例!$C$5,IF(K116=\"C\",[1]苏州工业园区工业企业技术改造经济效益表!AJ116*[1]奖补比例!$D$3+N116*[1]奖补比例!$D$5,[1]苏州工业园区工业企业技术改造经济效益表!AJ116*[1]奖补比例!$E$3+N116*[1]奖补比例!$E$5)))*[1]奖补比例!$G$2>1000,1000,IF(K116=\"A\",[1]苏州工业园区工业企业技术改造经济效益表!AJ116*[1]奖补比例!$B$3+N116*[1]奖补比例!$B$5,IF(K116=\"B\",[1]苏州工业园区工业企业技术改造经济效益表!AJ116*[1]奖补比例!$C$3+N116*[1]奖补比例!$C$5,IF(K116=\"C\",[1]苏州工业园区工业企业技术改造经济效益表!AJ116*[1]奖补比例!$D$3+N116*[1]奖补比例!$D$5,[1]苏州工业园区工业企业技术改造经济效益表!AJ116*[1]奖补比例!$E$3+N116*[1]奖补比例!$E$5)))*[1]奖补比例!$G$2)","v":{"v":36.619658256,"d":"36.62"}},0,0,0,{"$f":"[1]【扣减】人工智能奖补!F115","v":0},0,{"$f":"[1]【扣减】投促委!F115","v":0},{"v":36.619658256,"d":"36.62"},36.62,{"v":0.06369744,"d":"6.37%"},{"$f":"IF([1]项目纳统比对表!D116=\"否\",\"未纳统\",IF([1]项目纳统比对表!F116=\"否\",\"不足500万元\",\"\"))","v":""},null,36.62]
[114,{"$f":"[1]苏州工业园区工业企业技术改造经济效益表!B117","v":"苏州亦崴电子科技有限公司"},{"$f":"[1]苏州工业园区工业企业技术改造经济效益表!C117","v":"91320594088549339X"},{"$f":"[1]经济效益!N117","v":42},{"$f":"[1]智能化效益!R117","v":70},{"$f":"IF([1]综合素质认定!O117>10,10,[1]综合素质认定!O117)","v":0},0,0,0,{"v":43.4,"d":"43.40"},{"$f":"IF(J117<[1]奖补比例!$D$2,\"D\",IF(J117<[1]奖补比例!$C$2,\"C\",IF(J117<[1]奖补比例!$B$2,\"B\",\"A\")))","v":"D"},{"$f":"[1]苏州工业园区工业企业技术改造经济效益表!AJ117","v":1811.62},{"$f":"[1]苏州工业园区工业企业技术改造经济效益表!AM117","v":0},{"$f":"IF([1]苏州工业园区工业企业技术改造经济效益表!AN117>=0.7,[1]苏州工业园区工业企业技术改造经济效益表!AM117,0)","v":0},{"$f":"IF(IF(K117=\"A\",[1]苏州工业园区工业企业技术改造经济效益表!AJ117*[1]奖补比例!$B$3+N117*[1]奖补比例!$B$5,IF(K117=\"B\",[1]苏州工业园区工业企业技术改造经济效益表!AJ117*[1]奖补比例!$C$3+N117*[1]奖补比例!$C$5,IF(K117=\"C\",[1]苏州工业园区工业企业技术改造经济效益表!AJ117*[1]奖补比例!$D$3+N117*[1]奖补比例!$D$5,[1]苏州工业园区工业企业技术改造经济效益表!AJ117*[1]奖补比例!$E$3+N117*[1]奖补比例!$E$5)))*[1]奖补比例!$G$2>1000,1000,IF(K117=\"A\",[1]苏州工业园区工业企业技术改造经济效益表!AJ117*[1]奖补比例!$B$3+N117*[1]奖补比例!$B$5,IF(K117=\"B\",[1]苏州工业园区工业企业技术改造经济效益表!AJ117*[1]奖补比例!$C$3+N117*[1]奖补比例!$C$5,IF(K117=\"C\",[1]苏州工业园区工业企业技术改造经济效益表!AJ117*[1]奖补比例!$D$3+N117*[1]奖补比例!$D$5,[1]苏州工业园区工业企业技术改造经济效益表!AJ117*[1]奖补比例!$E$3+N117*[1]奖补比例!$E$5)))*[1]奖补比例!$G$2)","v":{"v":43.2733335948,"d":"43.27"}},0,0,0,{"$f":"[1]【扣减】人工智能奖补!F116","v":0},0,{"$f":"[1]【扣减】投促委!F116","v":0},{"v":43.2733335948,"d":"43.27"},43.27,{"v":0.02388654,"d":"2.39%"},{"$f":"IF([1]项目纳统比对表!D117=\"否\",\"未纳统\",IF([1]项目纳统比对表!F117=\"否\",\"不足500万元\",\"\"))","v":"未纳统"},null,43.27]
[115,{"$f":"[1]苏州工业园区工业企业技术改造经济效益表!B118","v":"苏州益而益电器制造有限公司"},{"$f":"[1]苏州工业园区工业企业技术改造经济效益表!C118","v":"91320594784380928B"},{"$f":"[1]经济效益!N118","v":{"v":67.417109844914,"d":"67.42"}},{"$f":"[1]智能化效益!R118","v":90.49},{"$f":"IF([1]综合素质认定!O118>10,10,[1]综合素质认定!O118)","v":2},0,0,0,{"v":67.2899768914398,"d":"67.29"},{"$f":"IF(J118<[1]奖补比例!$D$2,\"D\",IF(J118<[1]奖补比例!$C$2,\"C\",IF(J118<[1]奖补比例!$B$2,\"B\",\"A\")))","v":"B"},{"$f":"[1]苏州工业园区工业企业技术改造经济效益表!AJ118","v":1097.33},{"$f":"[1]苏州工业园区工业企业技术改造经济效益表!AM118","v":67.3},{"$f":"IF([1]苏州工业园区工业企业技术改造经济效益表!AN118>=0.7,[1]苏州工业园区工业企业技术改造经济效益表!AM118,0)","v":0},{"$f":"IF(IF(K118=\"A\",[1]苏州工业园区工业企业技术改造经济效益表!AJ118*[1]奖补比例!$B$3+N118*[1]奖补比例!$B$5,IF(K118=\"B\",[1]苏州工业园区工业企业技术改造经济效益表!AJ118*[1]奖补比例!$C$3+N118*[1]奖补比例!$C$5,IF(K118=\"C\",[1]苏州工业园区工业企业技术改造经济效益表!AJ118*[1]奖补比例!$D$3+N118*[1]奖补比例!$D$5,[1]苏州工业园区工业企业技术改造经济效益表!AJ118*[1]奖补比例!$E$3+N118*[1]奖补比例!$E$5)))*[1]奖补比例!$G$2>1000,1000,IF(K118=\"A\",[1]苏州工业园区工业企业技术改造经济效益表!AJ118*[1]奖补比例!$B$3+N118*[1]奖补比例!$B$5,IF(K118=\"B\",[1]苏州工业园区工业企业技术改造经济效益表!AJ118*[1]奖补比例!$C$3+N118*[1]奖补比例!$C$5,IF(K118=\"C\",[1]苏州工业园区工业企业技术改造经济效益表!AJ118*[1]奖补比例!$D$3+N118*[1]奖补比例!$D$5,[1]苏州工业园区工业企业技术改造经济效益表!AJ118*[1]奖补比例!$E$3+N118*[1]奖补比例!$E$5)))*[1]奖补比例!$G$2)","v":{"v":69.8971118352,"d":"69.90"}},0,0,0,{"$f":"[1]【扣减】人工智能奖补!F117","v":0},0,{"$f":"[1]【扣减】投促委!F117","v":0},{"v":69.8971118352,"d":"69.90"},{"v":69.9,"d":"69.90"},{"v":0.06369744,"d":"6.37%"},{"$f":"IF([1]项目纳统比对表!D118=\"否\",\"未纳统\",IF([1]项目纳统比对表!F118=\"否\",\"不足500万元\",\"\"))","v":""},null,{"v":69.9,"d":"69.90"}]
[116,{"$f":"[1]苏州工业园区工业企业技术改造经济效益表!B119","v":"苏州震坤科技有限公司"},{"$f":"[1]苏州工业园区工业企业技术改造经济效益表!C119","v":"91320594782062547E"},{"$f":"[1]经济效益!N119","v":{"v":70.1488140066815,"d":"70.15"}},{"$f":"[1]智能化效益!R119","v":80},{"$f":"IF([1]综合素质认定!O119>10,10,[1]综合素质认定!O119)","v":6},0,0,0,{"v":71.104169804677,"d":"71.10"},{"$f":"IF(J119<[1]奖补比例!$D$2,\"D\",IF(J119<[1]奖补比例!$C$2,\"C\",IF(J119<[1]奖补比例!$B$2,\"B\",\"A\")))","v":"B"},{"$f":"[1]苏州工业园区工业企业技术改造经济效益表!AJ119","v":1117.06},{"$f":"[1]苏州工业园区工业企业技术改造经济效益表!AM119","v":0},{"$f":"IF([1]苏州工业园区工业企业技术改造经济效益表!AN119>=0.7,[1]苏州工业园区工业企业技术改造经济效益表!AM119,0)","v":0},{"$f":"IF(IF(K119=\"A\",[1]苏州工业园区工业企业技术改造经济效益表!AJ119*[1]奖补比例!$B$3+N119*[1]奖补比例!$B$5,IF(K119=\"B\",[1]苏州工业园区工业企业技术改造经济效益表!AJ119*[1]奖补比例!$C$3+N119*[1]奖补比例!$C$5,IF(K119=\"C\",[1]苏州工业园区工业企业技术改造经济效益表!AJ119*[1]奖补比例!$D$3+N119*[1]奖补比例!$D$5,[1]苏州工业园区工业企业技术改造经济效益表!AJ119*[1]奖补比例!$E$3+N119*[1]奖补比例!$E$5)))*[1]奖补比例!$G$2>1000,1000,IF(K119=\"A\",[1]苏州工业园区工业企业技术改造经济效益表!AJ119*[1]奖补比例!$B$3+N119*[1]奖补比例!$B$5,IF(K119=\"B\",[1]苏州工业园区工业企业技术改造经济效益表!AJ119*[1]奖补比例!$C$3+N119*[1]奖补比例!$C$5,IF(K119=\"C\",[1]苏州工业园区工业企业技术改造经济效益表!AJ119*[1]奖补比例!$D$3+N119*[1]奖补比例!$D$5,[1]苏州工业园区工业企业技术改造经济效益表!AJ119*[1]奖补比例!$E$3+N119*[1]奖补比例!$E$5)))*[1]奖补比例!$G$2)","v":{"v":71.1538623264,"d":"71.15"}},0,0,0,{"$f":"[1]【扣减】人工智能奖补!F118","v":0},0,{"$f":"[1]【扣减】投促委!F118","v":0},{"v":71.1538623264,"d":"71.15"},71.15,{"v":0.06369744,"d":"6.37%"},{"$f":"IF([1]项目纳统比对表!D119=\"否\",\"未纳统\",IF([1]项目纳统比对表!F119=\"否\",\"不足500万元\",\"\"))","v":""},null,71.15]
[117,{"$f":"[1]苏州工业园区工业企业技术改造经济效益表!B120","v":"苏州紫翔电子科技有限公司"},{"$f":"[1]苏州工业园区工业企业技术改造经济效益表!C120","v":"913205947406994356"},{"$f":"[1]经济效益!N120","v":95},{"$f":"[1]智能化效益!R120","v":75.32},{"$f":"IF([1]综合素质认定!O120>10,10,[1]综合素质认定!O120)","v":1},0,0,0,{"v":82.564,"d":"82.56"},{"$f":"IF(J120<[1]奖补比例!$D$2,\"D\",IF(J120<[1]奖补比例!$C$2,\"C\",IF(J120<[1]奖补比例!$B$2,\"B\",\"A\")))","v":"A"},{"$f":"[1]苏州工业园区工业企业技术改造经济效益表!AJ120","v":13173.17},{"$f":"[1]苏州工业园区工业企业技术改造经济效益表!AM120","v":332.24},{"$f":"IF([1]苏州工业园区工业企业技术改造经济效益表!AN120>=0.7,[1]苏州工业园区工业企业技术改造经济效益表!AM120,0)","v":0},{"$f":"IF(IF(K120=\"A\",[1]苏州工业园区工业企业技术改造经济效益表!AJ120*[1]奖补比例!$B$3+N120*[1]奖补比例!$B$5,IF(K120=\"B\",[1]苏州工业园区工业企业技术改造经济效益表!AJ120*[1]奖补比例!$C$3+N120*[1]奖补比例!$C$5,IF(K120=\"C\",[1]苏州工业园区工业企业技术改造经济效益表!AJ120*[1]奖补比例!$D$3+N120*[1]奖补比例!$D$5,[1]苏州工业园区工业企业技术改造经济效益表!AJ120*[1]奖补比例!$E$3+N120*[1]奖补比例!$E$5)))*[1]奖补比例!$G$2>1000,1000,IF(K120=\"A\",[1]苏州工业园区工业企业技术改造经济效益表!AJ120*[1]奖补比例!$B$3+N120*[1]奖补比例!$B$5,IF(K120=\"B\",[1]苏州工业园区工业企业技术改造经济效益表!AJ120*[1]奖补比例!$C$3+N120*[1]奖补比例!$C$5,IF(K120=\"C\",[1]苏州工业园区工业企业技术改造经济效益表!AJ120*[1]奖补比例!$D$3+N120*[1]奖补比例!$D$5,[1]苏州工业园区工业企业技术改造经济效益表!AJ120*[1]奖补比例!$E$3+N120*[1]奖补比例!$E$5)))*[1]奖补比例!$G$2)","v":1000},{"$f":"VLOOKUP(B120,[1]【扣减】省技改综合奖补!$C$2:$E$59,3,0)/10000","v":52},0,0,{"$f":"[1]【扣减】人工智能奖补!F119","v":0},0,{"$f":"[1]【扣减】投促委!F119","v":0},948,{"v":948,"d":"948.00"},{"v":0.075911872389106,"d":"7.59%"},{"$f":"IF([1]项目纳统比对表!D120=\"否\",\"未纳统\",IF([1]项目纳统比对表!F120=\"否\",\"不足500万元\",\"\"))","v":""},null,{"v":948,"d":"948.00"}]
[118,{"$f":"[1]苏州工业园区工业企业技术改造经济效益表!B121","v":"太极半导体（苏州）有限公司"},{"$f":"[1]苏州工业园区工业企业技术改造经济效益表!C121","v":"913205940601875249"},{"$f":"[1]经济效益!N121","v":{"v":66.3081031603093,"d":"66.31"}},{"$f":"[1]智能化效益!R121","v":92},{"$f":"IF([1]综合素质认定!O121>10,10,[1]综合素质认定!O121)","v":5},0,0,0,{"v":69.8156722122165,"d":"69.82"},{"$f":"IF(J121<[1]奖补比例!$D$2,\"D\",IF(J121<[1]奖补比例!$C$2,\"C\",IF(J121<[1]奖补比例!$B$2,\"B\",\"A\")))","v":"B"},{"$f":"[1]苏州工业园区工业企业技术改造经济效益表!AJ121","v":1821.73},{"$f":"[1]苏州工业园区工业企业技术改造经济效益表!AM121","v":0},{"$f":"IF([1]苏州工业园区工业企业技术改造经济效益表!AN121>=0.7,[1]苏州工业园区工业企业技术改造经济效益表!AM121,0)","v":0},{"$f":"IF(IF(K121=\"A\",[1]苏州工业园区工业企业技术改造经济效益表!AJ121*[1]奖补比例!$B$3+N121*[1]奖补比例!$B$5,IF(K121=\"B\",[1]苏州工业园区工业企业技术改造经济效益表!AJ121*[1]奖补比例!$C$3+N121*[1]奖补比例!$C$5,IF(K121=\"C\",[1]苏州工业园区工业企业技术改造经济效益表!AJ121*[1]奖补比例!$D$3+N121*[1]奖补比例!$D$5,[1]苏州工业园区工业企业技术改造经济效益表!AJ121*[1]奖补比例!$E$3+N121*[1]奖补比例!$E$5)))*[1]奖补比例!$G$2>1000,1000,IF(K121=\"A\",[1]苏州工业园区工业企业技术改造经济效益表!AJ121*[1]奖补比例!$B$3+N121*[1]奖补比例!$B$5,IF(K121=\"B\",[1]苏州工业园区工业企业技术改造经济效益表!AJ121*[1]奖补比例!$C$3+N121*[1]奖补比例!$C$5,IF(K121=\"C\",[1]苏州工业园区工业企业技术改造经济效益表!AJ121*[1]奖补比例!$D$3+N121*[1]奖补比例!$D$5,[1]苏州工业园区工业企业技术改造经济效益表!AJ121*[1]奖补比例!$E$3+N121*[1]奖补比例!$E$5)))*[1]奖补比例!$G$2)","v":{"v":116.0395373712,"d":"116.04"}},{"$f":"VLOOKUP(B121,[1]【扣减】省技改综合奖补!$C$2:$E$59,3,0)/10000","v":15},0,0,{"$f":"[1]【扣减】人工智能奖补!F120","v":0},0,{"$f":"[1]【扣减】投促委!F120","v":0},{"v":101.0395373712,"d":"101.04"},101.04,{"v":0.06369744,"d":"6.37%"},{"$f":"IF([1]项目纳统比对表!D121=\"否\",\"未纳统\",IF([1]项目纳统比对表!F121=\"否\",\"不足500万元\",\"\"))","v":"未纳统"},null,101.04]
[119,{"$f":"[1]苏州工业园区工业企业技术改造经济效益表!B122","v":"特思通管路技术（苏州）有限公司"},{"$f":"[1]苏州工业园区工业企业技术改造经济效益表!C122","v":"91320594598553290R"},{"$f":"[1]经济效益!N122","v":{"v":64.3945346411276,"d":"64.39"}},{"$f":"[1]智能化效益!R122","v":80},{"$f":"IF([1]综合素质认定!O122>10,10,[1]综合素质认定!O122)","v":0},0,0,0,{"v":61.0761742487893,"d":"61.08"},{"$f":"IF(J122<[1]奖补比例!$D$2,\"D\",IF(J122<[1]奖补比例!$C$2,\"C\",IF(J122<[1]奖补比例!$B$2,\"B\",\"A\")))","v":"B"},{"$f":"[1]苏州工业园区工业企业技术改造经济效益表!AJ122","v":584.73},{"$f":"[1]苏州工业园区工业企业技术改造经济效益表!AM122","v":21.09},{"$f":"IF([1]苏州工业园区工业企业技术改造经济效益表!AN122>=0.7,[1]苏州工业园区工业企业技术改造经济效益表!AM122,0)","v":0},{"$f":"IF(IF(K122=\"A\",[1]苏州工业园区工业企业技术改造经济效益表!AJ122*[1]奖补比例!$B$3+N122*[1]奖补比例!$B$5,IF(K122=\"B\",[1]苏州工业园区工业企业技术改造经济效益表!AJ122*[1]奖补比例!$C$3+N122*[1]奖补比例!$C$5,IF(K122=\"C\",[1]苏州工业园区工业企业技术改造经济效益表!AJ122*[1]奖补比例!$D$3+N122*[1]奖补比例!$D$5,[1]苏州工业园区工业企业技术改造经济效益表!AJ122*[1]奖补比例!$E$3+N122*[1]奖补比例!$E$5)))*[1]奖补比例!$G$2>1000,1000,IF(K122=\"A\",[1]苏州工业园区工业企业技术改造经济效益表!AJ122*[1]奖补比例!$B$3+N122*[1]奖补比例!$B$5,IF(K122=\"B\",[1]苏州工业园区工业企业技术改造经济效益表!AJ122*[1]奖补比例!$C$3+N122*[1]奖补比例!$C$5,IF(K122=\"C\",[1]苏州工业园区工业企业技术改造经济效益表!AJ122*[1]奖补比例!$D$3+N122*[1]奖补比例!$D$5,[1]苏州工业园区工业企业技术改造经济效益表!AJ122*[1]奖补比例!$E$3+N122*[1]奖补比例!$E$5)))*[1]奖补比例!$G$2)","v":{"v":37.2458040912,"d":"37.25"}},0,0,0,{"$f":"[1]【扣减】人工智能奖补!F121","v":0},0,{"$f":"[1]【扣减】投促委!F121","v":0},{"v":37.2458040912,"d":"37.25"},37.25,{"v":0.06369744,"d":"6.37%"},{"$f":"IF([1]项目纳统比对表!D122=\"否\",\"未纳统\",IF([1]项目纳统比对表!F122=\"否\",\"不足500万元\",\"\"))","v":"未纳统"},null,37.25]
[120,{"$f":"[1]苏州工业园区工业企业技术改造经济效益表!B123","v":"万通（苏州）定量阀系统有限公司"},{"$f":"[1]苏州工业园区工业企业技术改造经济效益表!C123","v":"913205946082357212"},{"$f":"[1]经济效益!N123","v":{"v":45.1985173035075,"d":"45.20"}},{"$f":"[1]智能化效益!R123","v":80},{"$f":"IF([1]综合素质认定!O123>10,10,[1]综合素质认定!O123)","v":0},0,0,0,{"v":47.6389621124552,"d":"47.64"},{"$f":"IF(J123<[1]奖补比例!$D$2,\"D\",IF(J123<[1]奖补比例!$C$2,\"C\",IF(J123<[1]奖补比例!$B$2,\"B\",\"A\")))","v":"D"},{"$f":"[1]苏州工业园区工业企业技术改造经济效益表!AJ123","v":1228.42},{"$f":"[1]苏州工业园区工业企业技术改造经济效益表!AM123","v":191.56},{"$f":"IF([1]苏州工业园区工业企业技术改造经济效益表!AN123>=0.7,[1]苏州工业园区工业企业技术改造经济效益表!AM123,0)","v":0},{"$f":"IF(IF(K123=\"A\",[1]苏州工业园区工业企业技术改造经济效益表!AJ123*[1]奖补比例!$B$3+N123*[1]奖补比例!$B$5,IF(K123=\"B\",[1]苏州工业园区工业企业技术改造经济效益表!AJ123*[1]奖补比例!$C$3+N123*[1]奖补比例!$C$5,IF(K123=\"C\",[1]苏州工业园区工业企业技术改造经济效益表!AJ123*[1]奖补比例!$D$3+N123*[1]奖补比例!$D$5,[1]苏州工业园区工业企业技术改造经济效益表!AJ123*[1]奖补比例!$E$3+N123*[1]奖补比例!$E$5)))*[1]奖补比例!$G$2>1000,1000,IF(K123=\"A\",[1]苏州工业园区工业企业技术改造经济效益表!AJ123*[1]奖补比例!$B$3+N123*[1]奖补比例!$B$5,IF(K123=\"B\",[1]苏州工业园区工业企业技术改造经济效益表!AJ123*[1]奖补比例!$C$3+N123*[1]奖补比例!$C$5,IF(K123=\"C\",[1]苏州工业园区工业企业技术改造经济效益表!AJ123*[1]奖补比例!$D$3+N123*[1]奖补比例!$D$5,[1]苏州工业园区工业企业技术改造经济效益表!AJ123*[1]奖补比例!$E$3+N123*[1]奖补比例!$E$5)))*[1]奖补比例!$G$2)","v":{"v":29.3427034668,"d":"29.34"}},0,0,0,{"$f":"[1]【扣减】人工智能奖补!F122","v":0},0,{"$f":"[1]【扣减】投促委!F122","v":0},{"v":29.3427034668,"d":"29.34"},29.34,{"v":0.02388654,"d":"2.39%"},{"$f":"IF([1]项目纳统比对表!D123=\"否\",\"未纳统\",IF([1]项目纳统比对表!F123=\"否\",\"不足500万元\",\"\"))","v":""},null,29.34]
[121,{"$f":"[1]苏州工业园区工业企业技术改造经济效益表!B124","v":"旺矽科技（苏州）有限公司"},{"$f":"[1]苏州工业园区工业企业技术改造经济效益表!C124","v":"91320594MA1PCMQ10H"},{"$f":"[1]经济效益!N124","v":{"v":84.1769433137972,"d":"84.18"}},{"$f":"[1]智能化效益!R124","v":{"v":71.0146,"d":"71.01"}},{"$f":"IF([1]综合素质认定!O124>10,10,[1]综合素质认定!O124)","v":0},0,0,0,{"v":73.126780319658,"d":"73.13"},{"$f":"IF(J124<[1]奖补比例!$D$2,\"D\",IF(J124<[1]奖补比例!$C$2,\"C\",IF(J124<[1]奖补比例!$B$2,\"B\",\"A\")))","v":"B"},{"$f":"[1]苏州工业园区工业企业技术改造经济效益表!AJ124","v":781.34},{"$f":"[1]苏州工业园区工业企业技术改造经济效益表!AM124","v":87.47},{"$f":"IF([1]苏州工业园区工业企业技术改造经济效益表!AN124>=0.7,[1]苏州工业园区工业企业技术改造经济效益表!AM124,0)","v":0},{"$f":"IF(IF(K124=\"A\",[1]苏州工业园区工业企业技术改造经济效益表!AJ124*[1]奖补比例!$B$3+N124*[1]奖补比例!$B$5,IF(K124=\"B\",[1]苏州工业园区工业企业技术改造经济效益表!AJ124*[1]奖补比例!$C$3+N124*[1]奖补比例!$C$5,IF(K124=\"C\",[1]苏州工业园区工业企业技术改造经济效益表!AJ124*[1]奖补比例!$D$3+N124*[1]奖补比例!$D$5,[1]苏州工业园区工业企业技术改造经济效益表!AJ124*[1]奖补比例!$E$3+N124*[1]奖补比例!$E$5)))*[1]奖补比例!$G$2>1000,1000,IF(K124=\"A\",[1]苏州工业园区工业企业技术改造经济效益表!AJ124*[1]奖补比例!$B$3+N124*[1]奖补比例!$B$5,IF(K124=\"B\",[1]苏州工业园区工业企业技术改造经济效益表!AJ124*[1]奖补比例!$C$3+N124*[1]奖补比例!$C$5,IF(K124=\"C\",[1]苏州工业园区工业企业技术改造经济效益表!AJ124*[1]奖补比例!$D$3+N124*[1]奖补比例!$D$5,[1]苏州工业园区工业企业技术改造经济效益表!AJ124*[1]奖补比例!$E$3+N124*[1]奖补比例!$E$5)))*[1]奖补比例!$G$2)","v":{"v":49.7693577696,"d":"49.77"}},0,0,0,{"$f":"[1]【扣减】人工智能奖补!F123","v":0},0,{"$f":"[1]【扣减】投促委!F123","v":0},{"v":49.7693577696,"d":"49.77"},49.77,{"v":0.06369744,"d":"6.37%"},{"$f":"IF([1]项目纳统比对表!D124=\"否\",\"未纳统\",IF([1]项目纳统比对表!F124=\"否\",\"不足500万元\",\"\"))","v":"未纳统"},null,49.77]
[122,{"$f":"[1]苏州工业园区工业企业技术改造经济效益表!B125","v":"威特立创能科技（苏州）有限公司"},{"$f":"[1]苏州工业园区工业企业技术改造经济效益表!C125","v":"91320594753217968W"},{"$f":"[1]经济效益!N125","v":80},{"$f":"[1]智能化效益!R125","v":70},{"$f":"IF([1]综合素质认定!O125>10,10,[1]综合素质认定!O125)","v":0},0,0,0,70,{"$f":"IF(J125<[1]奖补比例!$D$2,\"D\",IF(J125<[1]奖补比例!$C$2,\"C\",IF(J125<[1]奖补比例!$B$2,\"B\",\"A\")))","v":"B"},{"$f":"[1]苏州工业园区工业企业技术改造经济效益表!AJ125","v":1030.085702},{"$f":"[1]苏州工业园区工业企业技术改造经济效益表!AM125","v":0},{"$f":"IF([1]苏州工业园区工业企业技术改造经济效益表!AN125>=0.7,[1]苏州工业园区工业企业技术改造经济效益表!AM125,0)","v":0},{"$f":"IF(IF(K125=\"A\",[1]苏州工业园区工业企业技术改造经济效益表!AJ125*[1]奖补比例!$B$3+N125*[1]奖补比例!$B$5,IF(K125=\"B\",[1]苏州工业园区工业企业技术改造经济效益表!AJ125*[1]奖补比例!$C$3+N125*[1]奖补比例!$C$5,IF(K125=\"C\",[1]苏州工业园区工业企业技术改造经济效益表!AJ125*[1]奖补比例!$D$3+N125*[1]奖补比例!$D$5,[1]苏州工业园区工业企业技术改造经济效益表!AJ125*[1]奖补比例!$E$3+N125*[1]奖补比例!$E$5)))*[1]奖补比例!$G$2>1000,1000,IF(K125=\"A\",[1]苏州工业园区工业企业技术改造经济效益表!AJ125*[1]奖补比例!$B$3+N125*[1]奖补比例!$B$5,IF(K125=\"B\",[1]苏州工业园区工业企业技术改造经济效益表!AJ125*[1]奖补比例!$C$3+N125*[1]奖补比例!$C$5,IF(K125=\"C\",[1]苏州工业园区工业企业技术改造经济效益表!AJ125*[1]奖补比例!$D$3+N125*[1]奖补比例!$D$5,[1]苏州工业园区工业企业技术改造经济效益表!AJ125*[1]奖补比例!$E$3+N125*[1]奖补比例!$E$5)))*[1]奖补比例!$G$2)","v":{"v":65.6138221980029,"d":"65.61"}},0,0,0,{"$f":"[1]【扣减】人工智能奖补!F124","v":0},0,{"$f":"[1]【扣减】投促委!F124","v":0},{"v":65.6138221980029,"d":"65.61"},65.61,{"v":0.06369744,"d":"6.37%"},{"$f":"IF([1]项目纳统比对表!D125=\"否\",\"未纳统\",IF([1]项目纳统比对表!F125=\"否\",\"不足500万元\",\"\"))","v":"未纳统"},null,65.61]
[123,{"$f":"[1]苏州工业园区工业企业技术改造经济效益表!B126","v":"维斯克凡科技（苏州）有限公司"},{"$f":"[1]苏州工业园区工业企业技术改造经济效益表!C126","v":"913205946913295177"},{"$f":"[1]经济效益!N126","v":{"v":62.5071721176214,"d":"62.51"}},{"$f":"[1]智能化效益!R126","v":{"v":87.407,"d":"87.41"}},{"$f":"IF([1]综合素质认定!O126>10,10,[1]综合素质认定!O126)","v":1},0,0,0,{"v":62.236420482335,"d":"62.24"},{"$f":"IF(J126<[1]奖补比例!$D$2,\"D\",IF(J126<[1]奖补比例!$C$2,\"C\",IF(J126<[1]奖补比例!$B$2,\"B\",\"A\")))","v":"B"},{"$f":"[1]苏州工业园区工业企业技术改造经济效益表!AJ126","v":605.99},{"$f":"[1]苏州工业园区工业企业技术改造经济效益表!AM126","v":{"v":8.6,"d":"8.60"}},{"$f":"IF([1]苏州工业园区工业企业技术改造经济效益表!AN126>=0.7,[1]苏州工业园区工业企业技术改造经济效益表!AM126,0)","v":0},{"$f":"IF(IF(K126=\"A\",[1]苏州工业园区工业企业技术改造经济效益表!AJ126*[1]奖补比例!$B$3+N126*[1]奖补比例!$B$5,IF(K126=\"B\",[1]苏州工业园区工业企业技术改造经济效益表!AJ126*[1]奖补比例!$C$3+N126*[1]奖补比例!$C$5,IF(K126=\"C\",[1]苏州工业园区工业企业技术改造经济效益表!AJ126*[1]奖补比例!$D$3+N126*[1]奖补比例!$D$5,[1]苏州工业园区工业企业技术改造经济效益表!AJ126*[1]奖补比例!$E$3+N126*[1]奖补比例!$E$5)))*[1]奖补比例!$G$2>1000,1000,IF(K126=\"A\",[1]苏州工业园区工业企业技术改造经济效益表!AJ126*[1]奖补比例!$B$3+N126*[1]奖补比例!$B$5,IF(K126=\"B\",[1]苏州工业园区工业企业技术改造经济效益表!AJ126*[1]奖补比例!$C$3+N126*[1]奖补比例!$C$5,IF(K126=\"C\",[1]苏州工业园区工业企业技术改造经济效益表!AJ126*[1]奖补比例!$D$3+N126*[1]奖补比例!$D$5,[1]苏州工业园区工业企业技术改造经济效益表!AJ126*[1]奖补比例!$E$3+N126*[1]奖补比例!$E$5)))*[1]奖补比例!$G$2)","v":{"v":38.6000116656,"d":"38.60"}},0,0,0,{"$f":"[1]【扣减】人工智能奖补!F125","v":0},0,{"$f":"[1]【扣减】投促委!F125","v":0},{"v":38.6000116656,"d":"38.60"},{"v":38.6,"d":"38.60"},{"v":0.06369744,"d":"6.37%"},{"$f":"IF([1]项目纳统比对表!D126=\"否\",\"未纳统\",IF([1]项目纳统比对表!F126=\"否\",\"不足500万元\",\"\"))","v":"未纳统"},null,{"v":38.6,"d":"38.60"}]
[124,{"$f":"[1]苏州工业园区工业企业技术改造经济效益表!B127","v":"伟创力电子技术（苏州）有限公司"},{"$f":"[1]苏州工业园区工业企业技术改造经济效益表!C127","v":"913205946082381568"},{"$f":"[1]经济效益!N127","v":{"v":89.4491967253118,"d":"89.45"}},{"$f":"[1]智能化效益!R127","v":{"v":88.792,"d":"88.79"}},{"$f":"IF([1]综合素质认定!O127>10,10,[1]综合素质认定!O127)","v":10},0,0,0,{"v":90.3728377077182,"d":"90.37"},{"$f":"IF(J127<[1]奖补比例!$D$2,\"D\",IF(J127<[1]奖补比例!$C$2,\"C\",IF(J127<[1]奖补比例!$B$2,\"B\",\"A\")))","v":"A"},{"$f":"[1]苏州工业园区工业企业技术改造经济效益表!AJ127","v":1839.51},{"$f":"[1]苏州工业园区工业企业技术改造经济效益表!AM127","v":12.62},{"$f":"IF([1]苏州工业园区工业企业技术改造经济效益表!AN127>=0.7,[1]苏州工业园区工业企业技术改造经济效益表!AM127,0)","v":0},{"$f":"IF(IF(K127=\"A\",[1]苏州工业园区工业企业技术改造经济效益表!AJ127*[1]奖补比例!$B$3+N127*[1]奖补比例!$B$5,IF(K127=\"B\",[1]苏州工业园区工业企业技术改造经济效益表!AJ127*[1]奖补比例!$C$3+N127*[1]奖补比例!$C$5,IF(K127=\"C\",[1]苏州工业园区工业企业技术改造经济效益表!AJ127*[1]奖补比例!$D$3+N127*[1]奖补比例!$D$5,[1]苏州工业园区工业企业技术改造经济效益表!AJ127*[1]奖补比例!$E$3+N127*[1]奖补比例!$E$5)))*[1]奖补比例!$G$2>1000,1000,IF(K127=\"A\",[1]苏州工业园区工业企业技术改造经济效益表!AJ127*[1]奖补比例!$B$3+N127*[1]奖补比例!$B$5,IF(K127=\"B\",[1]苏州工业园区工业企业技术改造经济效益表!AJ127*[1]奖补比例!$C$3+N127*[1]奖补比例!$C$5,IF(K127=\"C\",[1]苏州工业园区工业企业技术改造经济效益表!AJ127*[1]奖补比例!$D$3+N127*[1]奖补比例!$D$5,[1]苏州工业园区工业企业技术改造经济效益表!AJ127*[1]奖补比例!$E$3+N127*[1]奖补比例!$E$5)))*[1]奖补比例!$G$2)","v":{"v":146.465097318,"d":"146.47"}},{"$f":"VLOOKUP(B127,[1]【扣减】省技改综合奖补!$C$2:$E$59,3,0)/10000","v":15},0,{"$f":"VLOOKUP(B127,[1]【扣减】节能改造项目奖补!$B$2:$C$23,2,0)","v":27},{"$f":"[1]【扣减】人工智能奖补!F126","v":0},0,{"$f":"[1]【扣减】投促委!F126","v":0},{"v":104.465097318,"d":"104.47"},104.47,{"v":0.0796218,"d":"7.96%"},{"$f":"IF([1]项目纳统比对表!D127=\"否\",\"未纳统\",IF([1]项目纳统比对表!F127=\"否\",\"不足500万元\",\"\"))","v":""},null,104.47]
[125,{"$f":"[1]苏州工业园区工业企业技术改造经济效益表!B128","v":"卫材（中国）药业有限公司"},{"$f":"[1]苏州工业园区工业企业技术改造经济效益表!C128","v":"91320594608205450R"},{"$f":"[1]经济效益!N128","v":42},{"$f":"[1]智能化效益!R128","v":81},{"$f":"IF([1]综合素质认定!O128>10,10,[1]综合素质认定!O128)","v":1},0,0,0,{"v":46.6,"d":"46.60"},{"$f":"IF(J128<[1]奖补比例!$D$2,\"D\",IF(J128<[1]奖补比例!$C$2,\"C\",IF(J128<[1]奖补比例!$B$2,\"B\",\"A\")))","v":"D"},{"$f":"[1]苏州工业园区工业企业技术改造经济效益表!AJ128","v":1211.59},{"$f":"[1]苏州工业园区工业企业技术改造经济效益表!AM128","v":0},{"$f":"IF([1]苏州工业园区工业企业技术改造经济效益表!AN128>=0.7,[1]苏州工业园区工业企业技术改造经济效益表!AM128,0)","v":0},{"$f":"IF(IF(K128=\"A\",[1]苏州工业园区工业企业技术改造经济效益表!AJ128*[1]奖补比例!$B$3+N128*[1]奖补比例!$B$5,IF(K128=\"B\",[1]苏州工业园区工业企业技术改造经济效益表!AJ128*[1]奖补比例!$C$3+N128*[1]奖补比例!$C$5,IF(K128=\"C\",[1]苏州工业园区工业企业技术改造经济效益表!AJ128*[1]奖补比例!$D$3+N128*[1]奖补比例!$D$5,[1]苏州工业园区工业企业技术改造经济效益表!AJ128*[1]奖补比例!$E$3+N128*[1]奖补比例!$E$5)))*[1]奖补比例!$G$2>1000,1000,IF(K128=\"A\",[1]苏州工业园区工业企业技术改造经济效益表!AJ128*[1]奖补比例!$B$3+N128*[1]奖补比例!$B$5,IF(K128=\"B\",[1]苏州工业园区工业企业技术改造经济效益表!AJ128*[1]奖补比例!$C$3+N128*[1]奖补比例!$C$5,IF(K128=\"C\",[1]苏州工业园区工业企业技术改造经济效益表!AJ128*[1]奖补比例!$D$3+N128*[1]奖补比例!$D$5,[1]苏州工业园区工业企业技术改造经济效益表!AJ128*[1]奖补比例!$E$3+N128*[1]奖补比例!$E$5)))*[1]奖补比例!$G$2)","v":{"v":28.9406929986,"d":"28.94"}},{"$f":"VLOOKUP(B128,[1]【扣减】省技改综合奖补!$C$2:$E$59,3,0)/10000","v":119},0,0,{"$f":"[1]【扣减】人工智能奖补!F127","v":0},0,{"$f":"[1]【扣减】投促委!F127","v":768},0,{"v":0,"d":"0.00"},{"v":0.02388654,"d":"2.39%"},{"$f":"IF([1]项目纳统比对表!D128=\"否\",\"未纳统\",IF([1]项目纳统比对表!F128=\"否\",\"不足500万元\",\"\"))","v":""},null,{"v":0,"d":"0.00"}]
[126,{"$f":"[1]苏州工业园区工业企业技术改造经济效益表!B129","v":"矽品科技（苏州）有限公司"},{"$f":"[1]苏州工业园区工业企业技术改造经济效益表!C129","v":"91320594733338789U"},{"$f":"[1]经济效益!N129","v":100},{"$f":"[1]智能化效益!R129","v":85},{"$f":"IF([1]综合素质认定!O129>10,10,[1]综合素质认定!O129)","v":6},0,0,0,93,{"$f":"IF(J129<[1]奖补比例!$D$2,\"D\",IF(J129<[1]奖补比例!$C$2,\"C\",IF(J129<[1]奖补比例!$B$2,\"B\",\"A\")))","v":"A"},{"$f":"[1]苏州工业园区工业企业技术改造经济效益表!AJ129","v":18355.5},{"$f":"[1]苏州工业园区工业企业技术改造经济效益表!AM129","v":0},{"$f":"IF([1]苏州工业园区工业企业技术改造经济效益表!AN129>=0.7,[1]苏州工业园区工业企业技术改造经济效益表!AM129,0)","v":0},{"$f":"IF(IF(K129=\"A\",[1]苏州工业园区工业企业技术改造经济效益表!AJ129*[1]奖补比例!$B$3+N129*[1]奖补比例!$B$5,IF(K129=\"B\",[1]苏州工业园区工业企业技术改造经济效益表!AJ129*[1]奖补比例!$C$3+N129*[1]奖补比例!$C$5,IF(K129=\"C\",[1]苏州工业园区工业企业技术改造经济效益表!AJ129*[1]奖补比例!$D$3+N129*[1]奖补比例!$D$5,[1]苏州工业园区工业企业技术改造经济效益表!AJ129*[1]奖补比例!$E$3+N129*[1]奖补比例!$E$5)))*[1]奖补比例!$G$2>1000,1000,IF(K129=\"A\",[1]苏州工业园区工业企业技术改造经济效益表!AJ129*[1]奖补比例!$B$3+N129*[1]奖补比例!$B$5,IF(K129=\"B\",[1]苏州工业园区工业企业技术改造经济效益表!AJ129*[1]奖补比例!$C$3+N129*[1]奖补比例!$C$5,IF(K129=\"C\",[1]苏州工业园区工业企业技术改造经济效益表!AJ129*[1]奖补比例!$D$3+N129*[1]奖补比例!$D$5,[1]苏州工业园区工业企业技术改造经济效益表!AJ129*[1]奖补比例!$E$3+N129*[1]奖补比例!$E$5)))*[1]奖补比例!$G$2)","v":1000},{"$f":"VLOOKUP(B129,[1]【扣减】省技改综合奖补!$C$2:$E$59,3,0)/10000","v":51},0,{"$f":"VLOOKUP(B129,[1]【扣减】节能改造项目奖补!$B$2:$C$23,2,0)","v":26},{"$f":"[1]【扣减】人工智能奖补!F128","v":0},0,{"$f":"[1]【扣减】投促委!F128","v":0},923,{"v":923,"d":"923.00"},{"v":0.05447958377598,"d":"5.45%"},{"$f":"IF([1]项目纳统比对表!D129=\"否\",\"未纳统\",IF([1]项目纳统比对表!F129=\"否\",\"不足500万元\",\"\"))","v":""},null,{"v":923,"d":"923.00"}]
[127,{"$f":"[1]苏州工业园区工业企业技术改造经济效益表!B130","v":"信达生物制药（苏州）有限公司"},{"$f":"[1]苏州工业园区工业企业技术改造经济效益表!C130","v":"9132059458102064XX"},{"$f":"[1]经济效益!N130","v":92},{"$f":"[1]智能化效益!R130","v":91.96},{"$f":"IF([1]综合素质认定!O130>10,10,[1]综合素质认定!O130)","v":10},0,0,0,{"v":92.792,"d":"92.79"},{"$f":"IF(J130<[1]奖补比例!$D$2,\"D\",IF(J130<[1]奖补比例!$C$2,\"C\",IF(J130<[1]奖补比例!$B$2,\"B\",\"A\")))","v":"A"},{"$f":"[1]苏州工业园区工业企业技术改造经济效益表!AJ130","v":2424.06},{"$f":"[1]苏州工业园区工业企业技术改造经济效益表!AM130","v":9.52},{"$f":"IF([1]苏州工业园区工业企业技术改造经济效益表!AN130>=0.7,[1]苏州工业园区工业企业技术改造经济效益表!AM130,0)","v":0},{"$f":"IF(IF(K130=\"A\",[1]苏州工业园区工业企业技术改造经济效益表!AJ130*[1]奖补比例!$B$3+N130*[1]奖补比例!$B$5,IF(K130=\"B\",[1]苏州工业园区工业企业技术改造经济效益表!AJ130*[1]奖补比例!$C$3+N130*[1]奖补比例!$C$5,IF(K130=\"C\",[1]苏州工业园区工业企业技术改造经济效益表!AJ130*[1]奖补比例!$D$3+N130*[1]奖补比例!$D$5,[1]苏州工业园区工业企业技术改造经济效益表!AJ130*[1]奖补比例!$E$3+N130*[1]奖补比例!$E$5)))*[1]奖补比例!$G$2>1000,1000,IF(K130=\"A\",[1]苏州工业园区工业企业技术改造经济效益表!AJ130*[1]奖补比例!$B$3+N130*[1]奖补比例!$B$5,IF(K130=\"B\",[1]苏州工业园区工业企业技术改造经济效益表!AJ130*[1]奖补比例!$C$3+N130*[1]奖补比例!$C$5,IF(K130=\"C\",[1]苏州工业园区工业企业技术改造经济效益表!AJ130*[1]奖补比例!$D$3+N130*[1]奖补比例!$D$5,[1]苏州工业园区工业企业技术改造经济效益表!AJ130*[1]奖补比例!$E$3+N130*[1]奖补比例!$E$5)))*[1]奖补比例!$G$2)","v":{"v":193.008020508,"d":"193.01"}},0,0,0,{"$f":"[1]【扣减】人工智能奖补!F129","v":0},0,{"$f":"[1]【扣减】投促委!F129","v":0},{"v":193.008020508,"d":"193.01"},193.01,{"v":0.0796218,"d":"7.96%"},{"$f":"IF([1]项目纳统比对表!D130=\"否\",\"未纳统\",IF([1]项目纳统比对表!F130=\"否\",\"不足500万元\",\"\"))","v":""},null,193.01]
[128,{"$f":"[1]苏州工业园区工业企业技术改造经济效益表!B131","v":"星崎电机（苏州）有限公司"},{"$f":"[1]苏州工业园区工业企业技术改造经济效益表!C131","v":"91320594783360204F"},{"$f":"[1]经济效益!N131","v":{"v":23.7281290005217,"d":"23.73"}},{"$f":"[1]智能化效益!R131","v":{"v":89.9504,"d":"89.95"}},{"$f":"IF([1]综合素质认定!O131>10,10,[1]综合素质认定!O131)","v":1},0,0,0,{"v":35.5997703003652,"d":"35.60"},{"$f":"IF(J131<[1]奖补比例!$D$2,\"D\",IF(J131<[1]奖补比例!$C$2,\"C\",IF(J131<[1]奖补比例!$B$2,\"B\",\"A\")))","v":"D"},{"$f":"[1]苏州工业园区工业企业技术改造经济效益表!AJ131","v":{"v":1e-6,"d":"0"}},{"$f":"[1]苏州工业园区工业企业技术改造经济效益表!AM131","v":0},{"$f":"IF([1]苏州工业园区工业企业技术改造经济效益表!AN131>=0.7,[1]苏州工业园区工业企业技术改造经济效益表!AM131,0)","v":0},{"$f":"IF(IF(K131=\"A\",[1]苏州工业园区工业企业技术改造经济效益表!AJ131*[1]奖补比例!$B$3+N131*[1]奖补比例!$B$5,IF(K131=\"B\",[1]苏州工业园区工业企业技术改造经济效益表!AJ131*[1]奖补比例!$C$3+N131*[1]奖补比例!$C$5,IF(K131=\"C\",[1]苏州工业园区工业企业技术改造经济效益表!AJ131*[1]奖补比例!$D$3+N131*[1]奖补比例!$D$5,[1]苏州工业园区工业企业技术改造经济效益表!AJ131*[1]奖补比例!$E$3+N131*[1]奖补比例!$E$5)))*[1]奖补比例!$G$2>1000,1000,IF(K131=\"A\",[1]苏州工业园区工业企业技术改造经济效益表!AJ131*[1]奖补比例!$B$3+N131*[1]奖补比例!$B$5,IF(K131=\"B\",[1]苏州工业园区工业企业技术改造经济效益表!AJ131*[1]奖补比例!$C$3+N131*[1]奖补比例!$C$5,IF(K131=\"C\",[1]苏州工业园区工业企业技术改造经济效益表!AJ131*[1]奖补比例!$D$3+N131*[1]奖补比例!$D$5,[1]苏州工业园区工业企业技术改造经济效益表!AJ131*[1]奖补比例!$E$3+N131*[1]奖补比例!$E$5)))*[1]奖补比例!$G$2)","v":{"v":2.388654e-8,"d":"0"}},0,0,0,{"$f":"[1]【扣减】人工智能奖补!F130","v":0},0,{"$f":"[1]【扣减】投促委!F130","v":0},0,{"v":0,"d":"0.00"},{"v":0,"d":"0.00%"},{"$f":"IF([1]项目纳统比对表!D131=\"否\",\"未纳统\",IF([1]项目纳统比对表!F131=\"否\",\"不足500万元\",\"\"))","v":"未纳统"},"未通过",{"v":0,"d":"0.00"}]
[129,{"$f":"[1]苏州工业园区工业企业技术改造经济效益表!B132","v":"扬昕科技（苏州）有限公司"},{"$f":"[1]苏州工业园区工业企业技术改造经济效益表!C132","v":"913205947589579819"},{"$f":"[1]经济效益!N132","v":{"v":60.5704268379452,"d":"60.57"}},{"$f":"[1]智能化效益!R132","v":93.86},{"$f":"IF([1]综合素质认定!O132>10,10,[1]综合素质认定!O132)","v":1},0,0,0,{"$f":"D132*$D$3+E132*$E$3+F132-G132-H132-I132","v":{"v":62.1712987865616,"d":"62.17"}},{"$f":"IF(J132<[1]奖补比例!$D$2,\"D\",IF(J132<[1]奖补比例!$C$2,\"C\",IF(J132<[1]奖补比例!$B$2,\"B\",\"A\")))","v":"B"},{"$f":"[1]苏州工业园区工业企业技术改造经济效益表!AJ132","v":1008.77},{"$f":"[1]苏州工业园区工业企业技术改造经济效益表!AM132","v":{"v":56.5,"d":"56.50"}},{"$f":"IF([1]苏州工业园区工业企业技术改造经济效益表!AN132>=0.7,[1]苏州工业园区工业企业技术改造经济效益表!AM132,0)","v":0},{"$f":"IF(IF(K132=\"A\",[1]苏州工业园区工业企业技术改造经济效益表!AJ132*[1]奖补比例!$B$3+N132*[1]奖补比例!$B$5,IF(K132=\"B\",[1]苏州工业园区工业企业技术改造经济效益表!AJ132*[1]奖补比例!$C$3+N132*[1]奖补比例!$C$5,IF(K132=\"C\",[1]苏州工业园区工业企业技术改造经济效益表!AJ132*[1]奖补比例!$D$3+N132*[1]奖补比例!$D$5,[1]苏州工业园区工业企业技术改造经济效益表!AJ132*[1]奖补比例!$E$3+N132*[1]奖补比例!$E$5)))*[1]奖补比例!$G$2>1000,1000,IF(K132=\"A\",[1]苏州工业园区工业企业技术改造经济效益表!AJ132*[1]奖补比例!$B$3+N132*[1]奖补比例!$B$5,IF(K132=\"B\",[1]苏州工业园区工业企业技术改造经济效益表!AJ132*[1]奖补比例!$C$3+N132*[1]奖补比例!$C$5,IF(K132=\"C\",[1]苏州工业园区工业企业技术改造经济效益表!AJ132*[1]奖补比例!$D$3+N132*[1]奖补比例!$D$5,[1]苏州工业园区工业企业技术改造经济效益表!AJ132*[1]奖补比例!$E$3+N132*[1]奖补比例!$E$5)))*[1]奖补比例!$G$2)","v":{"v":64.2560665488,"d":"64.26"}},0,0,0,{"$f":"[1]【扣减】人工智能奖补!F131","v":0},0,{"$f":"[1]【扣减】投促委!F131","v":0},{"v":64.2560665488,"d":"64.26"},{"$f":"ROUND(V132,2)","v":64.26},{"$f":"O132/L132","v":{"v":0.06369744,"d":"6.37%"}},{"$f":"IF([1]项目纳统比对表!D132=\"否\",\"未纳统\",IF([1]项目纳统比对表!F132=\"否\",\"不足500万元\",\"\"))","v":""},null,64.26]
[130,{"$f":"[1]苏州工业园区工业企业技术改造经济效益表!B133","v":"伊顿电气有限公司"},{"$f":"[1]苏州工业园区工业企业技术改造经济效益表!C133","v":"91320594608238244N"},{"$f":"[1]经济效益!N133","v":{"v":63.0012487670902,"d":"63.00"}},{"$f":"[1]智能化效益!R133","v":{"v":89.2995,"d":"89.30"}},{"$f":"IF([1]综合素质认定!O133>10,10,[1]综合素质认定!O133)","v":1},0,0,0,{"v":62.9607741369631,"d":"62.96"},{"$f":"IF(J133<[1]奖补比例!$D$2,\"D\",IF(J133<[1]奖补比例!$C$2,\"C\",IF(J133<[1]奖补比例!$B$2,\"B\",\"A\")))","v":"B"},{"$f":"[1]苏州工业园区工业企业技术改造经济效益表!AJ133","v":1305.03},{"$f":"[1]苏州工业园区工业企业技术改造经济效益表!AM133","v":219.87},{"$f":"IF([1]苏州工业园区工业企业技术改造经济效益表!AN133>=0.7,[1]苏州工业园区工业企业技术改造经济效益表!AM133,0)","v":0},{"$f":"IF(IF(K133=\"A\",[1]苏州工业园区工业企业技术改造经济效益表!AJ133*[1]奖补比例!$B$3+N133*[1]奖补比例!$B$5,IF(K133=\"B\",[1]苏州工业园区工业企业技术改造经济效益表!AJ133*[1]奖补比例!$C$3+N133*[1]奖补比例!$C$5,IF(K133=\"C\",[1]苏州工业园区工业企业技术改造经济效益表!AJ133*[1]奖补比例!$D$3+N133*[1]奖补比例!$D$5,[1]苏州工业园区工业企业技术改造经济效益表!AJ133*[1]奖补比例!$E$3+N133*[1]奖补比例!$E$5)))*[1]奖补比例!$G$2>1000,1000,IF(K133=\"A\",[1]苏州工业园区工业企业技术改造经济效益表!AJ133*[1]奖补比例!$B$3+N133*[1]奖补比例!$B$5,IF(K133=\"B\",[1]苏州工业园区工业企业技术改造经济效益表!AJ133*[1]奖补比例!$C$3+N133*[1]奖补比例!$C$5,IF(K133=\"C\",[1]苏州工业园区工业企业技术改造经济效益表!AJ133*[1]奖补比例!$D$3+N133*[1]奖补比例!$D$5,[1]苏州工业园区工业企业技术改造经济效益表!AJ133*[1]奖补比例!$E$3+N133*[1]奖补比例!$E$5)))*[1]奖补比例!$G$2)","v":{"v":83.1270701232,"d":"83.13"}},0,0,0,{"$f":"[1]【扣减】人工智能奖补!F132","v":0},0,{"$f":"[1]【扣减】投促委!F132","v":0},{"v":83.1270701232,"d":"83.13"},83.13,{"v":0.06369744,"d":"6.37%"},{"$f":"IF([1]项目纳统比对表!D133=\"否\",\"未纳统\",IF([1]项目纳统比对表!F133=\"否\",\"不足500万元\",\"\"))","v":""},null,83.13]
[131,{"$f":"[1]苏州工业园区工业企业技术改造经济效益表!B134","v":"伊利苏州乳业有限责任公司"},{"$f":"[1]苏州工业园区工业企业技术改造经济效益表!C134","v":"913205947802655190"},{"$f":"[1]经济效益!N134","v":66},{"$f":"[1]智能化效益!R134","v":94.18},{"$f":"IF([1]综合素质认定!O134>10,10,[1]综合素质认定!O134)","v":5},0,0,0,{"v":70.036,"d":"70.04"},{"$f":"IF(J134<[1]奖补比例!$D$2,\"D\",IF(J134<[1]奖补比例!$C$2,\"C\",IF(J134<[1]奖补比例!$B$2,\"B\",\"A\")))","v":"B"},{"$f":"[1]苏州工业园区工业企业技术改造经济效益表!AJ134","v":3990.6349999809},{"$f":"[1]苏州工业园区工业企业技术改造经济效益表!AM134","v":0},{"$f":"IF([1]苏州工业园区工业企业技术改造经济效益表!AN134>=0.7,[1]苏州工业园区工业企业技术改造经济效益表!AM134,0)","v":0},{"$f":"IF(IF(K134=\"A\",[1]苏州工业园区工业企业技术改造经济效益表!AJ134*[1]奖补比例!$B$3+N134*[1]奖补比例!$B$5,IF(K134=\"B\",[1]苏州工业园区工业企业技术改造经济效益表!AJ134*[1]奖补比例!$C$3+N134*[1]奖补比例!$C$5,IF(K134=\"C\",[1]苏州工业园区工业企业技术改造经济效益表!AJ134*[1]奖补比例!$D$3+N134*[1]奖补比例!$D$5,[1]苏州工业园区工业企业技术改造经济效益表!AJ134*[1]奖补比例!$E$3+N134*[1]奖补比例!$E$5)))*[1]奖补比例!$G$2>1000,1000,IF(K134=\"A\",[1]苏州工业园区工业企业技术改造经济效益表!AJ134*[1]奖补比例!$B$3+N134*[1]奖补比例!$B$5,IF(K134=\"B\",[1]苏州工业园区工业企业技术改造经济效益表!AJ134*[1]奖补比例!$C$3+N134*[1]奖补比例!$C$5,IF(K134=\"C\",[1]苏州工业园区工业企业技术改造经济效益表!AJ134*[1]奖补比例!$D$3+N134*[1]奖补比例!$D$5,[1]苏州工业园区工业企业技术改造经济效益表!AJ134*[1]奖补比例!$E$3+N134*[1]奖补比例!$E$5)))*[1]奖补比例!$G$2)","v":{"v":254.193233473183,"d":"254.19"}},{"$f":"VLOOKUP(B134,[1]【扣减】省技改综合奖补!$C$2:$E$59,3,0)/10000","v":21},0,0,{"$f":"[1]【扣减】人工智能奖补!F133","v":0},0,{"$f":"[1]【扣减】投促委!F133","v":0},{"v":233.193233473183,"d":"233.19"},233.19,{"v":0.06369744,"d":"6.37%"},{"$f":"IF([1]项目纳统比对表!D134=\"否\",\"未纳统\",IF([1]项目纳统比对表!F134=\"否\",\"不足500万元\",\"\"))","v":""},null,233.19]
[132,{"$f":"[1]苏州工业园区工业企业技术改造经济效益表!B135","v":"英特诺物流机械（苏州）有限公司"},{"$f":"[1]苏州工业园区工业企业技术改造经济效益表!C135","v":"91320594738299707F"},{"$f":"[1]经济效益!N135","v":{"v":49.4178586951426,"d":"49.42"}},{"$f":"[1]智能化效益!R135","v":67.65},{"$f":"IF([1]综合素质认定!O135>10,10,[1]综合素质认定!O135)","v":0},0,0,0,{"v":48.1225010865998,"d":"48.12"},{"$f":"IF(J135<[1]奖补比例!$D$2,\"D\",IF(J135<[1]奖补比例!$C$2,\"C\",IF(J135<[1]奖补比例!$B$2,\"B\",\"A\")))","v":"D"},{"$f":"[1]苏州工业园区工业企业技术改造经济效益表!AJ135","v":1148.16},{"$f":"[1]苏州工业园区工业企业技术改造经济效益表!AM135","v":0.94},{"$f":"IF([1]苏州工业园区工业企业技术改造经济效益表!AN135>=0.7,[1]苏州工业园区工业企业技术改造经济效益表!AM135,0)","v":0},{"$f":"IF(IF(K135=\"A\",[1]苏州工业园区工业企业技术改造经济效益表!AJ135*[1]奖补比例!$B$3+N135*[1]奖补比例!$B$5,IF(K135=\"B\",[1]苏州工业园区工业企业技术改造经济效益表!AJ135*[1]奖补比例!$C$3+N135*[1]奖补比例!$C$5,IF(K135=\"C\",[1]苏州工业园区工业企业技术改造经济效益表!AJ135*[1]奖补比例!$D$3+N135*[1]奖补比例!$D$5,[1]苏州工业园区工业企业技术改造经济效益表!AJ135*[1]奖补比例!$E$3+N135*[1]奖补比例!$E$5)))*[1]奖补比例!$G$2>1000,1000,IF(K135=\"A\",[1]苏州工业园区工业企业技术改造经济效益表!AJ135*[1]奖补比例!$B$3+N135*[1]奖补比例!$B$5,IF(K135=\"B\",[1]苏州工业园区工业企业技术改造经济效益表!AJ135*[1]奖补比例!$C$3+N135*[1]奖补比例!$C$5,IF(K135=\"C\",[1]苏州工业园区工业企业技术改造经济效益表!AJ135*[1]奖补比例!$D$3+N135*[1]奖补比例!$D$5,[1]苏州工业园区工业企业技术改造经济效益表!AJ135*[1]奖补比例!$E$3+N135*[1]奖补比例!$E$5)))*[1]奖补比例!$G$2)","v":{"v":27.4255697664,"d":"27.43"}},0,0,0,{"$f":"[1]【扣减】人工智能奖补!F134","v":0},0,{"$f":"[1]【扣减】投促委!F134","v":0},{"v":27.4255697664,"d":"27.43"},27.43,{"v":0.02388654,"d":"2.39%"},{"$f":"IF([1]项目纳统比对表!D135=\"否\",\"未纳统\",IF([1]项目纳统比对表!F135=\"否\",\"不足500万元\",\"\"))","v":"未纳统"},null,27.43]
[133,{"$f":"[1]苏州工业园区工业企业技术改造经济效益表!B136","v":"莹特丽科技（苏州工业园区）有限公司"},{"$f":"[1]苏州工业园区工业企业技术改造经济效益表!C136","v":"9132059477689665XQ"},{"$f":"[1]经济效益!N136","v":{"v":43.2390223531851,"d":"43.24"}},{"$f":"[1]智能化效益!R136","v":80},{"$f":"IF([1]综合素质认定!O136>10,10,[1]综合素质认定!O136)","v":0},0,0,0,{"v":46.2673156472296,"d":"46.27"},{"$f":"IF(J136<[1]奖补比例!$D$2,\"D\",IF(J136<[1]奖补比例!$C$2,\"C\",IF(J136<[1]奖补比例!$B$2,\"B\",\"A\")))","v":"D"},{"$f":"[1]苏州工业园区工业企业技术改造经济效益表!AJ136","v":650.15},{"$f":"[1]苏州工业园区工业企业技术改造经济效益表!AM136","v":592.27},{"$f":"IF([1]苏州工业园区工业企业技术改造经济效益表!AN136>=0.7,[1]苏州工业园区工业企业技术改造经济效益表!AM136,0)","v":592.27},{"$f":"IF(IF(K136=\"A\",[1]苏州工业园区工业企业技术改造经济效益表!AJ136*[1]奖补比例!$B$3+N136*[1]奖补比例!$B$5,IF(K136=\"B\",[1]苏州工业园区工业企业技术改造经济效益表!AJ136*[1]奖补比例!$C$3+N136*[1]奖补比例!$C$5,IF(K136=\"C\",[1]苏州工业园区工业企业技术改造经济效益表!AJ136*[1]奖补比例!$D$3+N136*[1]奖补比例!$D$5,[1]苏州工业园区工业企业技术改造经济效益表!AJ136*[1]奖补比例!$E$3+N136*[1]奖补比例!$E$5)))*[1]奖补比例!$G$2>1000,1000,IF(K136=\"A\",[1]苏州工业园区工业企业技术改造经济效益表!AJ136*[1]奖补比例!$B$3+N136*[1]奖补比例!$B$5,IF(K136=\"B\",[1]苏州工业园区工业企业技术改造经济效益表!AJ136*[1]奖补比例!$C$3+N136*[1]奖补比例!$C$5,IF(K136=\"C\",[1]苏州工业园区工业企业技术改造经济效益表!AJ136*[1]奖补比例!$D$3+N136*[1]奖补比例!$D$5,[1]苏州工业园区工业企业技术改造经济效益表!AJ136*[1]奖补比例!$E$3+N136*[1]奖补比例!$E$5)))*[1]奖补比例!$G$2)","v":{"v":24.9613546782,"d":"24.96"}},0,0,0,{"$f":"[1]【扣减】人工智能奖补!F135","v":0},0,{"$f":"[1]【扣减】投促委!F135","v":0},{"v":24.9613546782,"d":"24.96"},24.96,{"v":0.0383932241455049,"d":"3.84%"},{"$f":"IF([1]项目纳统比对表!D136=\"否\",\"未纳统\",IF([1]项目纳统比对表!F136=\"否\",\"不足500万元\",\"\"))","v":""},null,24.96]
[134,{"$f":"[1]苏州工业园区工业企业技术改造经济效益表!B137","v":"友达光电（苏州）有限公司"},{"$f":"[1]苏州工业园区工业企业技术改造经济效益表!C137","v":"91320594728739895L"},{"$f":"[1]经济效益!N137","v":{"v":75.133126296298,"d":"75.13"}},{"$f":"[1]智能化效益!R137","v":90},{"$f":"IF([1]综合素质认定!O137>10,10,[1]综合素质认定!O137)","v":10},0,0,0,{"v":80.5931884074086,"d":"80.59"},{"$f":"IF(J137<[1]奖补比例!$D$2,\"D\",IF(J137<[1]奖补比例!$C$2,\"C\",IF(J137<[1]奖补比例!$B$2,\"B\",\"A\")))","v":"A"},{"$f":"[1]苏州工业园区工业企业技术改造经济效益表!AJ137","v":13963.14},{"$f":"[1]苏州工业园区工业企业技术改造经济效益表!AM137","v":{"v":2566.3,"d":"2566.30"}},{"$f":"IF([1]苏州工业园区工业企业技术改造经济效益表!AN137>=0.7,[1]苏州工业园区工业企业技术改造经济效益表!AM137,0)","v":0},{"$f":"IF(IF(K137=\"A\",[1]苏州工业园区工业企业技术改造经济效益表!AJ137*[1]奖补比例!$B$3+N137*[1]奖补比例!$B$5,IF(K137=\"B\",[1]苏州工业园区工业企业技术改造经济效益表!AJ137*[1]奖补比例!$C$3+N137*[1]奖补比例!$C$5,IF(K137=\"C\",[1]苏州工业园区工业企业技术改造经济效益表!AJ137*[1]奖补比例!$D$3+N137*[1]奖补比例!$D$5,[1]苏州工业园区工业企业技术改造经济效益表!AJ137*[1]奖补比例!$E$3+N137*[1]奖补比例!$E$5)))*[1]奖补比例!$G$2>1000,1000,IF(K137=\"A\",[1]苏州工业园区工业企业技术改造经济效益表!AJ137*[1]奖补比例!$B$3+N137*[1]奖补比例!$B$5,IF(K137=\"B\",[1]苏州工业园区工业企业技术改造经济效益表!AJ137*[1]奖补比例!$C$3+N137*[1]奖补比例!$C$5,IF(K137=\"C\",[1]苏州工业园区工业企业技术改造经济效益表!AJ137*[1]奖补比例!$D$3+N137*[1]奖补比例!$D$5,[1]苏州工业园区工业企业技术改造经济效益表!AJ137*[1]奖补比例!$E$3+N137*[1]奖补比例!$E$5)))*[1]奖补比例!$G$2)","v":1000},{"$f":"VLOOKUP(B137,[1]【扣减】省技改综合奖补!$C$2:$E$59,3,0)/10000","v":227},0,{"$f":"VLOOKUP(B137,[1]【扣减】节能改造项目奖补!$B$2:$C$23,2,0)","v":60},{"$f":"[1]【扣减】人工智能奖补!F136","v":211.4},0,{"$f":"[1]【扣减】投促委!F136","v":0},{"v":501.6,"d":"501.60"},{"v":501.6,"d":"501.60"},{"v":0.0716171290984693,"d":"7.16%"},{"$f":"IF([1]项目纳统比对表!D137=\"否\",\"未纳统\",IF([1]项目纳统比对表!F137=\"否\",\"不足500万元\",\"\"))","v":"不足500万元"},null,{"v":501.6,"d":"501.60"}]
[135,{"$f":"[1]苏州工业园区工业企业技术改造经济效益表!B138","v":"卓越（苏州）自动化设备有限公司"},{"$f":"[1]苏州工业园区工业企业技术改造经济效益表!C138","v":"91320594746240086T"},{"$f":"[1]经济效益!N138","v":{"v":24.8557221719218,"d":"24.86"}},{"$f":"[1]智能化效益!R138","v":90},{"$f":"IF([1]综合素质认定!O138>10,10,[1]综合素质认定!O138)","v":1},0,0,0,{"v":36.3990055203453,"d":"36.40"},{"$f":"IF(J138<[1]奖补比例!$D$2,\"D\",IF(J138<[1]奖补比例!$C$2,\"C\",IF(J138<[1]奖补比例!$B$2,\"B\",\"A\")))","v":"D"},{"$f":"[1]苏州工业园区工业企业技术改造经济效益表!AJ138","v":136.6},{"$f":"[1]苏州工业园区工业企业技术改造经济效益表!AM138","v":48.94},{"$f":"IF([1]苏州工业园区工业企业技术改造经济效益表!AN138>=0.7,[1]苏州工业园区工业企业技术改造经济效益表!AM138,0)","v":0},{"$f":"IF(IF(K138=\"A\",[1]苏州工业园区工业企业技术改造经济效益表!AJ138*[1]奖补比例!$B$3+N138*[1]奖补比例!$B$5,IF(K138=\"B\",[1]苏州工业园区工业企业技术改造经济效益表!AJ138*[1]奖补比例!$C$3+N138*[1]奖补比例!$C$5,IF(K138=\"C\",[1]苏州工业园区工业企业技术改造经济效益表!AJ138*[1]奖补比例!$D$3+N138*[1]奖补比例!$D$5,[1]苏州工业园区工业企业技术改造经济效益表!AJ138*[1]奖补比例!$E$3+N138*[1]奖补比例!$E$5)))*[1]奖补比例!$G$2>1000,1000,IF(K138=\"A\",[1]苏州工业园区工业企业技术改造经济效益表!AJ138*[1]奖补比例!$B$3+N138*[1]奖补比例!$B$5,IF(K138=\"B\",[1]苏州工业园区工业企业技术改造经济效益表!AJ138*[1]奖补比例!$C$3+N138*[1]奖补比例!$C$5,IF(K138=\"C\",[1]苏州工业园区工业企业技术改造经济效益表!AJ138*[1]奖补比例!$D$3+N138*[1]奖补比例!$D$5,[1]苏州工业园区工业企业技术改造经济效益表!AJ138*[1]奖补比例!$E$3+N138*[1]奖补比例!$E$5)))*[1]奖补比例!$G$2)","v":{"v":3.262901364,"d":"3.26"}},0,0,0,{"$f":"[1]【扣减】人工智能奖补!F137","v":0},0,{"$f":"[1]【扣减】投促委!F137","v":0},{"v":3.262901364,"d":"3.26"},3.26,{"v":0.02388654,"d":"2.39%"},{"$f":"IF([1]项目纳统比对表!D138=\"否\",\"未纳统\",IF([1]项目纳统比对表!F138=\"否\",\"不足500万元\",\"\"))","v":"未纳统"},null,3.26]

{"sheet":"奖补企业清单","index":1,"n_rows":134,"n_cols":5,"rows_kept":134,"merged":[[0,0,0,4],[3,0,16,0],[17,0,84,0],[85,0,113,0],[114,0,133,0],[134,0,134,2]]}
["2021年苏州工业园区产业转型升级（技术改造）专项资金奖补企业清单\n（项目实施期为2019年度）"]
[]
["奖补类别","序号","企业名称","奖补金额（万元）","备注"]
["技改卓越奖",1,"矽品科技（苏州）有限公司",{"v":923,"d":"923.00"}]
[null,2,"信达生物制药（苏州）有限公司",193.01]
[null,3,"苏州晶方半导体科技股份有限公司",276.98]
[null,4,"博世汽车部件（苏州）有限公司",{"v":0,"d":"0.00"},"扣除重复补贴后奖补金额为0"]
[null,5,"伟创力电子技术（苏州）有限公司",104.47]
[null,6,"苏州旭创科技有限公司",{"v":986,"d":"986.00"}]
[null,7,"京隆科技（苏州）有限公司",{"v":817,"d":"817.00"}]
[null,8,"苏州盛迪亚生物医药有限公司",747.42]
[null,9,"基美电子（苏州）有限公司",428.99]
[null,10,"苏州紫翔电子科技有限公司",{"v":948,"d":"948.00"}]
[null,11,"嘉盛半导体（苏州）有限公司",{"v":944,"d":"944.00"}]
[null,12,"苏州通富超威半导体有限公司",{"v":0,"d":"0.00"},"扣除重复补贴后奖补金额为0"]
[null,13,"友达光电（苏州）有限公司",{"v":501.6,"d":"501.60"}]
[null,14,"米巴精密零部件（中国）有限公司",{"v":589.9,"d":"589.90"}]
["技改贡献奖",15,"安特（苏州）精密机械有限公司",68.12]
[null,16,"胜科纳米（苏州）股份有限公司",111.66]
[null,17,"苏州工业园区蓝天燃气热电有限公司",{"v":79.8,"d":"79.80"}]
[null,18,"百得（苏州）科技有限公司",218.73]
[null,19,"苏州微创关节医疗科技有限公司",108.87]
[null,20,"颀中科技（苏州）有限公司",{"v":832,"d":"832.00"}]
[null,21,"安拓锐高新测试技术（苏州）有限公司",61.37]
[null,22,"苏州一光仪器有限公司",36.62]
[null,23,"皆可博（苏州）车辆控制系统有限公司",88.58]
[null,24,"广濑电机（苏州）有限公司",86.88]
[null,25,"苏州立昂新材料有限公司",43.49]
[null,26,"苏州兴胜科半导体材料有限公司",65.84]
[null,27,"摩登纳（中国）自动化设备有限公司",392.29]
[null,28,"苏州群策科技有限公司",{"v":500,"d":"500.00"}]
[null,29,"宏利科技（苏州）有限公司",76.17]
[null,30,"旺矽科技（苏州）有限公司",49.77]
[null,31,"苏州吉恒纳米科技有限公司",59.97]
[null,32,"乐家洁具（苏州）有限公司",33.58]
[null,33,"苏州阿诺精密切削技术有限公司",94.79]
[null,34,"苏州东辉光学有限公司",61.23]
[null,35,"石通瑞吉亚太电子（苏州）有限公司",196.78]
[null,36,"苏州震坤科技有限公司",71.15]
[null,37,"苏州恩都法汽车系统有限公司",34.78]
[null,38,"苏州日月新半导体有限公司",{"v":894,"d":"894.00"}]
[null,39,"赛卡电子科技（苏州）有限公司",38.26]
[null,40,"伊利苏州乳业有限责任公司",233.19]
[null,41,"威特立创能科技（苏州）有限公司",65.61]
[null,42,"太极半导体（苏州）有限公司",101.04]
[null,43,"日立安斯泰莫汽车系统(苏州)有限公司",191.21]
[null,44,"苏州新锐合金工具股份有限公司",61.46]
[null,45,"绿点（苏州）科技有限公司",299.47]
[null,46,"耐世特汽车系统（苏州）有限公司",{"v":0,"d":"0.00"},"扣除重复补贴后奖补金额为0"]
[null,47,"苏州益而益电器制造有限公司",{"v":69.9,"d":"69.90"}]
[null,48,"百得（苏州）精密制造有限公司",32.62]
[null,49,"苏州工业园区久泰精密电子有限公司",{"v":229.4,"d":"229.40"}]
[null,50,"三积瑞科技（苏州）有限公司",73.68]
[null,51,"博瑞制药(苏州)有限公司",49.52]
[null,52,"大同精密金属（苏州）有限公司",144.06]
[null,53,"苏州恒瑞宏远医疗科技有限公司",{"v":0,"d":"0.00"},"扣除重复补贴后奖补金额为0"]
[null,54,"苏州千机智能技术有限公司",114.55]
[null,55,"苏州德斯倍电子有限公司",113.84]
[null,56,"安波福电子（苏州）有限公司",10.73]
[null,57,"丝艾产品标识（苏州）有限公司",82.54]
[null,58,"苏州诺菲纳米科技有限公司",{"v":33.4,"d":"33.40"}]
[null,59,"大金机电设备（苏州）有限公司",{"v":59.9,"d":"59.90"}]
[null,60,"SEW-电机(苏州)有限公司",{"v":0,"d":"0.00"},"扣除重复补贴后奖补金额为0"]
[null,61,"欧瑞康巴尔查斯涂层（苏州）有限公司",127.88]
[null,62,"苏州苏试广博环境可靠性实验室有限公司",222.19]
[null,63,"欧文斯科宁金属技术（苏州）有限公司",89.82]
[null,64,"三星电子（苏州）半导体有限公司",516.08]
[null,65,"久保田农业机械（苏州）有限公司",55.39]
[null,66,"苏州工业园区星德胜电机有限公司",100.05]
[null,67,"大金制冷（苏州）有限公司",38.83]
[null,68,"伊顿电气有限公司",83.13]
[null,69,"苏州华兴源创科技股份有限公司",34.72]
[null,70,"苏州卡利肯新光讯科技有限公司",{"v":0,"d":"0.00"},"扣除重复补贴后奖补金额为0"]
[null,71,"康德瑞恩电磁科技（中国）有限公司",3.17]
[null,72,"维斯克凡科技（苏州）有限公司",{"v":38.6,"d":"38.60"}]
[null,73,"苏州晶湛半导体有限公司",150.42]
[null,74,"扬昕科技（苏州）有限公司",64.26]
[null,75,"力成科技（苏州）有限公司",172.75]
[null,76,"特思通管路技术（苏州）有限公司",37.25]
[null,77,"康美包（苏州）有限公司",{"v":0,"d":"0.00"},"扣除重复补贴后奖补金额为0"]
[null,78,"苏州阿诺医疗器械有限公司",39.01]
[null,79,"苏州星诺奇科技股份有限公司",68.18]
[null,80,"苏州华星光电显示有限公司",711.81]
[null,81,"苏州UL美华认证有限公司",{"v":0,"d":"0.00"},"扣除重复补贴后奖补金额为0"]
[null,82,"青山汽车紧固件（苏州）有限公司",246.17]
["技改提升奖",83,"苏州微创脊柱创伤医疗科技有限公司",20.38]
[null,84,"百得（苏州）电动工具有限公司",{"v":60.7,"d":"60.70"}]
[null,85,"苏州碧迪医疗器械有限公司",{"v":0,"d":"0.00"},"扣除重复补贴后奖补金额为0"]
[null,86,"乔治费歇尔金属成型科技（苏州）有限公司",{"v":0,"d":"0.00"},"扣除重复补贴后奖补金额为0"]
[null,87,"快捷半导体（苏州）有限公司",343.94]
[null,88,"恩德斯豪斯流量仪表技术（中国）有限公司",33.64]
[null,89,"苏州浦项科技有限公司",76.33]
[null,90,"艾利（苏州）有限公司",28.06]
[null,91,"爱发科电子材料（苏州）有限公司",29.68]
[null,92,"赛峰飞机发动机（苏州）有限公司",175.22]
[null,93,"杰纬特科技(苏州)有限公司",53.38]
[null,94,"佰电科技（苏州）有限公司",35.01]
[null,95,"宝时得科技（中国）有限公司",22.42]
[null,96,"苏州新凯紧固系统有限公司",54.06]
[null,97,"艾默生环境优化技术（苏州）有限公司",109.63]
[null,98,"库力索法半导体（苏州）有限公司",37.85]
[null,99,"苏州华星光电技术有限公司",258.13]
[null,100,"苏州市利来星辰塑业科技有限公司",33.62]
[null,101,"豪梅特航空机件(苏州)有限公司",199.55]
[null,102,"牧东光电科技有限公司",245.74]
[null,103,"德莎（苏州）胶带技术有限公司",177.88]
[null,104,"飞比达电子元器件（苏州）有限公司",{"v":23.4,"d":"23.40"}]
[null,105,"苏州林华医疗器械股份有限公司",{"v":0,"d":"0.00"},"扣除重复补贴后奖补金额为0"]
[null,106,"苏州富莱克精密工具有限公司",21.97]
[null,107,"世达普（苏州）通信设备有限公司",80.54]
[null,108,"贝朗医疗（苏州）有限公司",86.95]
[null,109,"江天精密制造科技（苏州）有限公司",{"v":0,"d":"0.00"},"扣除重复补贴后奖补金额为0"]
[null,110,"苏州春兴精工股份有限公司",26.42]
[null,111,"大金空调（苏州）有限公司",63.22]
["技改鼓励奖",112,"舒尔电子（苏州）有限公司",19.13]
[null,113,"高德（苏州）电子有限公司",18.18]
[null,114,"格里森齿轮科技（苏州）有限责任公司",35.65]
[null,115,"帕玛斯韦奇航空部件（苏州）有限公司",30.03]
[null,116,"赛峰起落架系统（苏州）有限公司",20.82]
[null,117,"普美航空制造（苏州）有限公司",12.53]
[null,118,"英特诺物流机械（苏州）有限公司",27.43]
[null,119,"万通（苏州）定量阀系统有限公司",29.34]
[null,120,"博思格钢铁（苏州）有限公司",{"v":0,"d":"0.00"},"扣除重复补贴后奖补金额为0"]
[null,121,"卫材（中国）药业有限公司",{"v":0,"d":"0.00"},"扣除重复补贴后奖补金额为0"]
[null,122,"横河电机（苏州）有限公司",16.54]
[null,123,"沛嘉医疗科技（苏州）有限公司",17.55]
[null,124,"莹特丽科技（苏州工业园区）有限公司",24.96]
[null,125,"日立仪器（苏州）有限公司",{"v":14.3,"d":"14.30"}]
[null,126,"参天制药（中国）有限公司",56.63]
[null,127,"大同电工(苏州)有限公司",24.61]
[null,128,"苏州亦崴电子科技有限公司",43.27]
[null,129,"卓越（苏州）自动化设备有限公司",3.26]
[null,130,"儒拉玛特自动化技术（苏州）有限公司",5.01]
[null,131,"斯凯菲尔电子（苏州）有限公司",11.11]